{"text_format":"3","workbook":"xlsx","n_sheets":11,"sheets":["生データ","分析データ一覧","分析データ一覧元","集団レポート元","素点換算","マスタ","集団レポート","80項目＋データ","80項目計算","項目表","重点改善項目"],"not_rendered":{"charts":22,"images":3,"macros":1,"external_links":1,"defined_names":8},"read":"whole","date_system":"1900"}

{"sheet":"生データ","index":0,"n_rows":12,"n_cols":115,"rows_kept":12,"merged":[[1,3,1,5],[1,6,1,8],[2,3,2,5],[2,6,2,8],[3,3,3,5],[3,6,3,8],[4,3,4,5],[4,6,4,8],[5,3,5,5],[5,6,5,8]]}
[]
[{"$nulls":3},"外航船 / 内航船",null,null,"内航船"]
[{"$nulls":3},"レポート作成日",null,null,"2020-04-22"]
[{"$nulls":3},"実施開始日",null,null,"2020-02-01"]
[{"$nulls":3},"実施終了日",null,null,"2020-02-20"]
[{"$nulls":3},"集団名",null,null,"株式会社○○商船"]
[]
[null,null,"入力したデータの数",{"$f":"COUNTA(A:A)-2","v":0},"件",{"$f":"IF(LOOKUP(1,0/(A10:A8547<>\"\"),ROW(1:8547))-3=D8,\"○通し番号の記入に問題がありません。\",\"※通し番号の入力漏れがあります！！\")","v":"○通し番号の記入に問題がありません。"}]
[]
[{"$nulls":15},"9.乗船中のあなたの仕事について",{"$nulls":16},"10.乗船中の最近1か月間のあなたの状態について",{"$nulls":28},"11.乗船中のあなたの周りの方々について",{"$nulls":8},"12.乗船中の満足度について",null,"13.乗船中のあなた自身のお仕事について",{"$nulls":3},"14.乗船中のあなたが働いている職場について",{"$nulls":6},"15.あなたの働いている会社や組織について",{"$nulls":7},"16.乗船中のあなたの仕事の状況や成果について",{"$nulls":3},"17.あなたの仕事について（外航船の方）",{"$nulls":9},"17.あなたの仕事について（内航船の方）"]
["通し番号","部署","氏名","職員番号","1.外航船員/内航船員","2.職名","2.職名/その他","3.性別","4.年代","5.船員になってからの年数","6.乗船中/陸上勤務","6.直近の乗船(何ヶ月前)","7.乗組員数","8.船種","8.船種/その他","9-1","9-2","9-3","9-4","9-5","9-6","9-7","9-8","9-9","9-10","9-11","9-12","9-13","9-14","9-15","9-16","9-17","10-1","10-2","10-3","10-4","10-5","10-6","10-7","10-8","10-9","10-10","10-11","10-12","10-13","10-14","10-15","10-16","10-17","10-18","10-19","10-20","10-21","10-22","10-23","10-24","10-25","10-26","10-27","10-28","10-29","11-1","11-2","11-3","11-4","11-5","11-6","11-7","11-8","11-9","12-1","12-2","13-1","13-2","13-3","13-4","14-1","14-2","14-3","14-4","14-5","14-6","14-7","15-1","15-2","15-3","15-4","15-5","15-6","15-7","15-8","16-1","16-2","16-3","16-4","17外-1","17外-2","17外-3","17外-4","17外-5","17外-6","17外-7","17外-8","17外-9","17外-10","17内-1","17内-2","17内-3","17内-4","17内-5","17内-6","17内-7","17内-8","17内-9","17内-10"]
["※必須項目",{"$nulls":3},"選択肢の数字1～3を入力してください","選択肢の数字1～22を入力してください","自由記入欄","男性は1、女性は2を入力してください","選択肢の数字1～6を入力してください","選択肢の数字1～6を入力してください","選択肢の数字1～3を入力してください","自由記入欄","選択肢の数字1～7を入力してください","選択肢の数字1～13を入力してください","自由記入欄","選択肢の数字1～4を入力してください","選択肢の数字1～4を入力してください","選択肢の数字1～4を入力してください","選択肢の数字1～4を入力してください","選択肢の数字1～4を入力してください","選択肢の数字1～4を入力してください","選択肢の数字1～4を入力してください","選択肢の数字1～4を入力してください","選択肢の数字1～4を入力してください","選択肢の数字1～4を入力してください","選択肢の数字1～4を入力してください","選択肢の数字1～4を入力してください","選択肢の数字1～4を入力してください","選択肢の数字1～4を入力してください","選択肢の数字1～4を入力してください","選択肢の数字1～4を入力してください","選択肢の数字1～4を入力してください","選択肢の数字1～4を入力してください","選択肢の数字1～4を入力してください","選択肢の数字1～4を入力してください","選択肢の数字1～4を入力してください","選択肢の数字1～4を入力してください","選択肢の数字1～4を入力してください","選択肢の数字1～4を入力してください","選択肢の数字1～4を入力してください","選択肢の数字1～4を入力してください","選択肢の数字1～4を入力してください","選択肢の数字1～4を入力してください","選択肢の数字1～4を入力してください","選択肢の数字1～4を入力してください","選択肢の数字1～4を入力してください","選択肢の数字1～4を入力してください","選択肢の数字1～4を入力してください","選択肢の数字1～4を入力してください","選択肢の数字1～4を入力してください","選択肢の数字1～4を入力してください","選択肢の数字1～4を入力してください","選択肢の数字1～4を入力してください","選択肢の数字1～4を入力してください","選択肢の数字1～4を入力してください","選択肢の数字1～4を入力してください","選択肢の数字1～4を入力してください","選択肢の数字1～4を入力してください","選択肢の数字1～4を入力してください","選択肢の数字1～4を入力してください","選択肢の数字1～4を入力してください","選択肢の数字1～4を入力してください","選択肢の数字1～4を入力してください","選択肢の数字1～4を入力してください","選択肢の数字1～4を入力してください","選択肢の数字1～4を入力してください","選択肢の数字1～4を入力してください","選択肢の数字1～4を入力してください","選択肢の数字1～4を入力してください","選択肢の数字1～4を入力してください","選択肢の数字1～4を入力してください","選択肢の数字1～4を入力してください","選択肢の数字1～4を入力してください","選択肢の数字1～4を入力してください","選択肢の数字1～4を入力してください","選択肢の数字1～4を入力してください","選択肢の数字1～4を入力してください","選択肢の数字1～4を入力してください","選択肢の数字1～4を入力してください","選択肢の数字1～4を入力してください","選択肢の数字1～4を入力してください","選択肢の数字1～4を入力してください","選択肢の数字1～4を入力してください","選択肢の数字1～4を入力してください","選択肢の数字1～4を入力してください","選択肢の数字1～4を入力してください","選択肢の数字1～4を入力してください","選択肢の数字1～4を入力してください","選択肢の数字1～4を入力してください","選択肢の数字1～4を入力してください","選択肢の数字1～4を入力してください","選択肢の数字1～4を入力してください","選択肢の数字1～4を入力してください","選択肢の数字1～4を入力してください","選択肢の数字1～4を入力してください","選択肢の数字1～4を入力してください","選択肢の数字1～4を入力してください","選択肢の数字1～4を入力してください","選択肢の数字1～4を入力してください","選択肢の数字1～4を入力してください","選択肢の数字1～4を入力してください","選択肢の数字1～4を入力してください","選択肢の数字1～4を入力してください","選択肢の数字1～4を入力してください","選択肢の数字1～4を入力してください","選択肢の数字1～4を入力してください","選択肢の数字1～4を入力してください","選択肢の数字1～4を入力してください","選択肢の数字1～4を入力してください","選択肢の数字1～4を入力してください","選択肢の数字1～4を入力してください","選択肢の数字1～4を入力してください","選択肢の数字1～4を入力してください","選択肢の数字1～4を入力してください","選択肢の数字1～4を入力してください"]

{"sheet":"分析データ一覧","index":1,"n_rows":1,"n_cols":39,"rows_kept":1,"hidden":true}
["通し番号","部署","氏名","職員番号","1.外航船員/内航船員","2.職名","2.職名/その他","性別","4.年代","5.船員になってからの年数","6.乗船中/陸上勤務","6.直近の乗船(何ヶ月前)","7.乗組員数","8.船種","8.船種/その他","回答不備","高ストレス判定","心理的な仕事の負担（量）","心理的な仕事の負担（質）","自覚的な身体的負担度","職場の対人関係上のストレス","職場環境によるストレス","仕事の裁量度","技能の活用度","自覚的な仕事の適性度","働きがい","仕事のストレス要因( 9尺度)合計","活気","イライラ感","疲労感","不安感","抑うつ感","身体愁訴","心身のストレス反応( 6尺度)合計","上司からの支援度","同僚からの支援度","家族や友人からの支援度","周囲のサポート(3尺度)合計","仕事や生活の満足度"]

{"sheet":"分析データ一覧元","index":2,"n_rows":869,"n_cols":28,"rows_kept":869,"hidden":true}
["部署","氏名","職員番号","性別","回答不備","総合評価","心理的な仕事の負担（量）","心理的な仕事の負担（質）","自覚的な身体的負担度","職場の対人関係上のストレス","職場環境によるストレス","仕事の裁量度","技能の活用度","自覚的な仕事の適性度","働きがい","仕事のストレス要因( 9尺度)合計","活気","イライラ感","疲労感","不安感","抑うつ感","身体愁訴","心身のストレス反応( 6尺度)合計","上司からの支援度","同僚からの支援度","家族や友人からの支援度","周囲のサポート(3尺度)合計","仕事や生活の満足度"]
["にっぽん丸","日本 太郎",12345,"男","",null,3,4,3,3,4,4,3,3,3,30,3,3,2,1,2,2,13,2,3,2,7,3]
[{"$nulls":3},"男","",null,3,3,3,4,4,4,3,3,3,30,4,4,3,3,4,4,22,4,4,5,13,3]
[{"$nulls":3},"女","不備あり",null,3,2,4,3,2,4,4,3,3,28,3,3,5,3,5,4,23,3,4,5,12,4]
[{"$nulls":3},"女","",null,3,2,4,4,2,4,3,3,3,28,4,2,2,2,2,3,15,4,3,3,10,3]
[{"$nulls":3},"女","",null,3,4,4,4,5,5,2,5,5,37,5,3,3,4,3,5,23,4,4,5,13,4]
[{"$nulls":3},"男","",null,4,5,4,4,3,3,3,3,3,32,4,4,4,3,4,4,23,4,2,5,11,3]
[{"$nulls":3},"男","",null,3,2,4,3,4,3,3,5,5,32,5,5,2,1,4,2,19,3,2,4,9,4]
[{"$nulls":3},"男","",null,2,3,2,3,2,2,3,5,3,25,3,3,2,3,3,2,16,3,2,5,10,3]
[{"$nulls":3},"女","",null,3,3,4,3,3,3,3,3,3,28,2,3,4,5,4,4,22,3,2,2,7,3]
[{"$nulls":3},"男","",null,4,4,3,3,3,4,3,3,3,30,1,5,5,5,5,3,24,3,2,1,6,3]
[{"$nulls":3},"男","",null,2,1,1,4,3,4,4,5,5,29,4,4,3,3,4,5,23,3,5,5,13,5]
[{"$nulls":3},"男","",null,3,2,3,4,4,2,4,3,3,28,4,3,3,4,5,4,23,4,3,5,12,5]
[{"$nulls":3},"男","",null,3,3,3,4,4,4,4,3,3,31,4,4,3,4,5,4,24,4,4,5,13,3]
[{"$nulls":3},"男","",null,3,3,2,3,3,3,3,3,3,26,2,1,2,3,4,2,14,3,2,5,10,3]
[{"$nulls":3},"男","","高ストレス",4,3,2,1,2,4,1,2,1,20,3,1,1,3,2,2,12,3,1,3,7,2]
[{"$nulls":3},"男","",null,2,2,2,2,2,2,4,3,3,22,3,2,4,3,3,5,20,2,4,4,10,3]
[{"$nulls":3},"男","",null,3,4,4,4,3,3,3,2,2,28,4,4,4,5,3,4,24,2,2,4,8,3]
[{"$nulls":3},"男","",null,3,3,2,4,2,5,4,5,5,33,5,3,2,3,5,2,20,5,4,1,10,4]
[{"$nulls":3},"男","","高ストレス",2,2,3,2,4,2,2,3,2,22,2,3,3,2,1,3,14,1,1,1,3,1]
[{"$nulls":3},"男","",null,3,2,3,3,3,4,3,2,3,26,5,5,5,3,4,3,25,3,3,3,9,3]
[{"$nulls":3},"男","",null,3,3,3,4,3,4,4,5,3,32,1,3,3,3,4,3,17,3,3,5,11,3]
[{"$nulls":3},"男","",null,2,3,2,2,4,2,3,3,3,24,4,2,3,4,3,3,19,2,2,5,9,4]
[{"$nulls":3},"男","",null,2,3,3,3,4,4,3,3,5,30,2,3,2,2,2,4,15,5,2,5,12,3]
[{"$nulls":3},"男","",null,2,2,4,2,4,3,4,3,3,27,3,3,3,2,3,3,17,2,3,4,9,4]
[{"$nulls":3},"男","",null,4,4,3,3,3,4,3,3,3,30,3,5,3,3,4,4,22,3,3,5,11,4]
[{"$nulls":3},"男","",null,3,2,3,4,4,4,3,5,5,33,4,5,4,2,4,4,23,5,3,5,13,5]
[{"$nulls":3},"女","",null,4,3,3,2,3,4,3,3,3,28,3,3,3,3,3,3,18,4,2,5,11,3]
[{"$nulls":3},"男","",null,2,2,3,3,3,4,4,3,5,29,4,4,3,3,4,3,21,4,3,4,11,3]
[{"$nulls":3},"男","",null,2,2,4,2,3,3,3,3,3,25,3,4,3,3,4,3,20,2,2,1,5,3]
[{"$nulls":3},"男","",null,3,3,3,2,3,4,4,3,3,28,3,2,2,3,2,2,14,2,4,5,11,3]
[{"$nulls":3},"男","",null,3,4,4,3,3,3,3,3,3,29,3,3,3,3,3,3,18,3,2,1,6,3]
[{"$nulls":3},"男","",null,2,3,4,4,3,5,4,5,5,35,5,3,3,4,5,3,23,5,5,5,15,5]
[{"$nulls":3},"男","",null,2,2,3,2,4,3,4,3,3,26,3,1,3,3,4,2,16,1,3,4,8,3]
[{"$nulls":3},"男","",null,2,3,4,3,4,3,3,2,2,26,3,3,3,3,4,3,19,3,4,5,12,3]
[{"$nulls":3},"男","",null,2,3,3,3,4,3,3,3,2,26,3,3,2,3,3,4,18,3,2,2,7,3]
[{"$nulls":3},"女","",null,5,5,4,3,5,1,1,2,1,27,3,1,1,3,2,3,13,4,3,5,12,3]
[{"$nulls":3},"男","",null,3,3,4,3,3,4,4,3,3,30,1,3,2,3,3,3,15,2,2,2,6,3]
[{"$nulls":3},"男","",null,4,3,4,3,3,4,3,3,3,30,4,3,3,3,4,3,20,2,2,5,9,3]
[{"$nulls":3},"男","",null,4,3,4,3,3,4,2,3,3,29,3,5,3,4,4,3,22,4,3,3,10,3]
[{"$nulls":3},"男","",null,5,3,4,3,3,4,3,3,3,31,4,4,3,3,4,4,22,4,3,2,9,3]
[{"$nulls":3},"男","",null,3,3,4,3,1,4,4,3,2,27,3,1,2,2,3,2,13,2,2,3,7,3]
[{"$nulls":3},"男","",null,3,2,4,4,4,3,4,3,3,30,3,5,3,3,4,4,22,4,4,5,13,3]
[{"$nulls":3},"男","",null,4,4,4,3,3,3,4,3,5,33,3,3,3,3,3,2,17,4,3,3,10,3]
[{"$nulls":3},"男","","高ストレス",4,3,4,2,3,3,3,2,2,26,3,2,1,1,2,1,10,3,3,3,9,3]
[{"$nulls":3},"男","","高ストレス",3,3,4,2,3,3,3,3,3,27,2,2,3,1,1,3,12,1,1,2,4,3]
[{"$nulls":3},"男","",null,3,3,4,3,3,4,3,3,3,29,3,2,3,3,4,3,18,5,5,5,15,5]
[{"$nulls":3},"男","",null,3,3,4,2,3,4,3,3,3,28,4,2,3,3,3,2,17,3,2,3,8,3]
[{"$nulls":3},"男","",null,3,3,3,2,3,3,3,3,5,28,4,3,3,4,5,3,22,4,4,5,13,4]
[{"$nulls":3},"男","",null,3,3,4,2,4,3,4,5,5,33,3,3,3,3,3,3,18,2,2,3,7,3]
[{"$nulls":3},"男","",null,4,3,4,3,3,4,3,3,3,30,3,5,3,3,4,3,21,3,2,4,9,4]
[{"$nulls":3},"男","",null,4,4,4,4,3,4,4,5,3,35,5,3,4,5,5,4,26,2,2,4,8,5]
[{"$nulls":3},"男","","高ストレス",2,1,3,2,1,2,2,2,3,18,3,3,2,2,4,3,17,2,1,3,6,3]
[{"$nulls":3},"男","",null,3,2,3,3,3,4,3,5,3,29,2,2,3,4,3,2,16,4,3,3,10,3]
[{"$nulls":3},"男","",null,2,2,4,1,2,1,4,3,5,24,2,3,2,3,2,4,16,3,3,4,10,3]
[{"$nulls":3},"男","",null,1,2,3,3,2,4,3,3,3,24,3,2,2,2,3,3,15,4,2,5,11,3]
[{"$nulls":3},"男","",null,4,3,4,4,3,5,4,5,3,35,1,2,3,3,3,4,16,2,2,5,9,4]
[{"$nulls":3},"男","",null,4,3,4,4,3,4,4,3,5,34,3,4,3,3,3,4,20,4,3,2,9,3]
[{"$nulls":3},"男","",null,4,2,4,5,4,4,4,2,5,34,3,3,3,3,3,2,17,4,3,3,10,3]
[{"$nulls":3},"女","",null,3,2,4,3,3,4,3,3,3,28,3,4,4,4,4,3,22,4,3,5,12,4]
[{"$nulls":3},"男","",null,4,2,3,4,4,4,4,5,5,35,4,3,3,4,5,4,23,5,5,5,15,5]
[{"$nulls":3},"男","",null,2,2,3,3,4,3,3,2,5,27,3,4,2,3,3,3,18,3,3,5,11,4]
[{"$nulls":3},"男","",null,4,4,4,3,3,3,2,1,1,25,2,4,3,4,2,2,17,4,2,1,7,3]
[{"$nulls":3},"男","",null,4,4,3,2,2,2,3,2,2,24,2,3,3,2,2,1,13,2,2,4,8,3]
[{"$nulls":3},"男","",null,3,4,3,4,3,3,2,2,3,27,3,3,3,3,3,3,18,5,4,4,13,4]
[{"$nulls":3},"男","",null,4,3,4,3,3,3,2,3,2,27,3,2,2,3,3,2,15,2,2,4,8,3]
[{"$nulls":3},"男","",null,3,3,3,3,3,3,3,3,3,27,3,3,3,3,3,2,17,4,2,4,10,3]
[{"$nulls":3},"男","",null,3,2,4,3,4,3,4,3,3,29,1,2,3,2,2,3,13,3,1,1,5,4]
[{"$nulls":3},"男","",null,1,2,2,3,3,4,3,3,3,24,2,4,2,2,2,3,15,2,2,1,5,3]
[{"$nulls":3},"男","",null,4,4,4,3,4,3,3,5,5,35,4,4,3,5,5,5,26,4,1,3,8,3]
[{"$nulls":3},"男","",null,1,1,3,3,2,1,4,3,5,23,4,2,2,2,2,3,15,2,2,1,5,4]
[{"$nulls":3},"男","",null,3,3,3,2,4,4,4,5,5,33,5,5,4,3,4,4,25,5,3,5,13,5]
[{"$nulls":3},"女","",null,3,3,3,2,3,3,2,2,1,22,2,3,3,3,1,2,14,3,1,4,8,1]
[{"$nulls":3},"男","",null,4,4,3,4,4,4,4,3,3,33,3,4,3,3,3,3,19,5,4,5,14,5]
[{"$nulls":3},"女","",null,3,3,2,2,2,4,2,3,2,23,3,2,2,3,3,3,16,3,2,1,6,3]
[{"$nulls":3},"女","","高ストレス",2,1,2,1,1,3,1,1,2,14,1,2,2,2,1,1,9,1,4,5,10,3]
[{"$nulls":3},"男","","高ストレス",2,1,3,2,1,2,3,3,3,20,3,2,3,2,2,2,14,2,1,2,5,3]
[{"$nulls":3},"女","",null,4,4,4,3,2,4,3,3,2,29,3,3,5,4,4,3,22,3,2,4,9,3]
[{"$nulls":3},"女","",null,3,2,4,3,3,4,2,2,3,26,3,3,3,3,3,2,17,3,2,3,8,3]
[{"$nulls":3},"男","",null,2,1,4,4,3,4,3,5,5,31,3,5,3,3,3,2,19,3,4,4,11,5]
[{"$nulls":3},"男","",null,1,2,2,3,3,4,4,3,3,25,3,2,3,5,5,4,22,3,4,4,11,3]
[{"$nulls":3},"男","",null,3,3,3,3,2,3,3,2,3,25,3,3,3,3,4,3,19,3,1,2,6,3]
[{"$nulls":3},"女","",null,3,3,2,3,5,4,3,5,3,31,3,3,3,3,3,3,18,4,2,4,10,3]
[{"$nulls":3},"女","","高ストレス",3,2,4,2,1,2,2,2,1,19,1,4,1,1,1,2,10,2,1,1,4,1]
[{"$nulls":3},"男","",null,2,3,3,1,3,3,3,3,2,23,1,3,3,3,3,3,16,2,2,4,8,3]
[{"$nulls":3},"男","",null,2,3,3,3,4,3,3,3,3,27,3,3,3,3,3,2,17,4,3,3,10,4]
[{"$nulls":3},"女","",null,1,1,4,3,3,4,4,3,3,26,4,5,5,5,4,4,27,5,5,5,15,5]
[{"$nulls":3},"男","","高ストレス",2,2,4,1,1,2,3,3,1,19,1,1,1,2,1,1,7,2,2,1,5,3]
[{"$nulls":3},"女","","高ストレス",1,1,2,3,1,4,4,3,3,22,1,2,1,2,3,2,11,3,2,2,7,2]
[{"$nulls":3},"女","",null,3,2,4,3,3,3,3,3,3,27,3,4,3,4,4,2,20,4,3,5,12,3]
[{"$nulls":3},"女","",null,2,1,4,3,2,4,4,5,5,30,3,4,3,2,3,4,19,4,4,4,12,3]
[{"$nulls":3},"女","",null,3,2,4,3,1,3,3,3,3,25,3,3,3,3,3,3,18,4,3,3,10,3]
[{"$nulls":3},"男","",null,3,3,4,5,4,4,4,5,5,37,4,5,5,5,5,4,28,4,4,5,13,5]
[{"$nulls":3},"女","",null,3,2,4,3,2,2,2,2,2,22,4,4,3,4,3,4,22,3,2,1,6,3]
[{"$nulls":3},"女","",null,3,2,4,1,2,4,4,3,2,25,2,3,3,3,2,3,16,4,4,4,12,2]
[{"$nulls":3},"女","","高ストレス",2,1,4,3,1,2,4,1,2,20,1,5,2,2,1,1,12,3,1,4,8,1]
[{"$nulls":3},"男","",null,3,2,4,4,3,3,3,3,3,28,4,3,3,3,5,3,21,2,3,5,10,3]
[{"$nulls":3},"女","",null,3,2,4,4,3,4,2,3,3,28,3,4,3,2,3,3,18,4,3,3,10,3]
[{"$nulls":3},"女","",null,3,2,4,3,3,3,3,2,3,26,2,5,4,3,3,3,20,3,2,4,9,3]
[{"$nulls":3},"男","",null,3,3,4,3,3,4,4,5,5,34,2,1,3,3,3,2,14,5,1,1,7,3]
[{"$nulls":3},"男","","高ストレス",2,2,3,2,3,2,3,3,3,23,2,2,2,1,1,2,10,2,1,5,8,3]
[{"$nulls":3},"男","",null,3,1,3,4,3,2,4,3,3,26,5,4,4,4,5,4,26,3,3,5,11,4]
[{"$nulls":3},"男","",null,1,2,4,3,1,3,3,3,5,25,3,3,3,4,3,4,20,5,3,5,13,5]
[{"$nulls":3},"男","",null,2,3,4,4,3,4,3,3,3,29,4,5,3,3,4,4,23,4,4,4,12,4]
[{"$nulls":3},"男","",null,4,4,3,2,3,2,2,3,2,25,1,4,3,3,4,3,18,2,2,2,6,3]
[{"$nulls":3},"男","",null,3,3,3,3,2,3,3,2,3,25,3,3,3,3,3,4,19,3,3,5,11,3]
[{"$nulls":3},"男","",null,3,3,2,2,3,3,3,5,5,29,3,3,3,2,2,1,14,4,3,5,12,5]
[{"$nulls":3},"男","",null,3,2,3,3,3,2,3,3,3,25,3,4,3,3,3,3,19,2,3,3,8,3]
[{"$nulls":3},"男","",null,4,3,3,3,3,3,1,2,3,25,3,3,3,3,4,5,21,5,5,5,15,3]
[{"$nulls":3},"男","",null,3,4,3,2,3,3,3,3,3,27,1,2,3,3,3,3,15,2,2,3,7,4]
[{"$nulls":3},"男","",null,4,4,3,4,3,4,3,5,5,35,4,3,3,3,4,4,21,4,4,5,13,5]
[{"$nulls":3},"男","",null,2,3,3,2,3,3,4,5,5,30,5,1,1,4,5,2,18,3,3,2,8,4]
[{"$nulls":3},"男","",null,4,4,3,3,2,3,3,2,3,27,3,3,3,3,3,4,19,4,3,5,12,4]
[{"$nulls":3},"女","",null,3,3,3,4,3,4,3,3,3,29,3,5,4,5,4,4,25,4,2,2,8,3]
[{"$nulls":3},"男","",null,3,4,3,2,2,4,3,3,2,26,3,3,2,2,2,1,13,1,1,5,7,2]
[{"$nulls":3},"男","",null,2,3,2,3,1,1,2,3,3,20,3,2,3,3,3,3,17,4,2,3,9,3]
[{"$nulls":3},"男","",null,2,2,3,3,3,4,3,3,2,25,3,2,3,2,3,3,16,5,4,5,14,3]
[{"$nulls":3},"男","",null,3,2,1,2,3,1,2,2,3,19,3,3,2,3,3,3,17,2,2,5,9,3]
[{"$nulls":3},"女","",null,3,2,2,3,3,3,3,3,3,25,3,5,2,3,4,2,19,4,3,5,12,4]
[{"$nulls":3},"男","",null,3,2,3,4,2,4,3,3,3,27,3,3,3,2,3,3,17,5,4,2,11,3]
[{"$nulls":3},"男","",null,3,3,2,2,3,3,3,3,1,23,3,2,2,2,3,5,17,2,1,5,8,3]
[{"$nulls":3},"女","",null,3,3,3,4,2,4,3,5,5,32,4,4,5,3,3,5,24,5,5,5,15,5]
[{"$nulls":3},"女","",null,2,1,3,2,3,3,4,3,3,24,3,3,3,3,2,4,18,3,4,4,11,3]
[{"$nulls":3},"女","","高ストレス",3,2,2,3,3,3,3,3,3,25,1,3,2,2,2,1,11,4,3,1,8,3]
[{"$nulls":3},"女","",null,3,1,1,4,3,3,4,2,3,24,3,4,4,3,4,4,22,3,5,5,13,4]
[{"$nulls":3},"女","",null,2,3,2,4,2,3,3,3,3,25,3,5,3,3,3,3,20,4,3,4,11,4]
[{"$nulls":3},"男","","高ストレス",1,1,1,1,1,1,1,3,3,13,1,1,1,1,1,3,8,1,1,3,5,3]
[{"$nulls":3},"女","",null,3,2,2,3,3,2,3,3,3,24,3,4,3,5,4,5,24,4,3,3,10,3]
[{"$nulls":3},"男","","高ストレス",1,2,3,4,1,1,3,3,2,20,1,2,1,2,3,3,12,3,3,2,8,1]
[{"$nulls":3},"男","","高ストレス",3,1,3,3,3,2,4,3,3,25,3,3,1,1,2,1,11,4,2,2,8,3]
[{"$nulls":3},"男","",null,3,3,3,2,1,4,3,3,3,25,3,2,3,3,4,2,17,4,2,2,8,3]
[{"$nulls":3},"女","",null,3,3,2,2,1,4,2,3,3,23,3,2,2,2,3,2,14,4,3,3,10,3]
[{"$nulls":3},"女","",null,2,1,2,3,2,3,3,3,3,22,2,3,3,2,3,3,16,4,2,3,9,3]
[{"$nulls":3},"女","",null,3,3,3,3,3,3,3,3,3,27,3,2,3,3,4,4,19,3,3,3,9,3]
[{"$nulls":3},"男","",null,3,3,3,2,1,2,2,3,3,22,3,3,3,3,3,3,18,2,3,1,6,3]
[{"$nulls":3},"女","",null,2,3,2,2,2,3,3,2,3,22,3,3,2,2,2,3,15,4,3,3,10,3]
[{"$nulls":3},"女","",null,3,2,3,3,2,4,4,5,5,31,3,4,3,5,4,4,23,4,3,3,10,3]
[{"$nulls":3},"女","",null,3,3,2,3,1,3,3,3,3,24,3,2,3,4,4,4,20,3,2,5,10,3]
[{"$nulls":3},"女","",null,3,2,3,2,2,4,4,3,3,26,3,2,2,3,2,3,15,4,4,3,11,3]
[{"$nulls":3},"男","",null,3,4,3,5,4,5,4,5,5,38,4,4,3,4,4,3,22,5,3,5,13,4]
[{"$nulls":3},"女","",null,3,2,2,3,1,3,3,3,3,23,3,3,3,2,3,3,17,4,4,5,13,4]
[{"$nulls":3},"女","",null,2,2,3,3,3,3,4,3,5,28,4,4,3,3,4,4,22,4,5,5,14,5]
[{"$nulls":3},"女","","高ストレス",1,1,2,1,1,2,3,3,5,19,3,3,1,2,1,1,11,4,3,4,11,3]
[{"$nulls":3},"女","",null,1,2,2,3,3,3,3,3,5,25,4,4,4,2,4,5,23,4,3,5,12,4]
[{"$nulls":3},"男","",null,3,4,2,3,2,4,3,3,3,27,3,2,2,2,3,3,15,4,3,3,10,3]
[{"$nulls":3},"男","",null,3,3,3,3,3,3,3,3,3,27,1,2,5,3,3,3,17,2,3,5,10,1]
[{"$nulls":3},"女","",null,5,5,4,2,1,1,2,1,1,22,4,1,5,5,3,4,22,1,1,3,5,3]
[{"$nulls":3},"男","",null,4,2,3,3,3,4,3,3,3,28,3,3,2,2,3,1,14,4,3,2,9,4]
[{"$nulls":3},"男","",null,3,4,3,2,3,2,2,2,3,24,1,3,3,5,4,3,19,3,2,3,8,3]
[{"$nulls":3},"男","",null,3,4,3,3,3,3,3,2,2,26,4,3,3,3,3,3,19,2,3,3,8,3]
[{"$nulls":3},"男","","高ストレス",3,3,3,1,1,3,2,1,2,19,2,1,1,1,1,2,8,2,2,2,6,3]
[{"$nulls":3},"男","",null,3,3,2,3,1,4,3,3,3,25,5,3,3,3,4,4,22,3,2,4,9,5]
[{"$nulls":3},"男","","高ストレス",3,3,3,1,2,3,2,3,1,21,2,1,3,2,1,1,10,1,2,3,6,1]
[{"$nulls":3},"女","",null,2,2,2,2,1,3,3,3,3,21,3,3,2,3,3,4,18,2,3,1,6,3]
[{"$nulls":3},"女","",null,3,1,2,3,5,3,4,2,3,26,3,3,4,3,3,5,21,4,5,5,14,3]
[{"$nulls":3},"女","",null,4,2,4,4,5,4,3,3,3,32,5,4,5,5,5,5,29,4,4,5,13,4]
[{"$nulls":3},"女","",null,1,2,3,2,3,2,4,3,5,25,3,1,3,2,3,4,16,3,3,5,11,3]
[{"$nulls":3},"女","",null,3,3,3,3,3,4,3,5,5,32,3,4,3,3,4,3,20,4,3,4,11,3]
[{"$nulls":3},"男","",null,3,3,3,3,2,3,3,3,3,26,4,2,3,3,3,3,18,3,3,2,8,3]
[{"$nulls":3},"男","",null,3,4,3,3,3,4,3,3,3,29,4,3,3,3,3,4,20,4,3,3,10,3]
[{"$nulls":3},"男","",null,3,3,4,3,3,4,2,3,2,27,4,3,3,3,4,3,20,4,4,2,10,2]
[{"$nulls":3},"男","",null,5,4,4,1,1,4,3,3,3,28,3,3,3,3,4,5,21,5,2,1,8,4]
[{"$nulls":3},"女","","高ストレス",3,4,3,3,3,3,3,3,2,27,1,3,2,2,1,2,11,3,4,1,8,2]
[{"$nulls":3},"男","",null,3,3,3,3,4,4,4,3,3,30,4,4,3,3,4,4,22,5,5,5,15,4]
[{"$nulls":3},"男","",null,2,2,2,2,2,3,3,3,5,24,3,2,2,2,2,2,13,3,2,3,8,3]
[{"$nulls":3},"男","",null,2,3,2,4,1,5,4,5,5,31,5,5,3,3,5,5,26,5,5,5,15,5]
[{"$nulls":3},"男","",null,3,4,2,3,4,4,4,2,2,28,3,2,3,3,2,2,15,3,2,5,10,1]
[{"$nulls":3},"女","",null,3,2,3,2,3,4,3,3,3,26,3,2,2,2,3,4,16,3,3,4,10,3]
[{"$nulls":3},"女","","高ストレス",3,3,3,2,1,3,3,3,2,23,2,2,2,3,1,2,12,3,2,3,8,1]
[{"$nulls":3},"男","",null,3,2,3,3,1,4,3,5,5,29,5,3,3,3,3,3,20,4,3,4,11,3]
[{"$nulls":3},"女","",null,3,2,3,3,3,3,4,5,5,31,3,3,4,4,5,3,22,4,2,3,9,5]
[{"$nulls":3},"男","",null,1,3,4,4,4,2,3,3,3,27,3,3,3,2,3,3,17,4,3,3,10,4]
[{"$nulls":3},"男","",null,5,5,2,2,2,3,4,3,2,28,5,5,5,5,5,3,28,1,1,5,7,3]
[{"$nulls":3},"男","",null,3,4,3,4,3,4,3,3,3,30,3,3,3,4,4,3,20,4,4,4,12,4]
[{"$nulls":3},"男","",null,3,3,3,4,4,3,3,3,5,31,5,4,5,5,5,3,27,5,1,5,11,5]
[{"$nulls":3},"男","",null,4,4,4,4,3,4,3,5,5,36,4,3,3,4,4,4,22,3,4,5,12,5]
[{"$nulls":3},"女","",null,4,3,4,2,1,4,2,3,2,25,3,2,3,4,4,1,17,4,3,3,10,3]
[{"$nulls":3},"女","","高ストレス",4,5,4,1,1,3,2,1,1,22,1,2,2,2,2,1,10,1,1,4,6,2]
[{"$nulls":3},"女","",null,3,3,4,3,1,3,3,3,3,26,4,4,3,3,3,3,20,3,4,5,12,4]
[{"$nulls":3},"男","",null,3,4,4,3,2,4,4,5,5,34,3,2,3,3,4,2,17,2,2,5,9,5]
[{"$nulls":3},"女","",null,3,3,4,3,1,3,3,3,3,26,3,4,4,3,4,3,21,3,3,1,7,3]
[{"$nulls":3},"女","",null,4,3,3,3,1,3,3,3,3,26,2,3,4,4,4,4,21,3,3,5,11,3]
[{"$nulls":3},"女","",null,3,3,3,4,3,4,3,3,3,29,4,3,4,4,4,4,23,4,3,5,12,3]
[{"$nulls":3},"女","",null,3,3,4,3,2,3,3,2,1,24,2,4,4,3,4,5,22,3,2,1,6,2]
[{"$nulls":3},"男","",null,4,3,3,3,3,4,3,2,3,28,4,3,3,3,3,3,19,2,2,3,7,3]
[{"$nulls":3},"男","",null,3,3,1,2,3,3,3,5,1,24,2,2,3,1,2,3,13,2,1,3,6,2]
[{"$nulls":3},"男","",null,5,3,3,5,4,5,4,5,5,39,5,5,2,5,3,4,24,3,3,5,11,5]
[{"$nulls":3},"男","",null,3,3,3,3,3,3,2,3,3,26,4,2,2,2,3,3,16,3,3,2,8,3]
[{"$nulls":3},"男","",null,4,2,4,3,2,1,3,5,2,26,3,2,3,4,3,4,19,3,3,4,10,1]
[{"$nulls":3},"男","",null,4,4,3,3,3,3,3,3,2,28,3,4,4,3,4,4,22,3,3,3,9,5]
[{"$nulls":3},"男","",null,4,3,2,2,3,3,3,2,2,24,4,3,2,3,2,1,15,1,1,2,4,3]
[{"$nulls":3},"男","",null,3,3,3,3,3,4,3,5,5,32,3,5,3,4,5,4,24,5,4,4,13,3]
[{"$nulls":3},"女","",null,3,2,3,3,2,4,3,3,3,26,3,3,4,3,5,4,22,3,2,2,7,3]
[{"$nulls":3},"男","",null,3,3,2,2,2,4,2,3,3,24,3,3,3,3,3,2,17,4,3,3,10,3]
[{"$nulls":3},"男","","高ストレス",1,1,1,2,1,1,2,2,1,12,1,1,2,1,2,1,8,2,2,2,6,2]
[{"$nulls":3},"女","",null,3,2,1,3,5,4,4,3,3,28,2,4,3,3,5,4,21,3,2,1,6,3]
[{"$nulls":3},"男","",null,3,3,2,3,3,3,3,3,3,26,3,3,3,3,3,3,18,3,2,3,8,3]
[{"$nulls":3},"男","",null,3,3,2,3,2,3,3,3,2,24,3,3,3,3,3,2,17,2,2,1,5,2]
[{"$nulls":3},"男","","高ストレス",1,1,2,1,3,1,3,2,1,15,1,1,2,1,1,1,7,2,3,1,6,1]
[{"$nulls":3},"男","",null,4,3,3,3,1,3,2,3,3,25,3,3,2,5,2,3,18,2,2,3,7,3]
[{"$nulls":3},"女","",null,2,2,2,3,2,3,3,2,3,22,2,3,2,3,3,2,15,4,4,3,11,3]
[{"$nulls":3},"男","","高ストレス",2,3,2,2,2,2,2,1,1,17,1,2,2,3,3,4,15,3,1,5,9,2]
[{"$nulls":3},"女","",null,3,3,3,3,3,3,3,3,3,27,2,4,4,4,4,3,21,3,3,3,9,3]
[{"$nulls":3},"男","",null,2,2,3,4,3,3,3,2,3,25,3,3,3,4,4,3,20,3,2,5,10,4]
[{"$nulls":3},"男","","高ストレス",5,3,3,2,1,3,2,2,1,22,1,2,1,2,1,1,8,4,4,1,9,1]
[{"$nulls":3},"男","",null,3,2,2,1,2,3,3,3,3,22,4,3,3,3,3,4,20,2,1,1,4,3]
[{"$nulls":3},"男","",null,2,2,4,3,3,3,3,3,3,26,4,5,3,2,4,3,21,2,2,5,9,4]
[{"$nulls":3},"女","",null,3,2,2,2,2,3,2,3,3,22,4,3,3,3,2,2,17,3,3,3,9,3]
[{"$nulls":3},"男","",null,2,2,2,3,2,4,3,2,3,23,4,2,2,2,3,2,15,4,3,5,12,2]
[{"$nulls":3},"女","",null,3,2,2,4,2,3,1,3,5,25,5,2,2,4,5,1,19,4,3,5,12,5]
[{"$nulls":3},"男","","高ストレス",2,2,1,2,2,3,4,2,3,21,1,3,2,2,3,1,12,3,2,5,10,4]
[{"$nulls":3},"男","",null,4,2,2,3,2,4,3,3,3,26,3,3,3,4,4,3,20,3,3,2,8,3]
[{"$nulls":3},"男","",null,2,3,2,2,3,2,3,3,3,23,2,3,2,2,3,3,15,2,2,1,5,3]
[{"$nulls":3},"男","",null,3,2,2,3,2,3,3,2,2,22,2,3,3,2,2,3,15,3,2,1,6,2]
[{"$nulls":3},"男","",null,2,1,3,4,4,3,3,3,5,28,2,3,3,2,3,4,17,3,2,5,10,4]
[{"$nulls":3},"男","","高ストレス",2,3,3,3,2,3,1,2,3,22,1,3,2,1,1,1,9,2,2,2,6,1]
[{"$nulls":3},"男","",null,2,2,1,2,2,5,2,3,5,24,4,4,2,2,3,3,18,4,3,4,11,3]
[{"$nulls":3},"男","",null,4,3,3,3,1,4,3,2,3,26,2,2,3,3,3,2,15,4,4,4,12,3]
[{"$nulls":3},"男","","高ストレス",2,3,2,1,1,3,1,2,2,17,3,1,2,1,1,2,10,1,2,1,4,1]
[{"$nulls":3},"男","","高ストレス",1,2,3,4,3,3,3,1,5,25,1,1,1,1,1,1,6,3,1,1,5,2]
[{"$nulls":3},"女","",null,3,3,4,3,5,5,3,3,3,32,4,2,3,4,3,3,19,4,2,4,10,3]
[{"$nulls":3},"女","",null,2,3,3,3,3,3,3,3,3,26,4,3,4,3,4,5,23,3,2,1,6,3]
[{"$nulls":3},"男","",null,2,3,2,3,3,3,3,5,5,29,5,4,5,5,5,4,28,3,2,2,7,5]
[{"$nulls":3},"男","",null,2,2,1,4,1,2,3,3,3,21,3,2,3,2,3,2,15,5,4,4,13,4]
[{"$nulls":3},"男","",null,4,4,1,5,1,4,4,5,5,33,4,5,1,5,5,3,23,5,5,5,15,5]
[{"$nulls":3},"男","",null,3,2,2,4,2,4,2,3,3,25,3,3,3,3,3,2,17,4,3,2,9,3]
[{"$nulls":3},"男","",null,3,2,1,3,3,3,3,5,3,26,4,2,3,3,1,1,14,4,3,3,10,3]
[{"$nulls":3},"男","","高ストレス",3,3,2,1,1,3,2,3,3,21,3,2,2,2,3,2,14,2,2,1,5,2]
[{"$nulls":3},"男","",null,3,3,2,2,3,2,3,3,2,23,3,2,3,3,3,3,17,2,2,1,5,2]
[{"$nulls":3},"女","",null,3,2,2,3,2,3,3,3,3,24,3,3,2,3,4,3,18,5,4,3,12,3]
[{"$nulls":3},"女","",null,3,4,2,3,5,3,2,3,2,27,2,3,3,3,3,3,17,3,2,4,9,3]
[{"$nulls":3},"男","",null,3,3,3,3,2,3,2,3,3,25,5,4,2,4,4,2,21,3,4,5,12,4]
[{"$nulls":3},"女","",null,3,2,2,2,2,3,2,2,2,20,3,3,3,3,3,3,18,3,2,1,6,1]
[{"$nulls":3},"男","",null,2,2,3,4,3,4,3,3,3,27,4,4,3,3,5,3,22,4,3,3,10,4]
[{"$nulls":3},"男","","高ストレス",2,1,2,1,1,2,1,1,1,12,1,2,2,1,1,1,8,2,2,5,9,2]
[{"$nulls":3},"男","",null,4,4,2,3,3,2,2,3,2,25,3,3,3,3,4,3,19,3,2,2,7,3]
[{"$nulls":3},"男","","高ストレス",3,2,1,2,2,2,2,3,3,20,3,2,1,3,3,1,13,2,2,1,5,1]
[{"$nulls":3},"男","",null,4,4,3,2,2,4,4,3,2,28,3,2,5,5,4,5,24,2,1,1,4,3]
[{"$nulls":3},"男","",null,4,5,3,4,4,4,3,3,3,33,3,4,3,5,5,3,23,5,3,3,11,3]
[{"$nulls":3},"男","",null,3,3,2,5,4,5,3,5,5,35,5,5,5,5,5,5,30,4,3,3,10,4]
[{"$nulls":3},"男","",null,4,4,3,3,3,4,3,3,2,29,1,5,5,5,3,3,22,3,3,2,8,3]
[{"$nulls":3},"男","",null,3,3,4,4,4,4,4,5,3,34,5,5,5,4,5,5,29,4,3,3,10,3]
[{"$nulls":3},"男","",null,3,3,2,2,3,3,2,3,3,24,4,2,2,2,1,3,14,3,2,1,6,3]
[{"$nulls":3},"女","",null,4,3,3,4,3,4,3,3,3,30,4,3,3,4,4,3,21,4,3,4,11,3]
[{"$nulls":3},"男","",null,4,4,2,2,1,3,2,1,1,20,2,3,5,3,3,4,20,2,1,4,7,1]
[{"$nulls":3},"男","",null,4,3,3,2,1,3,4,5,3,28,3,2,2,3,4,2,16,2,1,4,7,3]
[{"$nulls":3},"男","",null,2,3,3,3,3,3,3,3,3,26,3,2,3,3,3,3,17,4,3,4,11,3]
[{"$nulls":3},"女","",null,3,3,4,3,2,3,3,3,3,27,1,2,3,2,2,3,13,2,2,2,6,3]
[{"$nulls":3},"男","","高ストレス",4,3,1,1,1,1,2,1,1,15,1,2,1,1,1,1,7,2,2,5,9,1]
[{"$nulls":3},"女","",null,3,2,1,4,3,2,3,3,2,23,4,2,3,3,3,4,19,4,3,2,9,3]
[{"$nulls":3},"男","",null,2,3,2,3,3,4,3,3,5,28,4,3,3,2,5,2,19,3,2,3,8,4]
[{"$nulls":3},"男","",null,3,4,3,2,3,3,3,3,2,26,3,2,5,3,3,3,19,2,3,5,10,3]
[{"$nulls":3},"男","",null,3,3,2,3,1,4,3,3,3,25,3,2,3,3,3,2,16,5,3,3,11,3]
[{"$nulls":3},"男","",null,5,5,4,4,2,5,1,1,1,28,4,3,3,3,2,4,19,4,1,2,7,2]
[{"$nulls":3},"女","",null,3,3,3,3,3,5,3,5,5,33,5,4,3,3,4,4,23,4,3,5,12,3]
[{"$nulls":3},"男","",null,4,3,2,4,4,3,3,3,3,29,4,3,3,3,3,1,17,5,3,2,10,3]
[{"$nulls":3},"女","",null,2,1,2,3,3,4,2,3,3,23,3,5,3,2,3,3,19,4,3,5,12,3]
[{"$nulls":3},"女","","高ストレス",3,3,4,2,3,3,2,5,3,28,1,3,2,2,1,2,11,2,3,5,10,4]
[{"$nulls":3},"女","",null,3,3,2,4,3,4,2,2,3,26,3,4,3,2,3,2,17,4,3,3,10,3]
[{"$nulls":3},"男","",null,4,3,3,3,3,3,2,3,3,27,3,3,3,3,3,1,16,2,2,5,9,3]
[{"$nulls":3},"男","",null,3,3,2,2,2,3,3,3,3,24,3,3,3,3,4,3,19,3,2,2,7,3]
[{"$nulls":3},"男","",null,4,3,3,4,4,3,4,5,5,35,4,4,5,4,5,4,26,4,3,5,12,4]
[{"$nulls":3},"男","","高ストレス",2,3,1,1,1,2,2,2,1,15,1,1,2,2,2,2,10,1,1,1,3,2]
[{"$nulls":3},"男","",null,3,4,2,3,2,3,3,3,3,26,4,3,3,3,5,4,22,2,2,1,5,3]
[{"$nulls":3},"男","",null,3,3,1,4,4,3,4,3,3,28,4,2,2,2,4,4,18,4,3,5,12,4]
[{"$nulls":3},"男","",null,3,2,2,4,3,4,3,3,3,27,3,5,4,4,5,4,25,2,2,3,7,3]
[{"$nulls":3},"男","",null,3,4,3,4,3,4,4,3,3,31,3,3,4,4,5,3,22,4,3,2,9,3]
[{"$nulls":3},"女","",null,3,3,2,4,2,4,3,3,3,27,3,4,3,3,2,3,18,4,3,3,10,3]
[{"$nulls":3},"男","","高ストレス",1,1,3,2,2,5,3,2,2,21,1,1,1,3,1,1,8,1,1,3,5,2]
[{"$nulls":3},"女","",null,3,2,1,3,3,3,3,3,3,24,3,2,2,2,3,3,15,3,2,5,10,3]
[{"$nulls":3},"男","",null,2,2,3,3,3,2,4,2,3,24,1,2,2,2,3,3,13,4,2,1,7,2]
[{"$nulls":3},"女","",null,3,2,2,3,3,4,3,3,3,26,4,3,4,3,5,4,23,4,3,3,10,3]
[{"$nulls":3},"男","",null,3,3,3,3,2,4,4,3,3,28,3,4,3,3,4,3,20,3,1,4,8,3]
[{"$nulls":3},"男","",null,3,4,3,4,1,4,1,2,2,24,3,1,2,3,3,2,14,4,2,5,11,2]
[{"$nulls":3},"男","",null,3,3,1,4,2,3,2,3,2,23,2,5,3,5,2,3,20,4,3,4,11,3]
[{"$nulls":3},"女","",null,2,2,1,3,3,4,2,2,5,24,3,3,2,1,3,2,14,4,2,4,10,3]
[{"$nulls":3},"女","",null,2,3,1,3,1,3,3,2,2,20,3,3,2,3,3,3,17,4,3,5,12,3]
[{"$nulls":3},"女","",null,4,2,3,2,2,3,2,3,3,24,3,3,3,3,3,2,17,2,3,4,9,3]
[{"$nulls":3},"男","",null,1,1,2,5,3,4,4,5,5,30,4,4,1,3,2,3,17,4,5,5,14,3]
[{"$nulls":3},"男","",null,3,3,3,3,3,3,3,3,3,27,4,3,4,3,4,3,21,4,2,4,10,3]
[{"$nulls":3},"男","",null,3,2,2,4,2,3,3,3,2,24,2,3,3,2,3,2,15,3,3,2,8,3]
[{"$nulls":3},"男","",null,2,2,3,4,4,5,4,5,5,34,5,4,3,2,4,3,21,4,3,5,12,3]
[{"$nulls":3},"女","",null,3,2,3,3,2,3,3,3,3,25,4,3,3,3,3,3,19,3,3,5,11,4]
[{"$nulls":3},"男","",null,3,3,3,3,4,3,3,3,3,28,3,4,3,3,5,4,22,2,2,5,9,4]
[{"$nulls":3},"女","",null,2,2,3,4,3,3,4,3,5,29,5,4,4,4,4,4,25,4,4,4,12,3]
[{"$nulls":3},"男","","高ストレス",2,2,1,3,2,3,3,5,5,26,3,1,2,1,2,2,11,3,3,3,9,3]
[{"$nulls":3},"男","",null,2,2,2,3,2,4,4,5,5,29,4,3,2,2,3,2,16,3,2,2,7,4]
[{"$nulls":3},"男","",null,3,3,2,3,3,4,2,3,3,26,3,3,3,3,2,1,15,2,2,1,5,3]
[{"$nulls":3},"男","","高ストレス",1,1,1,1,1,2,1,5,3,16,1,1,1,1,1,1,6,2,1,1,4,1]
[{"$nulls":3},"女","",null,3,4,2,4,3,4,3,3,3,29,3,2,4,5,5,4,23,4,3,3,10,3]
[{"$nulls":3},"男","",null,3,3,3,3,3,4,3,3,3,28,3,3,3,3,5,4,21,3,3,5,11,4]
[{"$nulls":3},"女","",null,3,2,2,3,3,3,2,3,3,24,3,3,3,2,2,2,15,4,3,3,10,3]
[{"$nulls":3},"男","",null,3,4,4,5,4,5,4,5,5,39,5,3,4,3,5,4,24,5,4,5,14,5]
[{"$nulls":3},"男","",null,3,3,2,3,3,2,3,3,2,24,3,2,3,3,2,3,16,2,2,2,6,2]
[{"$nulls":3},"男","","高ストレス",3,3,1,2,4,3,3,3,2,24,2,2,2,2,1,1,10,4,1,5,10,2]
[{"$nulls":3},"男","",null,4,3,2,3,2,3,3,3,2,25,3,2,2,3,2,1,13,3,2,2,7,2]
[{"$nulls":3},"男","",null,3,4,2,4,4,3,3,5,5,33,4,3,3,3,4,3,20,4,3,3,10,3]
[{"$nulls":3},"男","",null,2,3,3,4,3,4,2,3,5,29,4,3,2,1,3,1,14,3,3,2,8,3]
[{"$nulls":3},"男","",null,3,4,2,3,4,4,3,3,3,29,4,3,3,3,5,5,23,4,2,5,11,4]
[{"$nulls":3},"男","",null,3,3,2,3,3,4,2,3,2,25,3,2,2,4,5,4,20,4,3,4,11,3]
[{"$nulls":3},"男","",null,2,2,2,3,3,4,3,3,3,25,4,3,3,3,4,4,21,3,2,2,7,3]
[{"$nulls":3},"男","",null,3,3,1,3,3,4,3,3,3,26,3,3,3,3,3,2,17,2,2,2,6,3]
[{"$nulls":3},"女","",null,3,2,4,4,3,3,2,3,2,26,3,1,4,2,2,3,15,3,2,3,8,2]
[{"$nulls":3},"男","","高ストレス",3,2,1,2,3,3,2,2,2,20,1,1,2,3,1,2,10,3,2,1,6,1]
[{"$nulls":3},"男","","高ストレス",1,1,1,3,1,4,3,3,2,19,4,2,1,1,1,1,10,2,1,4,7,3]
[{"$nulls":3},"男","",null,2,2,2,3,2,4,4,3,3,25,3,3,2,2,3,2,15,4,3,5,12,3]
[{"$nulls":3},"男","","高ストレス",3,3,1,4,1,3,4,3,1,23,2,2,1,3,2,2,12,3,3,3,9,1]
[{"$nulls":3},"男","",null,4,3,4,4,3,4,3,3,3,31,3,3,3,3,3,4,19,4,3,4,11,3]
[{"$nulls":3},"男","",null,3,3,1,4,3,3,2,2,3,24,3,3,3,2,3,4,18,2,2,1,5,3]
[{"$nulls":3},"男","",null,3,3,2,5,1,4,3,5,3,29,4,5,5,5,5,3,27,3,3,5,11,5]
[{"$nulls":3},"男","",null,4,3,2,4,1,4,3,5,5,31,4,5,5,4,5,4,27,4,4,2,10,3]
[{"$nulls":3},"男","",null,3,3,2,3,3,3,3,3,3,26,3,3,3,3,4,4,20,3,3,2,8,3]
[{"$nulls":3},"男","",null,3,2,3,4,3,4,4,3,3,29,4,1,2,2,3,1,13,4,3,4,11,3]
[{"$nulls":3},"男","","高ストレス",4,4,2,3,2,4,3,2,2,26,1,2,3,3,1,2,12,3,2,1,6,1]
[{"$nulls":3},"男","",null,3,3,2,3,2,4,3,3,3,26,4,3,4,3,3,1,18,4,4,1,9,3]
[{"$nulls":3},"男","",null,2,3,2,2,3,3,3,3,3,24,3,3,3,3,3,2,17,3,2,3,8,3]
[{"$nulls":3},"男","",null,2,3,2,3,4,3,3,3,5,28,3,4,3,4,4,2,20,3,2,1,6,3]
[{"$nulls":3},"男","","高ストレス",2,2,3,1,3,4,2,1,1,19,1,2,1,2,1,1,8,2,4,5,11,3]
[{"$nulls":3},"男","",null,3,3,2,4,4,4,3,3,3,29,3,2,4,5,5,5,24,5,3,1,9,3]
[{"$nulls":3},"女","",null,1,2,3,3,3,4,4,5,3,28,3,2,2,3,2,2,14,4,2,2,8,3]
[{"$nulls":3},"男","","高ストレス",1,1,1,1,1,4,1,1,1,12,1,1,1,1,1,1,6,1,1,5,7,1]
[{"$nulls":3},"男","",null,2,3,2,1,4,3,3,3,5,26,5,1,1,1,2,3,13,3,1,1,5,3]
[{"$nulls":3},"女","",null,4,4,4,3,5,3,2,2,2,29,2,3,4,5,2,4,20,3,2,3,8,3]
[{"$nulls":3},"男","",null,4,3,3,1,3,3,1,3,2,23,1,2,3,3,1,3,13,2,1,3,6,3]
[{"$nulls":3},"男","",null,5,5,3,4,4,5,3,5,5,39,3,3,3,5,5,5,24,2,5,5,12,5]
[{"$nulls":3},"男","",null,4,2,1,2,1,2,3,5,5,25,5,3,3,3,4,4,22,2,2,1,5,5]
[{"$nulls":3},"男","","高ストレス",1,2,1,3,2,2,2,2,2,17,2,1,1,2,1,3,10,2,1,3,6,2]
[{"$nulls":3},"男","",null,5,5,4,2,2,4,2,3,2,29,1,3,3,5,3,3,18,1,3,4,8,1]
[{"$nulls":3},"男","",null,4,2,2,5,4,5,3,5,5,35,5,5,5,4,5,4,28,5,5,3,13,4]
[{"$nulls":3},"男","","高ストレス",3,2,2,2,1,2,1,1,1,15,3,1,1,2,1,1,9,2,2,1,5,1]
[{"$nulls":3},"男","","高ストレス",2,3,1,2,2,2,3,2,2,19,3,2,1,2,2,2,12,2,2,1,5,2]
[{"$nulls":3},"男","",null,4,3,1,5,4,4,1,5,5,32,1,5,5,5,5,5,26,2,2,5,9,4]
[{"$nulls":3},"女","","高ストレス",1,2,1,2,5,5,2,3,2,23,1,1,2,1,2,2,9,1,4,4,9,2]
[{"$nulls":3},"男","","高ストレス",3,3,2,2,1,2,1,1,1,16,1,1,1,1,1,1,6,3,2,2,7,1]
[{"$nulls":3},"女","","高ストレス",3,3,1,2,1,3,1,1,1,16,2,3,2,3,2,2,14,4,3,3,10,2]
[{"$nulls":3},"男","","高ストレス",4,3,1,1,3,1,1,2,1,17,1,2,1,1,1,1,7,2,2,5,9,3]
[{"$nulls":3},"女","",null,3,2,3,4,5,3,3,5,5,33,5,4,4,3,5,4,25,4,3,2,9,5]
[{"$nulls":3},"女","",null,4,3,4,3,5,3,3,3,3,31,4,5,4,3,4,4,24,3,4,5,12,3]
[{"$nulls":3},"男","",null,3,3,1,5,4,4,3,5,5,33,5,3,5,5,5,4,27,5,4,4,13,5]
[{"$nulls":3},"女","",null,3,2,2,4,3,3,3,5,5,30,5,3,4,4,5,3,24,5,4,4,13,4]
[{"$nulls":3},"男","",null,3,3,3,4,4,4,3,3,5,32,5,3,2,3,3,3,19,3,1,3,7,4]
[{"$nulls":3},"男","",null,3,4,1,4,1,3,3,3,2,24,2,4,3,3,3,4,19,3,3,2,8,2]
[{"$nulls":3},"男","",null,3,3,1,4,4,3,3,3,3,27,5,4,3,3,4,2,21,4,4,2,10,3]
[{"$nulls":3},"男","",null,3,2,1,3,2,4,3,3,3,24,4,3,2,2,3,1,15,2,3,5,10,3]
[{"$nulls":3},"男","",null,3,2,2,3,3,3,3,5,5,29,3,3,5,5,5,4,25,3,3,2,8,4]
[{"$nulls":3},"女","",null,4,3,3,5,5,4,3,2,5,34,4,5,5,4,5,5,28,3,3,5,11,4]
[{"$nulls":3},"男","",null,3,3,3,4,4,4,2,5,5,33,2,4,4,5,4,4,23,4,5,5,14,4]
[{"$nulls":3},"男","",null,3,3,3,3,2,3,3,5,5,30,4,4,3,5,4,3,23,4,3,3,10,3]
[{"$nulls":3},"男","",null,3,3,2,4,1,3,3,3,3,25,4,3,2,2,2,2,15,3,2,2,7,3]
[{"$nulls":3},"男","",null,3,3,2,4,2,2,3,3,3,25,3,3,2,2,3,3,16,3,2,4,9,3]
[{"$nulls":3},"男","",null,3,2,2,3,4,2,3,5,5,29,3,5,3,3,5,3,22,5,3,3,11,4]
[{"$nulls":3},"男","",null,2,2,1,4,3,3,4,5,5,29,5,4,4,3,3,3,22,2,4,3,9,3]
[{"$nulls":3},"男","",null,3,3,2,3,1,3,3,2,3,23,3,2,3,2,3,3,16,5,4,1,10,3]
[{"$nulls":3},"男","",null,3,3,3,2,2,4,3,3,3,26,4,2,3,3,4,3,19,3,2,1,6,3]
[{"$nulls":3},"男","",null,2,3,2,3,2,4,3,3,3,25,4,3,3,3,3,3,19,5,3,5,13,3]
[{"$nulls":3},"男","",null,3,4,3,3,3,2,3,2,3,26,2,3,3,3,4,3,18,4,3,2,9,3]
[{"$nulls":3},"男","",null,2,3,3,2,1,2,3,3,3,22,3,2,3,3,3,1,15,3,2,2,7,3]
[{"$nulls":3},"男","",null,2,3,2,3,2,4,3,3,3,25,4,3,2,4,3,2,18,4,2,1,7,3]
[{"$nulls":3},"男","","高ストレス",2,3,2,3,3,2,2,2,2,21,1,1,1,1,1,1,6,3,3,4,10,3]
[{"$nulls":3},"男","",null,1,3,3,2,3,4,3,3,3,25,2,1,3,3,4,3,16,2,2,1,5,2]
[{"$nulls":3},"男","","高ストレス",1,3,2,4,4,5,3,3,3,28,1,3,1,1,1,1,8,1,1,1,3,2]
[{"$nulls":3},"男","","高ストレス",3,2,1,3,2,3,3,1,1,19,2,3,1,1,1,1,9,4,3,3,10,2]
[{"$nulls":3},"男","",null,3,3,2,4,3,3,3,3,5,29,4,2,3,3,5,4,21,5,4,4,13,3]
[{"$nulls":3},"男","",null,2,1,1,3,3,4,3,3,5,25,1,5,3,3,5,5,22,5,5,5,15,5]
[{"$nulls":3},"男","",null,3,3,2,3,3,2,1,5,3,25,3,3,3,3,3,3,18,3,2,4,9,3]
[{"$nulls":3},"男","",null,4,4,2,3,2,1,2,1,1,20,4,2,2,3,3,4,18,5,2,5,12,1]
[{"$nulls":3},"男","","高ストレス",2,2,1,3,2,1,4,2,3,20,1,2,1,1,2,1,8,4,3,5,12,3]
[{"$nulls":3},"男","",null,4,4,2,3,3,2,2,2,2,24,2,2,3,4,4,3,18,2,2,2,6,3]
[{"$nulls":3},"女","",null,3,3,1,3,2,3,2,2,2,21,3,3,3,2,1,4,16,3,2,3,8,3]
[{"$nulls":3},"女","",null,2,2,1,2,2,4,3,2,3,21,2,2,2,2,2,3,13,3,2,5,10,3]
[{"$nulls":3},"男","",null,1,2,2,5,4,4,3,5,5,31,1,1,3,5,5,3,18,5,4,4,13,5]
[{"$nulls":3},"女","",null,3,1,4,3,2,2,3,2,3,23,3,3,2,2,3,3,16,3,2,5,10,4]
[{"$nulls":3},"女","",null,2,3,3,4,3,3,2,5,5,30,2,2,2,3,2,3,14,5,4,4,13,4]
[{"$nulls":3},"男","",null,3,4,3,4,2,3,2,2,2,25,4,5,4,5,5,4,27,4,3,5,12,3]
[{"$nulls":3},"男","",null,3,4,3,4,3,5,3,5,5,35,3,3,3,3,3,2,17,4,3,4,11,5]
[{"$nulls":3},"男","",null,4,4,1,4,3,3,4,2,2,27,4,4,3,4,5,4,24,3,2,5,10,3]
[{"$nulls":3},"男","","高ストレス",1,2,1,1,2,3,3,2,2,17,1,1,1,2,1,1,7,2,2,1,5,1]
[{"$nulls":3},"男","",null,3,3,2,2,2,3,3,2,2,22,4,3,2,2,1,1,13,4,2,1,7,3]
[{"$nulls":3},"男","",null,3,3,1,3,4,3,3,3,3,26,4,3,3,3,5,4,22,3,3,5,11,3]
[{"$nulls":3},"男","",null,3,3,2,3,2,3,3,3,3,25,3,3,3,2,2,1,14,3,2,1,6,3]
[{"$nulls":3},"男","",null,2,3,1,3,3,4,2,3,3,24,5,4,4,3,4,4,24,3,3,4,10,4]
[{"$nulls":3},"男","",null,1,4,1,4,2,2,2,2,3,21,3,4,3,3,4,4,21,2,3,2,7,3]
[{"$nulls":3},"男","",null,3,3,3,4,3,3,2,3,3,27,3,3,3,3,3,3,18,2,2,5,9,4]
[{"$nulls":3},"女","",null,3,2,3,2,2,4,3,3,3,25,1,4,3,3,4,3,18,3,2,1,6,2]
[{"$nulls":3},"男","","高ストレス",3,2,2,1,1,2,2,1,1,15,1,1,1,1,2,2,8,2,1,1,4,1]
[{"$nulls":3},"男","",null,3,3,2,3,3,3,3,3,3,26,3,3,3,3,4,3,19,4,3,3,10,3]
[{"$nulls":3},"男","",null,2,2,1,3,2,4,1,2,3,20,5,3,2,3,3,3,19,2,2,1,5,3]
[{"$nulls":3},"男","",null,3,2,2,5,3,4,4,5,5,33,5,5,3,4,5,5,27,5,5,5,15,5]
[{"$nulls":3},"男","","高ストレス",2,1,2,2,4,4,4,2,3,24,3,2,2,1,1,1,10,4,2,2,8,3]
[{"$nulls":3},"男","",null,4,5,1,4,1,2,1,2,3,23,3,2,2,2,2,2,13,1,3,4,8,3]
[{"$nulls":3},"男","","高ストレス",2,3,2,3,3,3,3,2,2,23,4,1,2,2,1,1,11,3,1,1,5,1]
[{"$nulls":3},"男","","高ストレス",5,5,4,3,4,1,4,1,1,28,5,1,1,1,1,1,10,1,1,1,3,1]
[{"$nulls":3},"男","","高ストレス",2,2,1,2,1,3,1,3,2,17,3,3,2,1,2,2,13,3,1,2,6,1]
[{"$nulls":3},"男","","高ストレス",1,3,1,2,2,2,2,1,1,15,2,1,1,2,1,2,9,2,3,5,10,1]
[{"$nulls":3},"男","",null,2,2,1,3,3,3,3,2,2,21,3,2,3,2,3,3,16,3,2,4,9,3]
[{"$nulls":3},"男","",null,2,3,1,1,2,3,3,3,3,21,2,1,2,3,3,2,13,1,5,5,11,3]
[{"$nulls":3},"男","","高ストレス",2,2,2,3,4,2,3,2,2,22,3,1,1,2,2,3,12,3,4,1,8,1]
[{"$nulls":3},"男","",null,3,3,2,3,3,4,3,3,3,27,5,5,5,5,5,5,30,4,3,3,10,4]
[{"$nulls":3},"男","",null,2,2,3,3,4,3,3,3,3,26,4,3,2,4,4,4,21,3,2,5,10,4]
[{"$nulls":3},"男","",null,3,3,2,3,3,4,2,3,3,26,4,4,3,3,5,2,21,4,3,3,10,4]
[{"$nulls":3},"女","",null,3,3,3,3,3,4,2,2,3,26,2,3,3,5,3,4,20,4,3,3,10,3]
[{"$nulls":3},"女","","高ストレス",2,1,1,1,2,3,3,3,5,21,4,1,1,1,2,1,10,3,3,5,11,4]
[{"$nulls":3},"女","","高ストレス",3,2,2,1,1,3,2,3,3,20,3,2,2,2,1,1,11,2,1,1,4,3]
[{"$nulls":3},"男","","高ストレス",2,2,2,3,4,2,4,2,2,23,2,1,1,1,2,2,9,5,4,3,12,2]
[{"$nulls":3},"女","",null,3,3,3,3,3,4,2,2,2,25,2,2,2,3,2,3,14,4,4,5,13,3]
[{"$nulls":3},"女","",null,2,2,2,2,5,3,2,2,2,22,3,1,2,4,3,4,17,3,3,4,10,3]
[{"$nulls":3},"女","",null,3,3,3,2,2,4,3,3,3,26,2,2,3,3,3,5,18,3,3,3,9,3]
[{"$nulls":3},"女","",null,3,3,2,4,5,5,4,3,3,32,4,4,5,4,5,5,27,4,4,2,10,5]
[{"$nulls":3},"女","","高ストレス",2,2,1,3,3,3,2,1,2,19,2,3,2,1,1,2,11,3,1,4,8,2]
[{"$nulls":3},"男","",null,3,3,3,3,3,4,2,5,3,29,4,3,3,3,3,3,19,4,4,5,13,4]
[{"$nulls":3},"女","",null,3,4,2,3,5,4,3,3,3,30,4,3,4,3,3,4,21,5,2,4,11,3]
[{"$nulls":3},"男","",null,2,4,2,3,2,5,2,5,3,28,3,2,3,4,3,3,18,2,2,4,8,4]
[{"$nulls":3},"男","",null,3,3,2,4,4,5,4,5,5,35,5,3,2,2,3,2,17,5,5,5,15,5]
[{"$nulls":3},"女","",null,3,2,2,4,2,3,3,3,3,25,3,4,3,3,4,4,21,5,3,4,12,3]
[{"$nulls":3},"男","",null,4,2,2,2,3,3,3,3,3,25,4,3,2,3,2,4,18,4,3,4,11,3]
[{"$nulls":3},"女","",null,2,2,2,2,3,3,2,5,5,26,4,2,3,3,3,2,17,5,2,4,11,3]
[{"$nulls":3},"男","",null,1,2,1,3,3,2,3,3,3,21,3,3,2,2,2,4,16,3,1,3,7,2]
[{"$nulls":3},"男","","高ストレス",2,3,1,2,3,3,2,2,2,20,3,2,3,2,2,1,13,2,2,1,5,2]
[{"$nulls":3},"男","",null,3,3,3,4,2,4,3,3,3,28,4,3,4,3,5,3,22,3,2,5,10,3]
[{"$nulls":3},"男","",null,3,3,3,3,4,4,4,3,5,32,3,2,3,3,3,3,17,4,4,4,12,5]
[{"$nulls":3},"女","",null,3,2,4,4,5,3,1,5,5,32,5,5,4,4,3,5,26,4,3,3,10,5]
[{"$nulls":3},"男","",null,4,3,2,2,1,5,3,3,3,26,3,2,3,4,4,3,19,1,2,5,8,4]
[{"$nulls":3},"男","","高ストレス",1,2,2,2,2,3,3,3,3,21,4,1,3,1,2,1,12,2,3,3,8,3]
[{"$nulls":3},"女","",null,2,2,2,3,3,3,2,3,3,23,5,2,5,5,3,5,25,4,3,4,11,4]
[{"$nulls":3},"男","",null,2,3,3,2,3,4,3,3,3,26,3,2,3,3,2,3,16,2,2,3,7,3]
[{"$nulls":3},"男","","高ストレス",1,1,1,2,1,2,2,1,1,12,1,1,1,1,1,1,6,3,2,3,8,3]
[{"$nulls":3},"男","",null,1,2,2,4,3,2,4,3,3,24,1,3,3,3,3,2,15,2,1,3,6,3]
[{"$nulls":3},"男","",null,3,3,1,3,3,2,2,5,5,27,5,1,1,2,3,2,14,2,2,1,5,3]
[{"$nulls":3},"男","",null,3,3,1,3,2,3,3,5,5,28,3,3,2,2,2,2,14,2,2,3,7,2]
[{"$nulls":3},"女","","高ストレス",1,1,2,2,5,3,2,3,3,22,2,2,2,2,2,2,12,2,2,4,8,4]
[{"$nulls":3},"女","",null,3,2,3,3,2,4,3,3,3,26,3,3,2,3,3,3,17,4,3,3,10,3]
[{"$nulls":3},"男","","高ストレス",2,3,2,2,3,1,2,2,1,18,2,1,3,2,1,2,11,1,1,2,4,3]
[{"$nulls":3},"男","","高ストレス",3,2,1,2,1,5,2,5,5,26,4,1,1,1,3,1,11,4,2,3,9,5]
[{"$nulls":3},"男","",null,2,2,2,2,4,3,4,2,3,24,2,2,2,3,4,3,16,2,2,5,9,2]
[{"$nulls":3},"女","",null,1,2,2,3,1,3,2,2,3,19,3,3,1,2,2,3,14,5,4,4,13,2]
[{"$nulls":3},"男","",null,3,4,2,2,4,4,3,3,3,28,3,2,3,3,3,2,16,4,3,4,11,3]
[{"$nulls":3},"男","",null,4,3,2,4,3,2,3,3,3,27,4,5,2,3,4,4,22,4,4,5,13,4]
[{"$nulls":3},"女","",null,2,2,2,4,3,3,3,3,3,25,3,3,3,3,3,5,20,4,4,5,13,3]
[{"$nulls":3},"女","",null,1,2,4,3,5,3,2,2,2,24,2,3,2,3,3,4,17,4,4,4,12,2]
[{"$nulls":3},"女","",null,3,3,1,3,3,3,3,2,2,23,2,4,3,5,4,3,21,4,3,4,11,3]
[{"$nulls":3},"男","",null,2,3,4,3,4,3,3,5,5,32,4,4,5,3,5,5,26,4,3,5,12,5]
[{"$nulls":3},"女","",null,3,3,2,3,5,4,2,3,3,28,4,4,4,5,3,4,24,4,4,5,13,3]
[{"$nulls":3},"男","",null,2,3,2,4,2,3,3,3,3,25,4,4,3,3,3,3,20,2,3,2,7,3]
[{"$nulls":3},"男","",null,3,3,1,3,3,4,3,3,3,26,3,3,3,3,3,2,17,2,2,2,6,3]
[{"$nulls":3},"男","",null,1,2,2,3,2,3,4,3,3,23,3,3,3,4,4,4,21,3,4,2,9,3]
[{"$nulls":3},"男","","高ストレス",3,3,2,1,2,2,3,1,1,18,1,2,2,2,2,3,12,2,1,1,4,2]
[{"$nulls":3},"男","",null,3,3,3,2,3,4,3,3,3,27,3,3,3,3,4,4,20,2,1,1,4,3]
[{"$nulls":3},"女","",null,3,4,3,3,3,3,2,3,3,27,4,3,5,3,5,5,25,3,2,1,6,3]
[{"$nulls":3},"男","",null,4,2,4,3,2,4,3,3,3,28,3,3,3,3,4,3,19,2,2,4,8,3]
[{"$nulls":3},"男","","高ストレス",1,2,1,1,2,2,2,1,1,13,1,2,1,1,2,1,8,2,2,1,5,1]
[{"$nulls":3},"男","",null,3,3,2,3,2,1,2,1,2,19,1,2,2,2,3,3,13,2,2,4,8,3]
[{"$nulls":3},"男","","高ストレス",3,1,3,2,2,4,4,3,3,25,3,1,2,2,1,1,10,3,2,2,7,3]
[{"$nulls":3},"男","",null,3,3,1,1,2,3,3,3,2,21,4,2,2,2,2,3,15,3,2,4,9,2]
[{"$nulls":3},"男","","高ストレス",2,2,1,2,1,1,3,1,1,14,1,1,5,3,3,2,15,2,1,4,7,1]
[{"$nulls":3},"男","",null,3,3,4,3,4,4,3,3,3,30,2,2,3,3,3,3,16,3,2,1,6,3]
[{"$nulls":3},"男","",null,3,3,3,3,3,4,3,3,3,28,3,3,3,3,3,3,18,3,3,5,11,3]
[{"$nulls":3},"男","",null,5,3,3,4,2,3,2,3,3,28,3,4,3,3,4,4,21,2,3,5,10,3]
[{"$nulls":3},"男","",null,4,3,3,2,2,3,3,3,3,26,2,3,3,3,2,3,16,3,2,1,6,3]
[{"$nulls":3},"男","","高ストレス",2,3,2,4,2,4,4,2,2,25,2,1,1,3,2,2,11,3,3,4,10,3]
[{"$nulls":3},"男","",null,3,4,3,3,3,4,4,3,3,30,3,3,3,3,3,3,18,3,2,1,6,2]
[{"$nulls":3},"男","","高ストレス",2,3,2,4,2,3,4,3,3,26,4,2,1,1,2,2,12,4,3,3,10,3]
[{"$nulls":3},"女","","高ストレス",2,2,4,2,5,2,2,2,3,24,1,2,1,2,1,3,10,3,3,5,11,3]
[{"$nulls":3},"男","",null,1,1,2,4,3,5,3,5,5,29,5,5,4,3,5,4,26,5,5,5,15,5]
[{"$nulls":3},"男","","高ストレス",1,2,3,3,1,4,4,2,3,23,1,1,1,1,1,1,6,4,2,2,8,3]
[{"$nulls":3},"女","",null,3,3,3,3,3,4,3,3,3,28,4,4,4,3,4,4,23,4,3,2,9,3]
[{"$nulls":3},"男","",null,3,3,3,3,2,4,3,3,3,27,3,4,3,3,3,3,19,3,2,2,7,3]
[{"$nulls":3},"男","",null,4,3,2,3,2,4,3,2,3,26,3,3,2,5,4,3,20,4,4,4,12,4]
[{"$nulls":3},"男","",null,3,4,3,3,3,5,3,3,3,30,5,2,3,3,4,4,21,5,5,5,15,3]
[{"$nulls":3},"男","","高ストレス",4,2,4,1,4,3,3,2,2,25,3,1,2,1,2,1,10,3,2,1,6,2]
[{"$nulls":3},"男","",null,2,3,1,4,2,3,2,3,3,23,3,2,3,3,3,3,17,4,2,2,8,3]
[{"$nulls":3},"男","",null,3,3,2,4,2,4,3,3,5,29,5,4,2,2,2,1,16,4,4,3,11,3]
[{"$nulls":3},"男","",null,3,4,2,4,3,4,3,3,3,29,3,3,3,4,5,3,21,4,3,2,9,3]
[{"$nulls":3},"男","","高ストレス",4,3,3,2,3,4,3,3,3,28,2,1,2,2,2,3,12,3,1,1,5,3]
[{"$nulls":3},"男","",null,2,2,2,3,2,3,3,3,2,22,3,2,3,3,2,2,15,3,3,3,9,2]
[{"$nulls":3},"女","",null,3,3,4,5,3,5,3,5,3,34,1,4,3,3,2,1,14,4,5,5,14,3]
[{"$nulls":3},"男","","高ストレス",2,2,2,3,4,4,3,2,2,24,3,2,2,1,2,1,11,3,2,4,9,3]
[{"$nulls":3},"男","",null,3,3,3,3,3,4,3,3,3,28,3,5,3,4,4,3,22,3,3,2,8,3]
[{"$nulls":3},"女","",null,3,3,1,1,3,3,3,3,3,23,4,2,3,5,3,1,18,1,2,5,8,3]
[{"$nulls":3},"男","",null,4,4,2,4,4,3,3,3,3,30,3,5,4,3,4,4,23,4,4,2,10,3]
[{"$nulls":3},"男","",null,3,2,3,3,3,3,3,3,3,26,3,2,3,2,3,3,16,2,2,5,9,4]
[{"$nulls":3},"男","",null,5,4,4,3,3,4,3,3,3,32,5,3,4,5,5,4,26,4,3,5,12,4]
[{"$nulls":3},"女","",null,2,1,2,3,2,5,3,5,5,28,1,3,2,3,4,3,16,4,3,4,11,5]
[{"$nulls":3},"女","",null,4,2,4,4,3,3,4,3,3,30,5,4,4,5,4,4,26,4,3,2,9,4]
[{"$nulls":3},"女","",null,3,2,2,3,2,4,4,5,5,30,2,2,3,3,2,2,14,3,2,1,6,3]
[{"$nulls":3},"男","",null,2,3,3,4,4,4,4,5,5,34,4,3,3,3,3,2,18,4,3,4,11,5]
[{"$nulls":3},"女","",null,4,3,3,4,5,3,4,3,3,32,3,4,4,5,4,4,24,4,4,5,13,4]
[{"$nulls":3},"男","",null,3,4,3,2,3,3,3,3,2,26,3,2,3,3,4,3,18,2,2,3,7,3]
[{"$nulls":3},"女","",null,3,3,4,3,2,3,3,3,3,27,1,3,3,3,2,4,16,4,3,3,10,3]
[{"$nulls":3},"女","",null,5,5,4,5,5,4,3,3,2,36,3,3,5,5,5,5,26,3,3,3,9,3]
[{"$nulls":3},"女","",null,3,3,3,3,3,3,2,3,3,26,3,3,3,3,3,4,19,3,2,5,10,3]
[{"$nulls":3},"男","",null,4,4,3,2,3,3,3,3,2,27,3,3,3,3,3,3,18,4,3,4,11,4]
[{"$nulls":3},"男","",null,4,3,3,3,4,4,2,3,3,29,2,2,3,3,4,3,17,2,2,5,9,4]
[{"$nulls":3},"女","",null,4,3,4,4,5,4,2,5,5,36,5,2,1,3,3,2,16,3,3,4,10,4]
[{"$nulls":3},"男","",null,5,4,4,3,4,3,1,2,2,28,1,3,3,3,3,3,16,2,1,3,6,3]
[{"$nulls":3},"男","","高ストレス",3,3,3,4,4,3,3,3,3,29,3,2,2,2,1,2,12,4,3,3,10,3]
[{"$nulls":3},"男","",null,5,3,3,1,1,2,2,3,3,23,1,5,5,5,5,3,24,2,1,5,8,3]
[{"$nulls":3},"男","",null,2,2,4,3,4,3,4,3,5,30,2,4,2,3,3,3,17,2,2,3,7,3]
[{"$nulls":3},"男","",null,3,3,2,3,4,3,3,3,3,27,4,3,4,3,4,4,22,4,3,3,10,3]
[{"$nulls":3},"女","",null,3,2,4,3,3,3,3,3,3,27,1,3,2,3,2,2,13,3,2,4,9,3]
[{"$nulls":3},"男","","高ストレス",5,5,4,3,4,1,4,1,1,28,5,1,1,1,1,1,10,1,1,1,3,1]
[{"$nulls":3},"女","",null,3,3,3,3,5,4,3,5,5,34,5,5,5,5,5,5,30,3,2,5,10,5]
[{"$nulls":3},"男","",null,3,4,3,3,3,3,3,3,3,28,3,3,4,3,4,3,20,4,3,3,10,3]
[{"$nulls":3},"女","",null,5,5,4,5,5,5,4,5,5,43,5,5,5,5,5,5,30,5,5,5,15,5]
[{"$nulls":3},"男","",null,4,5,3,4,4,4,2,2,2,30,2,5,4,3,4,3,21,4,3,3,10,3]
[{"$nulls":3},"男","",null,4,4,4,4,4,3,4,2,5,34,4,5,4,4,5,3,25,4,3,4,11,4]
[{"$nulls":3},"女","",null,3,4,4,3,3,4,3,3,3,30,3,4,4,4,3,4,22,3,2,4,9,3]
[{"$nulls":3},"女","",null,4,4,4,4,5,3,3,3,3,33,4,4,4,4,4,3,23,4,4,3,11,4]
[{"$nulls":3},"男","",null,3,2,4,4,4,3,3,5,5,33,3,5,5,5,5,4,27,4,3,3,10,3]
[{"$nulls":3},"男","",null,3,3,2,3,2,2,3,1,2,21,3,2,3,3,4,2,17,3,3,3,9,3]
[{"$nulls":3},"男","",null,2,2,1,3,4,3,3,3,3,24,3,2,2,2,3,3,15,4,1,4,9,3]
[{"$nulls":3},"男","",null,3,2,4,3,4,3,4,2,2,27,1,2,3,3,3,3,15,2,2,1,5,2]
[{"$nulls":3},"男","",null,3,3,2,3,3,3,3,3,3,26,2,3,3,3,3,3,17,3,2,2,7,2]
[{"$nulls":3},"男","","高ストレス",3,3,2,3,3,2,2,2,2,22,4,2,2,1,1,2,12,2,2,3,7,3]
[{"$nulls":3},"男","",null,2,3,2,3,1,4,2,5,3,25,4,2,2,2,3,2,15,2,2,3,7,3]
[{"$nulls":3},"男","","高ストレス",1,2,1,3,1,2,2,3,3,18,3,1,1,1,2,1,9,4,3,5,12,3]
[{"$nulls":3},"女","",null,3,2,4,3,3,2,2,3,3,25,1,3,4,3,4,3,18,3,2,4,9,3]
[{"$nulls":3},"男","","高ストレス",2,2,2,3,2,1,4,3,3,22,3,3,3,3,3,2,17,2,1,1,4,2]
[{"$nulls":3},"男","",null,3,3,4,3,1,3,3,3,3,26,1,3,3,5,4,2,18,2,2,5,9,4]
[{"$nulls":3},"男","","高ストレス",2,2,1,3,2,3,2,2,1,18,1,3,2,2,3,3,14,3,1,4,8,3]
[{"$nulls":3},"男","","高ストレス",2,3,1,2,1,2,2,2,1,16,1,2,1,3,2,1,10,3,1,2,6,1]
[{"$nulls":3},"男","",null,3,2,2,2,3,4,3,5,5,29,3,3,3,3,4,2,18,5,1,5,11,3]
[{"$nulls":3},"男","",null,4,5,1,4,3,3,3,3,3,29,4,3,3,3,3,2,18,4,3,5,12,4]
[{"$nulls":3},"男","","高ストレス",1,1,1,3,3,3,2,2,2,18,3,3,3,2,3,3,17,3,3,2,8,2]
[{"$nulls":3},"男","",null,3,4,4,4,3,4,3,3,3,31,3,2,3,3,4,3,18,3,2,5,10,4]
[{"$nulls":3},"女","",null,3,4,3,4,3,3,2,3,3,28,3,3,2,3,3,2,16,4,2,4,10,3]
[{"$nulls":3},"男","",null,2,3,2,3,1,3,3,3,3,23,3,2,3,4,4,4,20,1,1,1,3,3]
[{"$nulls":3},"男","","高ストレス",3,3,1,1,1,1,1,1,1,13,1,3,1,1,1,1,8,1,1,1,3,1]
[{"$nulls":3},"男","",null,3,2,1,2,2,2,4,3,2,21,2,2,3,3,5,5,20,2,2,3,7,3]
[{"$nulls":3},"女","","高ストレス",3,2,2,4,3,3,2,3,3,25,1,3,2,1,1,1,9,5,1,1,7,3]
[{"$nulls":3},"男","","高ストレス",2,3,2,3,1,2,2,1,2,18,1,2,2,3,3,2,13,1,1,2,4,2]
[{"$nulls":3},"男","",null,5,5,4,3,4,1,4,1,1,28,5,1,1,1,1,5,14,5,5,5,15,5]
[{"$nulls":3},"男","",null,1,2,1,4,3,4,2,3,3,23,4,4,3,3,3,4,21,5,4,5,14,3]
[{"$nulls":3},"男","","高ストレス",3,4,2,2,2,3,3,2,2,23,1,2,2,2,1,3,11,2,1,3,6,2]
[{"$nulls":3},"女","",null,4,3,4,4,5,4,3,5,3,35,5,5,5,5,5,5,30,4,3,5,12,5]
[{"$nulls":3},"女","",null,2,2,1,4,3,3,2,1,3,21,2,4,2,2,2,1,13,3,2,4,9,2]
[{"$nulls":3},"女","",null,3,2,3,4,5,4,3,3,3,30,3,3,3,2,2,5,18,5,5,5,15,5]
[{"$nulls":3},"男","",null,4,4,3,4,3,3,2,2,1,26,2,5,5,2,3,4,21,4,3,1,8,3]
[{"$nulls":3},"男","",null,4,3,4,4,4,2,1,1,5,28,1,2,3,3,4,4,17,3,2,5,10,2]
[{"$nulls":3},"女","",null,2,2,3,4,2,4,3,2,3,25,2,4,2,2,1,3,14,4,4,5,13,3]
[{"$nulls":3},"女","",null,4,3,3,3,3,3,3,2,3,27,4,3,3,4,3,4,21,4,3,4,11,3]
[{"$nulls":3},"女","",null,2,3,1,4,2,3,2,3,3,23,3,5,4,4,5,5,26,4,2,3,9,4]
[{"$nulls":3},"男","",null,3,3,2,3,3,2,3,3,3,25,4,4,2,3,3,3,19,3,2,3,8,3]
[{"$nulls":3},"男","",null,3,2,2,3,3,4,3,3,3,26,3,3,3,3,5,4,21,3,2,2,7,3]
[{"$nulls":3},"男","",null,2,2,2,3,3,4,3,3,3,25,4,3,2,2,3,2,16,3,2,1,6,3]
[{"$nulls":3},"男","",null,3,3,1,3,3,4,2,3,3,25,4,4,3,2,3,1,17,2,2,2,6,3]
[{"$nulls":3},"男","",null,3,2,2,3,1,2,2,3,3,21,4,4,3,2,3,3,19,4,3,1,8,2]
[{"$nulls":3},"男","",null,2,2,1,3,1,3,2,2,2,18,3,3,2,3,4,3,18,2,3,2,7,2]
[{"$nulls":3},"男","",null,3,3,2,3,2,3,3,3,3,25,3,3,3,3,3,3,18,4,4,2,10,3]
[{"$nulls":3},"女","",null,2,3,4,3,2,4,4,3,3,28,2,3,3,4,3,3,18,2,2,2,6,1]
[{"$nulls":3},"男","","高ストレス",1,3,2,4,2,2,3,3,1,21,1,1,1,2,1,1,7,2,2,3,7,3]
[{"$nulls":3},"男","",null,4,3,2,3,1,2,2,3,2,22,3,4,3,3,3,3,19,2,2,2,6,3]
[{"$nulls":3},"男","",null,3,4,2,3,3,4,2,3,2,26,2,3,2,3,3,3,16,3,3,4,10,3]
[{"$nulls":3},"男","",null,2,3,1,4,1,3,3,5,5,27,4,3,1,2,2,1,13,5,5,4,14,4]
[{"$nulls":3},"男","",null,2,3,2,4,3,2,3,3,5,27,4,3,2,2,3,3,17,4,4,5,13,4]
[{"$nulls":3},"男","","高ストレス",4,3,1,2,1,1,2,2,2,18,1,5,1,3,2,3,15,2,1,3,6,3]
[{"$nulls":3},"男","",null,2,2,3,3,2,4,3,3,3,25,3,2,2,3,3,4,17,5,4,4,13,3]
[{"$nulls":3},"男","",null,1,2,3,3,3,3,3,2,3,23,2,3,2,1,4,2,14,3,3,4,10,3]
[{"$nulls":3},"男","","高ストレス",3,3,1,3,1,3,2,2,2,20,2,2,2,2,3,1,12,3,2,2,7,2]
[{"$nulls":3},"男","",null,3,2,1,2,1,3,2,3,3,20,2,4,2,4,4,3,19,2,3,5,10,4]
[{"$nulls":3},"男","","高ストレス",1,3,1,5,1,3,3,5,2,24,2,1,1,2,1,1,8,3,3,5,11,2]
[{"$nulls":3},"男","",null,3,3,2,3,2,3,3,3,3,25,1,2,3,4,3,2,15,3,3,2,8,3]
[{"$nulls":3},"男","","高ストレス",2,3,1,2,1,4,3,2,1,19,1,1,1,1,1,1,6,2,1,1,4,1]
[{"$nulls":3},"男","",null,3,2,2,3,2,4,3,5,3,27,2,3,2,3,3,2,15,3,2,4,9,3]
[{"$nulls":3},"男","",null,3,2,2,2,2,2,3,3,3,22,1,1,2,4,3,3,14,2,2,2,6,3]
[{"$nulls":3},"女","",null,3,3,2,3,1,3,2,2,3,22,3,2,2,3,2,3,15,4,2,1,7,1]
[{"$nulls":3},"女","",null,3,4,4,4,3,4,3,3,2,30,2,2,3,4,3,3,17,4,3,3,10,3]
[{"$nulls":3},"男","",null,3,5,2,3,1,1,2,3,2,22,1,4,2,4,3,1,15,2,1,5,8,3]
[{"$nulls":3},"女","","高ストレス",1,2,1,1,1,2,1,1,1,11,1,3,1,2,2,2,11,1,1,5,7,3]
[{"$nulls":3},"女","","高ストレス",3,3,4,3,3,3,2,3,2,26,1,4,1,3,1,1,11,2,2,3,7,2]
[{"$nulls":3},"女","",null,3,4,1,3,2,3,3,3,3,25,2,1,2,3,4,2,14,5,1,1,7,1]
[{"$nulls":3},"男","",null,3,3,2,3,3,3,2,3,5,27,4,3,2,2,3,3,17,4,2,4,10,3]
[{"$nulls":3},"男","",null,2,2,1,4,3,3,4,3,3,25,3,3,2,3,4,3,18,2,3,1,6,2]
[{"$nulls":3},"男","",null,2,3,1,3,2,3,3,3,3,23,3,2,1,3,2,2,13,4,3,5,12,3]
[{"$nulls":3},"男","",null,3,3,3,3,3,3,2,3,2,25,3,3,3,3,3,3,18,2,2,4,8,3]
[{"$nulls":3},"男","","高ストレス",3,3,1,1,1,3,1,1,1,15,1,1,1,1,1,1,6,2,2,3,7,3]
[{"$nulls":3},"女","","高ストレス",1,2,1,1,1,3,2,1,1,13,2,1,1,1,1,2,8,2,4,5,11,3]
[{"$nulls":3},"女","",null,3,4,1,3,1,4,3,3,3,25,2,3,2,3,3,2,15,3,2,3,8,3]
[{"$nulls":3},"女","",null,4,4,3,3,3,4,3,2,3,29,4,1,3,3,2,1,14,4,3,3,10,2]
[{"$nulls":3},"女","",null,3,3,3,3,2,3,3,3,2,25,3,3,3,3,3,2,17,3,2,2,7,3]
[{"$nulls":3},"女","",null,2,2,1,4,5,3,2,3,3,25,3,3,3,4,4,3,20,5,5,5,15,3]
[{"$nulls":3},"男","",null,3,1,1,5,3,3,3,3,5,27,5,3,1,3,5,4,21,4,4,4,12,3]
[{"$nulls":3},"男","",null,3,2,2,4,2,4,4,3,2,26,3,5,3,5,3,4,23,3,3,1,7,3]
[{"$nulls":3},"男","",null,3,2,2,4,4,5,3,5,2,30,4,3,2,3,2,2,16,4,2,4,10,5]
[{"$nulls":3},"男","","高ストレス",1,3,3,2,2,4,2,3,1,21,3,2,1,1,1,3,11,3,3,5,11,2]
[{"$nulls":3},"男","",null,2,4,2,3,2,5,3,5,3,29,4,1,2,2,2,2,13,4,3,4,11,3]
[{"$nulls":3},"男","","高ストレス",3,4,1,4,2,2,4,5,3,28,4,1,2,2,1,1,11,5,4,3,12,3]
[{"$nulls":3},"女","",null,3,3,3,4,5,3,3,3,3,30,3,4,3,3,4,4,21,4,2,5,11,4]
[{"$nulls":3},"男","","高ストレス",2,2,2,4,2,2,3,3,2,22,2,3,1,1,4,1,12,5,3,4,12,4]
[{"$nulls":3},"男","",null,3,1,3,2,2,2,1,1,3,18,2,4,3,2,1,1,13,4,2,4,10,2]
[{"$nulls":3},"男","",null,3,3,3,3,3,4,3,3,3,28,4,3,3,4,3,2,19,3,2,1,6,2]
[{"$nulls":3},"男","","高ストレス",1,2,4,4,4,3,2,3,3,26,1,4,1,1,3,1,11,1,3,5,9,4]
[{"$nulls":3},"男","",null,4,2,3,3,3,4,3,2,2,26,2,2,3,3,3,2,15,2,3,3,8,3]
[{"$nulls":3},"男","","高ストレス",2,3,2,1,1,3,4,1,1,18,1,1,1,1,1,1,6,1,2,1,4,1]
[{"$nulls":3},"男","","高ストレス",1,1,2,4,4,3,1,3,3,22,1,1,1,1,2,1,7,5,5,5,15,4]
[{"$nulls":3},"女","","高ストレス",2,2,2,2,2,3,3,2,2,20,1,3,2,1,2,2,11,4,3,1,8,2]
[{"$nulls":3},"男","","高ストレス",1,2,1,4,3,1,2,1,1,16,2,2,3,1,2,4,14,3,2,4,9,1]
[{"$nulls":3},"男","",null,3,3,3,4,2,4,3,3,3,28,5,4,3,4,4,3,23,3,2,5,10,4]
[{"$nulls":3},"男","","高ストレス",2,4,2,2,2,3,2,2,3,22,2,1,2,3,2,2,12,4,2,1,7,3]
[{"$nulls":3},"男","",null,3,2,2,3,3,2,3,3,3,24,3,3,3,3,3,4,19,4,3,5,12,4]
[{"$nulls":3},"男","",null,2,4,1,3,2,4,3,3,3,25,3,4,2,2,4,2,17,4,2,3,9,3]
[{"$nulls":3},"男","",null,3,3,2,4,3,4,2,5,3,29,3,5,3,3,4,4,22,5,5,4,14,3]
[{"$nulls":3},"男","",null,2,1,1,3,1,3,3,5,5,24,3,3,3,3,3,1,16,2,2,5,9,4]
[{"$nulls":3},"男","",null,4,3,2,2,2,3,3,3,3,25,3,3,3,3,2,2,16,4,1,3,8,3]
[{"$nulls":3},"男","",null,3,2,1,3,2,2,4,3,3,23,4,3,3,3,2,3,18,3,1,4,8,2]
[{"$nulls":3},"男","","高ストレス",3,4,2,2,2,2,3,2,2,22,3,2,2,2,1,2,12,2,2,2,6,2]
[{"$nulls":3},"男","",null,3,4,1,4,3,4,3,5,3,30,4,3,2,3,3,2,17,3,5,5,13,5]
[{"$nulls":3},"男","","高ストレス",1,3,2,2,1,2,2,3,1,17,1,1,2,3,2,2,11,1,1,1,3,1]
[{"$nulls":3},"男","",null,3,3,3,3,3,4,2,3,5,29,4,2,3,2,3,3,17,4,2,3,9,4]
[{"$nulls":3},"男","","高ストレス",2,3,3,3,2,4,3,5,2,27,3,1,2,3,1,2,12,3,3,2,8,2]
[{"$nulls":3},"男","","高ストレス",2,2,2,2,3,3,3,2,1,20,4,2,3,3,3,2,17,1,2,3,6,2]
[{"$nulls":3},"男","",null,3,3,2,4,3,3,3,3,3,27,2,3,3,5,3,3,19,3,2,5,10,3]
[{"$nulls":3},"男","",null,3,3,3,2,4,3,3,2,1,24,3,2,3,3,2,3,16,2,4,5,11,3]
[{"$nulls":3},"男","",null,3,3,3,3,2,4,3,3,3,27,3,3,3,3,3,3,18,3,2,2,7,3]
[{"$nulls":3},"男","",null,3,3,2,4,4,4,3,3,3,29,4,4,3,3,5,5,24,5,4,3,12,3]
[{"$nulls":3},"男","",null,2,3,2,2,3,3,2,2,1,20,3,2,2,3,3,3,16,2,3,3,8,3]
[{"$nulls":3},"男","",null,3,4,3,4,4,4,2,3,3,30,3,3,3,4,3,3,19,4,3,3,10,3]
[{"$nulls":3},"男","",null,2,3,3,3,3,2,2,2,2,22,1,2,3,3,2,3,14,2,2,1,5,2]
[{"$nulls":3},"女","",null,4,3,3,3,3,3,3,3,3,28,4,2,2,2,2,3,15,4,2,5,11,3]
[{"$nulls":3},"女","",null,3,4,3,3,3,3,4,3,3,29,4,3,5,3,3,3,21,3,3,1,7,3]
[{"$nulls":3},"男","",null,3,3,1,3,2,3,2,3,3,23,3,3,3,2,3,3,17,4,4,4,12,3]
[{"$nulls":3},"男","","高ストレス",3,3,3,3,4,4,3,5,3,31,1,2,1,1,1,1,7,2,2,2,6,2]
[{"$nulls":3},"男","",null,3,3,1,3,2,2,2,2,3,21,2,5,2,2,2,2,15,2,2,2,6,1]
[{"$nulls":3},"男","",null,2,4,3,3,2,3,2,3,3,25,3,3,3,4,4,3,20,4,4,4,12,3]
[{"$nulls":3},"女","",null,3,2,3,3,3,4,3,3,3,27,3,3,2,3,1,3,15,3,3,5,11,3]
[{"$nulls":3},"男","",null,4,4,3,2,4,2,2,3,5,29,4,3,3,3,3,4,20,3,3,4,10,3]
[{"$nulls":3},"女","",null,2,3,2,4,3,3,3,3,3,26,3,3,3,3,3,3,18,3,2,2,7,3]
[{"$nulls":3},"女","","高ストレス",1,3,4,4,2,3,3,3,2,25,3,1,3,3,1,1,12,4,4,5,13,3]
[{"$nulls":3},"女","",null,4,5,3,4,5,3,2,1,2,29,2,3,3,3,3,3,17,3,2,5,10,4]
[{"$nulls":3},"女","",null,2,1,4,4,5,4,4,5,5,34,3,3,2,3,3,2,16,4,2,4,10,3]
[{"$nulls":3},"女","",null,4,3,3,3,5,5,2,3,3,31,3,3,3,3,3,3,18,4,3,4,11,3]
[{"$nulls":3},"男","",null,2,3,4,4,3,3,3,3,3,28,3,5,4,3,3,4,22,4,4,5,13,4]
[{"$nulls":3},"女","",null,4,4,2,3,3,3,3,3,3,28,3,5,4,3,4,5,24,4,3,3,10,3]
[{"$nulls":3},"男","",null,2,2,1,3,1,2,2,3,3,19,3,2,1,3,3,3,15,3,1,5,9,3]
[{"$nulls":3},"男","",null,1,3,3,3,3,4,3,3,3,26,3,2,3,1,3,3,15,1,1,2,4,2]
[{"$nulls":3},"女","",null,3,3,2,2,3,3,3,3,3,25,3,2,3,3,3,2,16,3,2,5,10,3]
[{"$nulls":3},"男","","高ストレス",4,3,2,1,1,3,1,2,1,18,1,3,1,2,1,1,9,1,1,2,4,3]
[{"$nulls":3},"男","","高ストレス",1,3,1,2,2,3,2,2,1,17,2,1,1,4,4,3,15,2,1,3,6,3]
[{"$nulls":3},"男","",null,3,2,3,3,2,3,3,2,2,23,3,2,3,3,3,4,18,1,2,5,8,2]
[{"$nulls":3},"女","",null,3,3,2,3,2,3,3,3,3,25,3,3,4,4,3,4,21,4,3,5,12,3]
[{"$nulls":3},"男","",null,3,3,2,3,2,4,2,3,3,25,2,2,3,2,3,2,14,4,3,4,11,3]
[{"$nulls":3},"男","",null,3,3,2,3,2,2,3,2,2,22,1,3,3,2,3,2,14,2,2,1,5,2]
[{"$nulls":3},"男","",null,3,4,3,4,3,2,3,5,5,32,5,3,5,5,5,3,26,5,3,5,13,5]
[{"$nulls":3},"男","",null,3,3,1,3,1,2,3,2,2,20,1,4,3,4,5,5,22,2,2,3,7,3]
[{"$nulls":3},"男","","高ストレス",4,3,1,2,2,2,2,3,1,20,1,3,3,3,3,4,17,1,1,3,5,2]
[{"$nulls":3},"男","",null,4,4,3,4,4,3,3,3,3,31,4,4,4,4,5,3,24,5,4,4,13,3]
[{"$nulls":3},"男","",null,3,3,1,2,3,2,2,3,3,22,3,3,3,3,2,2,16,2,2,2,6,3]
[{"$nulls":3},"男","",null,3,4,2,3,1,3,1,5,3,25,5,3,2,3,3,3,19,5,4,1,10,3]
[{"$nulls":3},"男","","高ストレス",4,4,1,2,2,2,3,2,2,22,1,2,1,4,2,1,11,2,2,4,8,3]
[{"$nulls":3},"男","","高ストレス",1,1,1,1,1,1,1,1,1,9,1,2,1,1,1,1,7,2,2,1,5,1]
[{"$nulls":3},"男","",null,2,3,3,3,2,4,4,3,3,27,4,3,2,3,2,2,16,3,2,4,9,3]
[{"$nulls":3},"男","",null,3,3,2,2,2,3,3,3,2,23,3,3,3,3,3,2,17,2,2,1,5,3]
[{"$nulls":3},"女","",null,3,2,4,2,5,4,4,3,3,30,1,2,2,3,3,3,14,3,2,3,8,3]
[{"$nulls":3},"男","",null,4,3,2,3,3,4,3,3,3,28,3,4,3,3,2,2,17,3,1,1,5,3]
[{"$nulls":3},"男","","高ストレス",3,1,2,3,1,3,4,5,2,24,2,5,1,1,1,1,11,1,3,5,9,3]
[{"$nulls":3},"男","",null,3,3,2,3,2,3,4,3,2,25,3,4,3,3,5,2,20,4,2,1,7,3]
[{"$nulls":3},"男","",null,3,3,2,2,3,3,3,3,3,25,3,2,2,3,4,4,18,2,1,4,7,3]
[{"$nulls":3},"男","",null,4,4,3,2,3,4,3,3,3,29,3,3,3,3,3,4,19,3,2,2,7,3]
[{"$nulls":3},"男","","高ストレス",3,3,3,3,4,3,3,3,3,28,2,2,2,2,1,3,12,2,4,1,7,2]
[{"$nulls":3},"男","",null,3,3,4,3,3,3,3,3,3,28,4,3,3,3,3,3,19,4,3,3,10,3]
[{"$nulls":3},"男","",null,3,3,2,3,3,2,2,2,2,22,2,3,3,3,3,3,17,3,2,4,9,1]
[{"$nulls":3},"男","",null,3,3,2,3,3,3,3,3,3,26,4,5,3,4,5,3,24,4,2,4,10,3]
[{"$nulls":3},"男","",null,4,4,3,5,4,2,2,1,1,26,2,4,3,3,2,3,17,2,4,4,10,3]
[{"$nulls":3},"男","",null,3,4,3,3,3,3,3,2,2,26,3,2,3,3,2,4,17,2,2,5,9,3]
[{"$nulls":3},"男","",null,3,3,2,3,2,3,3,2,3,24,4,2,2,3,2,4,17,4,3,3,10,4]
[{"$nulls":3},"女","",null,4,3,2,5,3,4,3,3,3,30,4,4,4,5,4,5,26,4,3,4,11,3]
[{"$nulls":3},"男","",null,3,2,1,3,3,2,2,3,3,22,3,3,2,3,3,1,15,5,5,5,15,3]
[{"$nulls":3},"女","",null,3,3,3,3,5,3,3,5,5,33,3,5,4,5,4,4,25,3,3,5,11,5]
[{"$nulls":3},"女","","高ストレス",4,3,3,3,5,4,3,2,3,30,2,2,2,2,2,2,12,4,3,4,11,3]
[{"$nulls":3},"男","","高ストレス",3,3,1,3,1,4,2,2,3,22,1,3,2,1,2,1,10,3,3,4,10,3]
[{"$nulls":3},"女","","高ストレス",3,1,1,3,3,2,1,2,1,17,1,3,1,1,1,1,8,3,2,1,6,2]
[{"$nulls":3},"女","","高ストレス",4,3,1,2,3,2,3,1,1,20,1,1,2,2,2,2,10,2,2,2,6,3]
[{"$nulls":3},"男","",null,3,4,1,3,2,3,2,2,2,22,3,5,3,5,4,3,23,2,2,5,9,3]
[{"$nulls":3},"男","",null,3,3,1,2,2,4,4,1,1,21,3,4,2,1,1,2,13,2,1,5,8,2]
[{"$nulls":3},"女","","高ストレス",3,3,1,3,2,3,1,1,1,18,1,2,2,3,1,2,11,2,1,4,7,1]
[{"$nulls":3},"女","",null,4,4,2,5,1,3,4,3,1,27,2,3,3,3,2,2,15,3,1,4,8,3]
[{"$nulls":3},"女","",null,3,3,1,3,1,3,3,2,2,21,2,3,3,3,3,2,16,3,3,2,8,3]
[{"$nulls":3},"女","",null,3,3,1,3,3,2,2,2,1,20,1,2,3,2,3,3,14,3,3,3,9,3]
[{"$nulls":3},"男","",null,3,4,3,4,3,2,3,5,3,30,3,2,3,3,4,4,19,3,3,3,9,4]
[{"$nulls":3},"女","",null,5,4,3,4,3,4,2,1,1,27,1,4,3,3,3,3,17,4,2,2,8,2]
[{"$nulls":3},"男","",null,4,3,4,5,4,3,4,3,3,33,4,5,3,5,4,4,25,3,2,1,6,3]
[{"$nulls":3},"女","","高ストレス",2,1,1,3,2,2,1,1,1,14,2,1,3,2,1,2,11,3,2,2,7,1]
[{"$nulls":3},"男","",null,4,5,4,3,2,4,1,1,1,25,2,3,3,3,2,2,15,3,2,2,7,2]
[{"$nulls":3},"男","",null,3,3,1,4,4,3,2,3,3,26,3,2,3,1,3,2,14,3,4,1,8,3]
[{"$nulls":3},"女","","高ストレス",3,2,3,4,5,4,2,3,3,29,2,2,3,1,2,1,11,3,2,5,10,4]
[{"$nulls":3},"女","",null,2,2,3,2,2,3,3,5,3,25,2,3,3,3,2,2,15,1,1,1,3,3]
[{"$nulls":3},"男","",null,2,3,2,2,2,2,3,3,3,22,3,2,3,3,4,4,19,2,2,3,7,3]
[{"$nulls":3},"男","",null,4,4,2,2,3,3,3,5,3,29,3,2,3,3,1,3,15,2,2,4,8,3]
[{"$nulls":3},"男","",null,2,2,1,4,3,5,4,5,5,31,4,3,3,4,5,3,22,4,4,4,12,5]
[{"$nulls":3},"男","",null,4,4,3,3,3,4,4,3,3,31,3,4,4,4,4,4,23,2,2,1,5,3]
[{"$nulls":3},"男","",null,4,3,2,3,3,4,3,5,3,30,3,4,5,3,3,4,22,3,2,2,7,3]
[{"$nulls":3},"男","",null,3,3,3,3,3,3,3,3,3,27,3,2,3,3,2,2,15,3,2,1,6,3]
[{"$nulls":3},"男","",null,3,3,1,2,3,4,3,3,3,25,5,5,3,5,5,4,27,2,1,4,7,4]
[{"$nulls":3},"女","",null,2,2,2,3,3,3,2,2,2,21,3,2,2,3,2,2,14,4,3,4,11,3]
[{"$nulls":3},"女","",null,3,5,1,5,2,5,4,3,2,30,3,3,2,5,4,3,20,5,5,5,15,3]
[{"$nulls":3},"女","",null,3,4,2,3,3,3,3,3,3,27,4,3,3,4,5,3,22,3,2,1,6,3]
[{"$nulls":3},"女","","高ストレス",3,2,2,2,2,2,2,3,3,21,2,1,1,2,1,1,8,5,4,2,11,1]
[{"$nulls":3},"男","",null,5,3,3,4,3,4,3,3,3,31,3,3,3,3,2,2,16,2,1,3,6,3]
[{"$nulls":3},"男","",null,3,4,2,2,3,3,3,3,2,25,2,1,3,3,2,2,13,3,3,1,7,3]
[{"$nulls":3},"男","",null,3,3,3,3,3,4,3,3,3,28,2,3,3,3,3,2,16,2,2,2,6,3]
[{"$nulls":3},"男","",null,3,2,2,3,2,4,3,3,2,24,3,3,2,3,2,1,14,2,3,1,6,2]
[{"$nulls":3},"男","",null,3,4,2,2,3,3,3,2,2,24,2,2,2,2,3,2,13,2,1,2,5,2]
[{"$nulls":3},"男","",null,2,3,3,4,3,3,3,3,5,29,4,5,3,4,4,3,23,5,4,1,10,5]
[{"$nulls":3},"男","",null,4,3,3,3,1,4,3,5,3,29,3,3,3,3,3,2,17,3,4,3,10,3]
[{"$nulls":3},"男","",null,3,3,3,3,3,4,4,3,3,29,3,3,2,3,3,4,18,3,3,3,9,3]
[{"$nulls":3},"女","",null,1,3,2,3,1,3,3,2,2,20,1,3,2,3,2,3,14,3,2,4,9,2]
[{"$nulls":3},"男","",null,2,3,3,3,3,5,3,3,3,28,4,3,3,3,5,3,21,3,1,3,7,5]
[{"$nulls":3},"女","",null,4,3,4,3,3,4,2,3,3,29,4,3,4,3,3,4,21,4,3,2,9,3]
[{"$nulls":3},"男","","高ストレス",3,3,3,3,3,4,2,1,1,23,4,2,2,1,2,1,12,4,3,3,10,3]
[{"$nulls":3},"女","","高ストレス",4,2,4,2,3,2,3,3,2,25,1,1,2,3,2,2,11,2,2,3,7,3]
[{"$nulls":3},"男","",null,3,4,3,3,3,3,3,2,2,26,3,3,3,3,3,4,19,2,2,4,8,3]
[{"$nulls":3},"女","",null,3,3,3,3,3,3,3,3,2,26,3,3,2,3,2,4,17,3,2,1,6,3]
[{"$nulls":3},"男","",null,3,3,3,3,2,3,2,1,2,22,4,3,2,2,1,1,13,4,3,2,9,2]
[{"$nulls":3},"男","",null,2,3,1,3,1,1,4,3,3,21,4,3,2,4,4,3,20,3,3,3,9,4]
[{"$nulls":3},"男","",null,5,5,2,3,3,4,3,2,2,29,3,3,3,3,2,3,17,3,3,2,8,3]
[{"$nulls":3},"男","",null,2,2,1,3,3,3,2,3,3,22,3,2,2,2,1,3,13,2,2,2,6,3]
[{"$nulls":3},"男","",null,5,3,2,3,3,4,3,5,2,30,1,2,3,5,3,2,16,1,1,2,4,2]
[{"$nulls":3},"男","",null,3,3,1,2,4,5,3,3,3,27,3,3,3,3,3,3,18,2,2,4,8,3]
[{"$nulls":3},"男","","高ストレス",3,3,1,1,1,2,2,2,1,16,2,2,1,2,2,1,10,2,1,1,4,3]
[{"$nulls":3},"男","",null,3,3,1,3,3,4,2,3,2,24,2,3,3,4,5,3,20,3,2,3,8,3]
[{"$nulls":3},"男","",null,3,3,2,3,3,4,3,3,3,27,4,3,3,3,3,3,19,3,2,4,9,3]
[{"$nulls":3},"男","",null,2,3,3,3,2,4,3,3,3,26,3,3,3,3,3,3,18,3,2,1,6,3]
[{"$nulls":3},"男","",null,2,2,3,3,4,4,4,3,5,30,5,1,3,1,2,1,13,4,2,2,8,3]
[{"$nulls":3},"男","",null,3,2,4,2,4,5,3,3,3,29,3,2,2,2,3,2,14,5,4,5,14,3]
[{"$nulls":3},"男","","高ストレス",2,3,3,3,3,3,3,3,2,25,1,2,2,3,3,1,12,3,2,5,10,3]
[{"$nulls":3},"男","",null,2,1,3,4,4,5,4,5,5,33,2,4,3,1,3,5,18,5,5,5,15,5]
[{"$nulls":3},"男","",null,2,3,2,2,1,4,3,3,3,23,1,5,2,3,5,4,20,2,2,4,8,3]
[{"$nulls":3},"男","","高ストレス",5,3,4,2,3,2,3,2,2,26,4,1,1,2,2,1,11,2,2,3,7,3]
[{"$nulls":3},"男","",null,2,2,3,3,3,4,3,2,3,25,3,3,2,3,2,2,15,3,3,3,9,3]
[{"$nulls":3},"女","",null,3,2,4,3,3,3,3,3,3,27,4,2,2,3,3,2,16,1,1,1,3,3]
[{"$nulls":3},"男","","高ストレス",3,3,4,3,3,3,3,3,3,28,3,3,1,2,1,1,11,1,1,1,3,2]
[{"$nulls":3},"男","",null,3,2,4,5,4,3,4,5,3,33,5,5,5,4,5,4,28,1,1,1,3,5]
[{"$nulls":3},"男","",null,3,3,3,3,3,2,3,2,2,24,4,2,2,3,2,3,16,3,2,2,7,3]
[{"$nulls":3},"男","",null,4,5,2,3,2,5,3,3,3,30,4,4,4,5,4,4,25,5,4,4,13,5]
[{"$nulls":3},"男","","高ストレス",3,2,4,2,3,3,4,2,2,25,2,3,1,3,2,1,12,3,2,1,6,3]
[{"$nulls":3},"女","",null,3,1,3,3,3,4,3,3,3,26,3,3,3,2,4,4,19,3,3,3,9,3]
[{"$nulls":3},"女","",null,3,2,4,2,2,3,3,3,2,24,2,5,2,3,2,3,17,3,2,2,7,2]
[{"$nulls":3},"男","",null,3,3,2,3,3,3,3,3,3,26,4,3,3,3,3,2,18,4,3,3,10,3]
[{"$nulls":3},"男","",null,2,2,3,3,2,2,2,2,2,20,3,3,3,2,3,3,17,2,2,3,7,2]
[{"$nulls":3},"男","",null,4,3,3,3,4,3,4,3,5,32,5,4,4,5,5,4,27,4,4,5,13,5]
[{"$nulls":3},"男","",null,3,1,3,2,3,3,2,3,3,23,1,2,2,2,3,3,13,2,1,1,4,3]
[{"$nulls":3},"男","","高ストレス",2,2,1,2,1,2,3,2,3,18,1,1,2,1,2,2,9,2,1,1,4,3]
[{"$nulls":3},"女","",null,4,2,4,3,2,5,3,3,5,31,3,3,4,2,3,3,18,3,4,5,12,3]
[{"$nulls":3},"男","",null,3,3,3,3,2,4,4,2,3,27,4,5,3,3,4,2,21,3,2,3,8,3]
[{"$nulls":3},"男","",null,2,4,3,3,3,5,4,5,5,34,5,5,5,5,4,5,29,5,4,5,14,5]
[{"$nulls":3},"男","",null,4,4,4,4,3,5,3,3,3,33,4,4,3,3,3,3,20,3,4,4,11,3]
[{"$nulls":3},"女","",null,3,3,4,3,2,5,3,3,3,29,3,3,4,5,3,3,21,3,3,3,9,3]
[{"$nulls":3},"男","",null,3,2,3,2,3,4,3,3,5,28,4,4,2,3,3,3,19,2,3,3,8,5]
[{"$nulls":3},"男","","高ストレス",3,2,4,2,3,3,2,3,3,25,2,2,2,1,2,2,11,2,2,3,7,3]
[{"$nulls":3},"女","",null,5,3,4,4,3,5,3,5,3,35,4,5,5,5,5,4,28,4,3,4,11,5]
[{"$nulls":3},"男","",null,3,2,3,3,3,3,4,3,3,27,3,3,2,2,2,1,13,3,3,4,10,3]
[{"$nulls":3},"男","","高ストレス",3,3,3,3,3,2,3,1,2,23,1,2,3,1,1,3,11,2,2,1,5,3]
[{"$nulls":3},"男","",null,3,3,3,3,2,2,2,2,2,22,3,2,3,2,3,3,16,3,2,3,8,3]
[{"$nulls":3},"男","","高ストレス",1,3,1,2,1,2,2,2,2,16,2,2,1,3,3,2,13,2,2,1,5,3]
[{"$nulls":3},"男","",null,3,2,3,3,3,4,4,5,5,32,3,4,4,4,3,4,22,4,4,5,13,5]
[{"$nulls":3},"男","",null,3,4,3,3,2,4,3,3,2,27,3,3,3,3,3,2,17,4,2,1,7,2]
[{"$nulls":3},"男","","高ストレス",1,2,1,2,3,4,3,3,3,22,4,2,1,1,1,1,10,3,2,2,7,3]
[{"$nulls":3},"男","",null,3,2,1,4,2,4,3,3,5,27,4,3,2,3,4,3,19,4,3,3,10,3]
[{"$nulls":3},"男","","高ストレス",1,3,1,3,1,3,2,2,2,18,2,2,2,2,2,2,12,2,1,3,6,3]
[{"$nulls":3},"男","","高ストレス",2,2,2,2,1,5,3,2,2,21,2,3,2,1,1,2,11,4,2,5,11,2]
[{"$nulls":3},"女","","高ストレス",3,2,1,4,1,5,3,3,3,25,2,1,1,3,2,1,10,4,2,4,10,3]
[{"$nulls":3},"男","",null,3,4,2,3,1,2,4,3,3,25,4,3,2,3,2,4,18,3,3,4,10,3]
[{"$nulls":3},"男","",null,4,3,3,4,4,3,4,3,3,31,1,5,4,5,5,4,24,3,2,2,7,3]
[{"$nulls":3},"男","",null,4,4,1,3,2,3,1,2,1,21,3,2,2,2,2,4,15,3,2,2,7,3]
[{"$nulls":3},"男","",null,3,3,2,2,2,4,3,3,3,25,2,2,2,3,2,2,13,2,2,1,5,2]
[{"$nulls":3},"男","","高ストレス",5,3,3,1,1,3,1,1,1,19,2,2,2,1,1,1,9,2,3,2,7,1]
[{"$nulls":3},"男","",null,3,3,2,3,2,4,2,3,3,25,2,3,3,3,3,3,17,3,3,4,10,3]
[{"$nulls":3},"男","",null,2,3,2,3,3,2,1,2,2,20,2,3,2,3,2,3,15,4,2,5,11,2]
[{"$nulls":3},"男","",null,3,3,2,3,3,3,3,2,2,24,1,3,2,3,3,2,14,2,1,1,4,3]
[{"$nulls":3},"女","",null,3,3,1,3,2,4,3,3,5,27,4,4,3,3,4,4,22,4,3,5,12,3]
[{"$nulls":3},"女","",null,3,4,2,3,3,3,2,3,3,26,3,4,3,5,4,4,23,3,4,3,10,3]
[{"$nulls":3},"男","",null,3,4,2,4,3,4,3,3,3,29,3,4,3,3,4,4,21,5,5,5,15,3]
[{"$nulls":3},"男","",null,3,3,2,3,3,2,3,3,3,25,3,3,3,3,3,2,17,3,2,1,6,3]
[{"$nulls":3},"女","",null,3,1,3,3,5,4,3,3,3,28,2,4,4,3,5,5,23,4,4,4,12,3]
[{"$nulls":3},"女","","高ストレス",3,4,1,3,5,4,3,3,2,28,1,1,1,3,1,3,10,2,5,5,12,3]
[{"$nulls":3},"女","",null,1,1,3,2,3,3,3,2,2,20,3,3,2,2,2,3,15,4,2,1,7,2]
[{"$nulls":3},"男","","高ストレス",3,3,2,2,3,1,2,2,2,20,1,3,2,1,2,3,12,2,1,2,5,3]
[{"$nulls":3},"女","",null,2,1,2,3,3,3,3,3,3,23,2,3,3,3,4,4,19,4,3,4,11,3]
[{"$nulls":3},"男","",null,3,4,2,3,4,3,2,3,3,27,4,3,3,3,5,3,21,3,2,3,8,4]
[{"$nulls":3},"男","",null,3,3,2,4,4,4,3,5,5,33,5,5,4,4,5,5,28,5,5,5,15,5]
[{"$nulls":3},"男","","高ストレス",2,2,1,3,3,2,3,3,3,22,3,2,1,2,1,1,10,4,2,1,7,2]
[{"$nulls":3},"女","",null,2,1,3,4,5,5,3,3,3,29,4,2,2,3,3,2,16,5,4,5,14,4]
[{"$nulls":3},"男","","高ストレス",1,3,2,2,2,2,3,1,1,17,1,2,2,1,1,2,9,2,2,1,5,1]
[{"$nulls":3},"男","","高ストレス",1,2,1,3,3,2,3,3,3,21,2,2,2,1,3,2,12,2,2,2,6,2]
[{"$nulls":3},"男","",null,3,3,1,3,2,2,3,3,2,22,2,2,2,3,3,3,15,2,3,4,9,3]
[{"$nulls":3},"男","","高ストレス",1,2,1,1,3,1,3,1,3,16,3,1,2,1,3,1,11,3,3,5,11,4]
[{"$nulls":3},"女","","高ストレス",2,1,1,3,1,3,3,2,2,18,2,2,2,2,1,1,10,4,2,2,8,2]
[{"$nulls":3},"男","",null,3,3,1,3,2,3,3,3,2,23,3,2,2,2,2,3,14,3,2,4,9,4]
[{"$nulls":3},"男","","高ストレス",4,2,1,2,3,2,3,1,1,19,3,2,2,1,2,1,11,2,2,1,5,2]
[{"$nulls":3},"女","","高ストレス",1,1,3,3,3,4,3,2,3,23,2,1,1,2,1,2,9,3,2,3,8,1]
[{"$nulls":3},"男","",null,3,3,4,4,3,4,2,3,3,29,3,4,4,4,4,3,22,2,2,2,6,3]
[{"$nulls":3},"女","",null,3,2,3,3,3,3,3,2,3,25,3,3,2,3,2,2,15,2,2,3,7,2]
[{"$nulls":3},"男","",null,4,3,2,4,3,5,3,3,5,32,5,4,5,4,4,4,26,4,4,3,11,5]
[{"$nulls":3},"男","","高ストレス",2,2,3,3,3,4,2,3,2,24,1,2,2,3,2,2,12,3,2,3,8,2]
[{"$nulls":3},"男","","高ストレス",2,2,1,1,1,1,2,2,2,14,1,1,1,1,1,2,7,2,2,2,6,1]
[{"$nulls":3},"男","",null,4,3,2,3,3,3,2,3,3,26,3,5,3,4,5,3,23,2,2,2,6,3]
[{"$nulls":3},"女","","高ストレス",3,2,1,1,2,3,2,3,2,19,2,3,2,2,1,1,11,3,2,3,8,1]
[{"$nulls":3},"男","","高ストレス",2,1,2,1,2,1,4,3,3,19,1,1,2,1,2,3,10,1,1,3,5,3]
[{"$nulls":3},"男","",null,3,2,2,4,3,4,4,3,3,28,4,3,3,4,3,3,20,3,3,4,10,5]
[{"$nulls":3},"男","","高ストレス",1,1,1,2,3,4,2,2,3,19,3,1,1,1,1,1,8,2,2,3,7,3]
[{"$nulls":3},"男","","高ストレス",1,2,2,2,3,3,3,3,3,22,3,2,2,1,1,1,10,2,2,1,5,3]
[{"$nulls":3},"女","",null,1,2,3,3,3,2,4,3,3,24,1,2,3,2,1,4,13,2,2,4,8,1]
[{"$nulls":3},"男","",null,2,3,2,3,2,3,4,3,3,25,4,2,2,2,3,3,16,4,3,3,10,4]
[{"$nulls":3},"男","",null,3,3,1,3,2,4,3,3,3,25,3,3,2,4,3,4,19,3,3,2,8,3]
[{"$nulls":3},"男","",null,4,5,2,3,1,3,3,3,2,26,4,3,3,4,3,4,21,3,3,3,9,3]
[{"$nulls":3},"男","","高ストレス",1,2,1,2,3,2,2,1,2,16,2,1,2,2,3,1,11,2,1,2,5,2]
[{"$nulls":3},"男","",null,3,3,2,4,2,3,3,2,3,25,1,3,3,2,3,3,15,4,1,5,10,3]
[{"$nulls":3},"女","",null,3,3,2,4,1,2,3,3,3,24,2,2,3,3,2,3,15,4,2,2,8,3]
[{"$nulls":3},"男","","高ストレス",1,2,2,2,2,1,2,2,3,17,1,1,3,1,1,4,11,2,1,2,5,1]
[{"$nulls":3},"男","",null,2,4,1,3,3,1,2,3,2,21,3,3,2,2,2,1,13,2,1,4,7,3]
[{"$nulls":3},"男","","高ストレス",2,3,1,1,2,4,2,2,3,20,3,2,2,3,1,3,14,1,1,4,6,3]
[{"$nulls":3},"男","",null,3,5,2,4,3,3,3,3,3,29,3,3,3,3,3,4,19,2,2,3,7,3]
[{"$nulls":3},"女","",null,3,2,3,3,3,4,3,3,3,27,3,3,4,4,4,2,20,4,2,4,10,3]
[{"$nulls":3},"女","","高ストレス",3,2,2,3,2,3,2,3,3,23,3,2,1,2,2,1,11,4,2,2,8,3]
[{"$nulls":3},"男","","高ストレス",3,3,3,2,1,2,2,1,1,18,2,3,2,2,1,2,12,3,2,2,7,3]
[{"$nulls":3},"男","",null,4,4,3,3,3,2,3,3,3,28,3,3,3,5,5,4,23,3,2,5,10,3]
[{"$nulls":3},"男","",null,2,2,3,3,2,3,3,3,3,24,1,2,2,2,3,3,13,2,2,2,6,3]
[{"$nulls":3},"男","",null,3,4,2,5,2,3,4,5,5,33,5,5,4,4,5,4,27,5,5,5,15,5]
[{"$nulls":3},"男","",null,3,3,3,3,2,3,3,3,3,26,4,3,3,4,5,3,22,3,3,3,9,3]
[{"$nulls":3},"男","","高ストレス",2,3,3,2,1,1,3,1,1,17,1,1,1,1,1,1,6,2,2,2,6,1]
[{"$nulls":3},"女","",null,3,2,4,3,5,3,1,1,1,23,2,3,3,2,2,2,14,3,3,5,11,1]
[{"$nulls":3},"男","",null,4,3,2,3,1,3,3,3,3,25,4,4,3,3,4,3,21,3,3,1,7,3]
[{"$nulls":3},"男","",null,3,3,2,3,2,2,4,2,2,23,3,2,2,3,2,1,13,3,4,3,10,3]
[{"$nulls":3},"男","","高ストレス",2,2,1,1,2,1,1,2,1,13,1,1,1,1,1,1,6,1,1,1,3,1]
[{"$nulls":3},"女","",null,3,2,3,3,3,3,3,2,3,25,3,2,3,2,3,4,17,3,4,4,11,3]
[{"$nulls":3},"男","","高ストレス",2,2,2,1,3,3,2,2,2,19,2,2,1,1,1,2,9,3,3,5,11,3]
[{"$nulls":3},"男","",null,3,4,1,4,3,4,3,3,1,26,3,4,5,4,5,4,25,4,4,4,12,3]
[{"$nulls":3},"女","",null,1,2,2,3,3,3,2,1,2,19,1,3,2,3,2,5,16,3,4,3,10,2]
[{"$nulls":3},"男","",null,3,3,2,3,3,3,2,2,2,23,2,3,3,3,2,4,17,2,3,2,7,2]
[{"$nulls":3},"女","",null,3,2,2,2,2,3,3,3,5,25,3,3,3,2,3,2,16,3,3,4,10,3]
[{"$nulls":3},"男","","高ストレス",2,2,1,2,2,2,3,3,3,20,2,2,2,3,4,2,15,2,1,2,5,3]
[{"$nulls":3},"男","","高ストレス",1,1,1,1,1,1,4,1,1,12,1,1,1,1,1,1,6,1,1,1,3,1]
[{"$nulls":3},"男","",null,2,2,1,3,2,4,3,5,3,25,4,2,2,2,3,1,14,2,2,5,9,4]
[{"$nulls":3},"男","",null,3,3,3,2,3,3,3,2,3,25,1,5,3,3,2,4,18,2,1,1,4,3]
[{"$nulls":3},"男","","高ストレス",1,2,1,2,1,4,3,3,3,20,3,2,1,2,1,1,10,2,2,4,8,3]
[{"$nulls":3},"男","","高ストレス",2,3,3,3,1,2,2,2,1,19,1,2,3,2,1,3,12,2,2,3,7,2]
[{"$nulls":3},"男","",null,1,1,2,4,3,2,3,3,3,22,3,3,2,2,3,3,16,2,2,3,7,3]
[{"$nulls":3},"男","",null,3,3,2,3,3,3,2,3,3,25,3,4,2,3,5,4,21,2,2,2,6,3]
[{"$nulls":3},"男","",null,1,3,2,3,1,3,3,3,3,22,3,2,2,3,2,1,13,3,2,4,9,3]
[{"$nulls":3},"男","",null,3,3,3,3,3,3,3,3,3,27,4,3,3,3,3,3,19,3,2,4,9,3]
[{"$nulls":3},"男","","高ストレス",1,2,1,1,1,1,2,2,1,12,1,1,1,1,1,3,8,1,1,2,4,2]
[{"$nulls":3},"男","",null,3,3,2,2,3,3,3,2,3,24,4,2,2,2,2,3,15,2,2,2,6,3]
[{"$nulls":3},"男","","高ストレス",2,2,1,3,2,4,4,3,1,22,2,2,1,2,3,2,12,3,2,5,10,3]
[{"$nulls":3},"男","",null,3,5,2,3,2,2,3,3,3,26,3,3,3,4,4,3,20,3,3,5,11,4]
[{"$nulls":3},"女","",null,2,2,2,1,3,3,3,3,3,22,4,2,3,2,2,3,16,3,3,4,10,3]
[{"$nulls":3},"男","",null,3,3,2,3,3,5,2,3,3,27,4,4,3,4,4,3,22,5,3,4,12,3]
[{"$nulls":3},"男","","高ストレス",1,1,1,1,1,2,3,1,1,12,1,1,1,1,1,2,7,2,2,1,5,1]
[{"$nulls":3},"男","",null,3,3,2,3,2,3,2,2,2,22,4,3,3,3,3,1,17,3,2,4,9,2]
[{"$nulls":3},"男","",null,3,3,2,2,3,2,2,2,2,21,4,3,2,3,2,1,15,3,2,2,7,2]
[{"$nulls":3},"男","",null,2,3,3,3,1,2,3,3,3,23,3,3,2,3,2,1,14,3,3,3,9,3]
[{"$nulls":3},"男","",null,3,4,3,1,2,4,2,5,5,29,4,4,3,1,3,3,18,4,3,2,9,4]
[{"$nulls":3},"男","",null,3,3,3,3,3,3,3,3,3,27,3,4,3,3,3,3,19,4,3,2,9,3]
[{"$nulls":3},"男","",null,4,4,1,2,2,5,3,3,2,26,4,2,3,3,3,3,18,3,2,3,8,3]
[{"$nulls":3},"男","",null,4,4,1,3,3,2,2,2,2,23,3,3,3,3,3,2,17,2,2,3,7,3]
[{"$nulls":3},"男","",null,4,3,1,3,3,3,3,3,3,26,4,3,3,3,5,4,22,4,2,3,9,3]
[{"$nulls":3},"男","",null,4,3,2,3,3,3,3,2,3,26,3,3,3,4,3,3,19,2,2,3,7,4]
[{"$nulls":3},"男","",null,3,1,1,2,3,2,2,3,3,20,3,1,2,1,3,4,14,3,2,5,10,3]
[{"$nulls":3},"男","","高ストレス",1,1,3,1,3,2,3,2,1,17,1,3,2,2,2,4,14,1,2,3,6,2]
[{"$nulls":3},"男","",null,3,3,1,3,3,4,3,3,3,26,3,2,2,2,3,3,15,4,3,2,9,3]
[{"$nulls":3},"男","",null,3,3,3,2,3,3,3,3,5,28,2,2,3,1,3,2,13,3,2,4,9,3]
[{"$nulls":3},"男","",null,3,4,3,3,4,3,3,3,3,29,4,4,5,5,5,5,28,2,2,3,7,3]
[{"$nulls":3},"男","",null,4,4,3,3,3,3,3,3,3,29,3,3,5,4,5,5,25,2,2,3,7,4]
[{"$nulls":3},"男","",null,3,3,3,3,3,3,2,3,3,26,3,3,3,4,4,4,21,2,2,1,5,3]
[{"$nulls":3},"男","","高ストレス",1,2,1,1,1,1,2,2,1,12,1,1,1,1,1,1,6,1,1,1,3,1]
[{"$nulls":3},"女","",null,2,3,1,3,2,3,2,2,2,20,2,2,2,3,3,2,14,3,3,3,9,3]
[{"$nulls":3},"男","",null,3,4,4,1,2,4,3,2,1,24,1,2,4,3,3,3,16,1,2,5,8,3]
[{"$nulls":3},"女","",null,2,3,4,4,5,4,3,5,5,35,4,3,4,3,4,3,21,3,2,4,9,4]
[{"$nulls":3},"女","",null,2,2,2,4,5,4,3,2,2,26,3,3,2,2,3,4,17,3,4,5,12,3]
[{"$nulls":3},"男","",null,2,3,2,1,2,2,3,3,3,21,2,3,3,3,3,3,17,2,2,3,7,3]
[{"$nulls":3},"女","",null,4,4,2,3,3,4,2,3,2,27,2,3,3,3,3,3,17,3,3,5,11,3]

{"sheet":"集団レポート元","index":3,"n_rows":89,"n_cols":93,"rows_kept":89,"hidden":true,"merged":[[0,4,2,20],[2,28,2,39],[3,4,3,7],[3,8,3,39],[4,4,4,7],[4,8,4,39],[5,4,5,7],[5,8,5,39],[6,4,6,7],[6,8,6,39],[7,4,7,7],[7,8,7,11],[7,12,7,15],[7,16,7,19],[7,20,7,23],[7,24,7,27],[7,28,7,39],[25,50,26,55],[25,56,26,59],[25,60,26,65],[25,66,26,69],[25,70,26,75],[25,76,26,79],[25,80,26,85],[33,59,34,61],[33,62,34,64],[33,65,34,67],[35,50,35,58],[35,59,35,61],[35,62,35,64],[35,65,35,67],[36,50,36,58],[36,59,36,61],[36,62,36,64],[36,65,36,67],[37,50,37,58],[37,59,37,61],[37,62,37,64],[37,65,37,67],[38,50,38,58],[38,59,38,61],[38,62,38,64],[38,65,38,67],[39,50,39,58],[39,59,39,61],[39,62,39,64],[39,65,39,67],[40,50,40,58],[40,59,40,61],[40,62,40,64],[40,65,40,67],[41,50,41,58],[41,59,41,61],[41,62,41,64],[41,65,41,67],[42,50,42,58],[42,59,42,61],[42,62,42,64],[42,65,42,67],[50,13,51,15],[50,16,51,18],[50,19,51,21],[50,59,51,61],[50,62,51,64],[50,65,51,67],[52,4,52,12],[52,13,52,15],[52,16,52,18],[52,19,52,21],[52,50,52,58],[52,59,52,61],[52,62,52,64],[52,65,52,67],[53,4,53,12],[53,13,53,15],[53,16,53,18],[53,19,53,21],[53,50,53,58],[53,59,53,61],[53,62,53,64],[53,65,53,67],[54,4,54,12],[54,13,54,15],[54,16,54,18],[54,19,54,21],[54,50,54,58],[54,59,54,61],[54,62,54,64],[54,65,54,67],[55,4,55,12],[55,13,55,15],[55,16,55,18],[55,19,55,21],[55,50,55,58],[55,59,55,61],[55,62,55,64],[55,65,55,67],[56,4,56,12],[56,13,56,15],[56,16,56,18],[56,19,56,21],[56,50,56,58],[56,59,56,61],[56,62,56,64],[56,65,56,67],[57,4,57,12],[57,13,57,15],[57,16,57,18],[57,19,57,21],[57,50,57,58],[57,59,57,61],[57,62,57,64],[57,65,57,67],[58,50,58,58],[58,59,58,61],[58,62,58,64],[58,65,58,67],[60,13,61,15],[60,16,61,18],[60,19,61,21],[61,59,62,61],[61,62,62,64],[61,65,62,67],[62,4,62,12],[62,13,62,15],[62,16,62,18],[62,19,62,21],[63,4,63,12],[63,13,63,15],[63,16,63,18],[63,19,63,21],[63,50,63,58],[63,59,63,61],[63,62,63,64],[63,65,63,67],[64,4,64,12],[64,13,64,15],[64,16,64,18],[64,19,64,21],[65,4,65,12],[65,13,65,15],[65,16,65,18],[65,19,65,21],[66,4,66,12],[66,13,66,15],[66,16,66,18],[66,19,66,21],[67,4,67,12],[67,13,67,15],[67,16,67,18],[67,19,67,21],[67,59,68,61],[67,62,68,64],[67,65,68,67],[68,4,68,12],[68,13,68,15],[68,16,68,18],[68,19,68,21],[69,4,69,12],[69,13,69,15],[69,16,69,18],[69,19,69,21],[69,50,69,58],[69,59,69,61],[69,62,69,64],[69,65,69,67],[70,4,70,12],[70,13,70,15],[70,16,70,18],[70,19,70,21],[70,50,70,58],[70,59,70,61],[70,62,70,64],[70,65,70,67],[71,4,71,12],[71,13,71,15],[71,16,71,18],[71,19,71,21],[74,13,75,15],[74,16,75,18],[74,19,75,21],[74,59,75,61],[74,62,75,64],[74,65,75,67],[76,4,76,12],[76,13,76,15],[76,16,76,18],[76,19,76,21],[76,50,76,58],[76,59,76,61],[76,62,76,64],[76,65,76,67],[77,4,77,12],[77,13,77,15],[77,16,77,18],[77,19,77,21],[77,50,77,58],[77,59,77,61],[77,62,77,64],[77,65,77,67],[78,4,78,12],[78,13,78,15],[78,16,78,18],[78,19,78,21],[78,50,78,58],[78,59,78,61],[78,62,78,64],[78,65,78,67],[79,4,79,12],[79,13,79,15],[79,16,79,18],[79,19,79,21],[79,50,79,58],[79,59,79,61],[79,62,79,64],[79,65,79,67],[80,4,80,12],[80,13,80,15],[80,16,80,18],[80,19,80,21],[81,4,81,12],[81,13,81,15],[81,16,81,18],[81,19,81,21],[82,4,82,12],[82,13,82,15],[82,16,82,18],[82,19,82,21],[85,13,86,15],[85,16,86,18],[85,19,86,21],[87,4,87,12],[87,13,87,15],[87,16,87,18],[87,19,87,21],[88,4,88,12],[88,13,88,15],[88,16,88,18],[88,19,88,21]]}
[{"$nulls":4},"船員版\n職場環境改善チェックシート"]
[{"$nulls":92},"外航船員平均"]
[{"$nulls":28},"作成日：2020年03月12日",{"$nulls":63},"内航船員平均"]
[{"$nulls":4},"実施期間",{"$nulls":3},"2020年01月17日 ～ 2020年02月29日"]
[{"$nulls":4},"事業場名"]
[{"$nulls":4},"実施者"]
[{"$nulls":4},"集団名",{"$nulls":3},"01_外航船員"]
[{"$nulls":4},"人数",{"$nulls":3},41,{"$nulls":3},"男性",{"$nulls":3},36,{"$nulls":3},"女性",{"$nulls":3},5,{"$nulls":3},{"$f":"IF([1]参照!B13 - ([1]参照!B14 + [1]参照!B15) = 0,\"\",\"＊性別未回答　\"&[1]参照!B13 - ([1]参照!B14 + [1]参照!B15)&\"名\")","v":""}]
[{"$nulls":4},{"$f":"IF([1]参照!$D$13,\"※ 集団の人数が10人未満ですので、個人が特定されることがないよう事業者に渡す際は注意してください。\",\"\")","v":""}]
{"$rows_empty":15}
[{"$nulls":50},"高ストレス者割合"]
[{"$nulls":50},{"v":0.131,"d":"13.1%"},{"$nulls":5},"外航船員全体",{"$nulls":3},{"v":0.128,"d":"12.8%"},{"$nulls":5},"内航船員全体",{"$nulls":3},{"v":0.115,"d":"11.5%"},{"$nulls":5},"船舶全員",{"$nulls":3},{"v":0.121,"d":"12.1%"}]
[]
[]
[]
[]
[]
[]
[{"$nulls":50},"仕事の負担"]
[{"$nulls":59},"集団\n平均",null,null,"外航船員平均",null,null,"船舶全員平均"]
[]
[{"$nulls":50},"仕事の量的負担",{"$nulls":8},{"v":1.9105691056910568,"d":"1.9"},null,null,{"v":2.075652841781874,"d":"2.1"},null,null,2.1]
[{"$nulls":50},"仕事の質的負担",{"$nulls":8},{"v":2.016260162601626,"d":"2.0"},null,null,{"v":2.101382488479263,"d":"2.1"},null,null,2.2]
[{"$nulls":50},"身体的負担度",{"$nulls":8},{"v":2.048780487804878,"d":"2.0"},null,null,{"v":2.436635944700461,"d":"2.4"},null,null,2.5]
[{"$nulls":50},"職場での対人関係",{"$nulls":8},{"v":2.5203252032520322,"d":"2.5"},null,null,{"v":2.784562211981567,"d":"2.8"},null,null,2.9]
[{"$nulls":50},"職場環境",{"$nulls":8},{"v":2.2195121951219514,"d":"2.2"},null,null,{"v":2.610599078341014,"d":"2.6"},null,null,2.8]
[{"$nulls":50},"情緒的負担",{"$nulls":8},{"v":2.268292682926829,"d":"2.3"},null,null,{"v":2.3870967741935485,"d":"2.4"},null,null,2.7]
[{"$nulls":50},"役割葛藤",{"$nulls":8},{"v":2.1219512195121952,"d":"2.1"},null,null,{"v":2.383640552995392,"d":"2.4"},null,null,2.9]
[{"$nulls":50},"ワーク・セルフ・バランス\n（ネガティブ）",{"$nulls":8},{"v":2.5853658536585367,"d":"2.6"},null,null,{"v":2.6175115207373274,"d":"2.6"},null,null,2.8]
[]
[]
[]
[]
[]
[]
[{"$nulls":4},"作業資源",{"$nulls":45},"心身の健康"]
[{"$nulls":13},"集団\n平均",null,null,{"$f":"$BK$34","v":"外航船員平均"},null,null,"船舶全員平均",{"$nulls":39},"集団\n平均",null,null,{"$f":"$BK$34","v":"外航船員平均"},null,null,"船舶全員平均"]
[]
[{"$nulls":4},"仕事のコントロール",{"$nulls":8},{"v":2.3577235772357725,"d":"2.4"},null,null,{"v":2.5910138248847927,"d":"2.6"},null,null,2.5,{"$nulls":30},"活気",{"$nulls":8},{"v":2.032520325203252,"d":"2.0"},null,null,{"v":2.110983102918587,"d":"2.1"},null,null,2.3]
[{"$nulls":4},"仕事の適性",{"$nulls":8},{"v":2.4878048780487805,"d":"2.5"},null,null,{"v":2.7868663594470044,"d":"2.8"},null,null,{"v":3,"d":"3.0"},{"$nulls":30},"イライラ感",{"$nulls":8},{"v":2.5772357723577235,"d":"2.6"},null,null,{"v":2.679339477726575,"d":"2.7"},null,null,2.7]
[{"$nulls":4},"技能の活用",{"$nulls":8},{"v":2.707317073170732,"d":"2.7"},null,null,{"v":2.8225806451612905,"d":"2.8"},null,null,{"v":3,"d":"3.0"},{"$nulls":30},"疲労感",{"$nulls":8},{"v":2.3008130081300813,"d":"2.3"},null,null,{"v":2.5660522273425497,"d":"2.6"},null,null,2.7]
[{"$nulls":4},"仕事の意義",{"$nulls":8},{"v":2.3902439024390243,"d":"2.4"},null,null,{"v":2.7453917050691246,"d":"2.7"},null,null,2.9,{"$nulls":30},"不安感",{"$nulls":8},{"v":2.5772357723577235,"d":"2.6"},null,null,{"v":2.786098310291859,"d":"2.8"},null,null,2.9]
[{"$nulls":4},"役割明確さ",{"$nulls":8},{"v":3.1463414634146343,"d":"3.1"},null,null,{"v":3.2557603686635943,"d":"3.3"},null,null,3.4,{"$nulls":30},"抑うつ感",{"$nulls":8},{"v":2.8983739837398375,"d":"2.9"},null,null,{"v":3.1044546850998462,"d":"3.1"},null,null,3.3]
[{"$nulls":4},"成長の機会",{"$nulls":8},{"v":2.4634146341463414,"d":"2.5"},null,null,{"v":2.6463133640552994,"d":"2.6"},null,null,2.6,{"$nulls":30},"心理的ストレス反応合計",{"$nulls":8},{"v":2.5474254742547426,"d":"2.5"},null,null,{"v":2.7252304147465436,"d":"2.7"},null,null,2.9]
[{"$nulls":50},"身体愁訴",{"$nulls":8},{"v":3.0421286031042127,"d":"3.0"},null,null,{"v":3.114997905320486,"d":"3.1"},null,null,3.2]
[{"$nulls":4},"部署資源"]
[{"$nulls":13},"集団\n平均",null,null,{"$f":"$BK$34","v":"外航船員平均"},null,null,"船舶全員平均",{"$nulls":30},"職場のハラスメント"]
[{"$nulls":59},"集団\n平均",null,null,{"$f":"$BK$34","v":"外航船員平均"},null,null,"船舶全員平均"]
[{"$nulls":4},"上司のサポート",{"$nulls":8},{"v":2.2764227642276422,"d":"2.3"},null,null,{"v":2.511136712749616,"d":"2.5"},null,null,2.4]
[{"$nulls":4},"同僚のサポート",{"$nulls":8},{"v":2.4796747967479678,"d":"2.5"},null,null,{"v":2.526113671274962,"d":"2.5"},null,null,2.7,{"$nulls":30},"職場のハラスメント",{"$nulls":8},{"v":3.4146341463414633,"d":"3.4"},null,null,{"v":3.6186635944700463,"d":"3.6"},null,null,3.7]
[{"$nulls":4},"家族友人のサポート",{"$nulls":8},{"v":2.983739837398374,"d":"3.0"},null,null,{"v":3.0679723502304146,"d":"3.1"},null,null,3.3]
[{"$nulls":4},"経済・地位報酬",{"$nulls":8},{"v":2.4390243902439024,"d":"2.4"},null,null,{"v":2.4193548387096775,"d":"2.4"},null,null,2.3]
[{"$nulls":4},"尊重報酬",{"$nulls":8},{"v":2.5609756097560976,"d":"2.6"},null,null,{"v":2.6808755760368665,"d":"2.7"},null,null,2.6,{"$nulls":30},"満足度"]
[{"$nulls":4},"安定報酬",{"$nulls":8},{"v":2.951219512195122,"d":"3.0"},null,null,{"v":3.1048387096774195,"d":"3.1"},null,null,2.9,{"$nulls":39},"集団\n平均",null,null,{"$f":"$BK$34","v":"外航船員平均"},null,null,"船舶全員平均"]
[{"$nulls":4},"上司のリーダー\nシップ",{"$nulls":8},{"v":2.4390243902439024,"d":"2.4"},null,null,{"v":2.6129032258064515,"d":"2.6"},null,null,2.3]
[{"$nulls":4},"上司の公正な態度",{"$nulls":8},{"v":2.7804878048780486,"d":"2.8"},null,null,{"v":2.8617511520737327,"d":"2.9"},null,null,2.7,{"$nulls":30},"仕事満足度",{"$nulls":8},{"v":2.2195121951219514,"d":"2.2"},null,null,{"v":2.5794930875576036,"d":"2.6"},null,null,2.6]
[{"$nulls":4},"ほめてもらえる職場",{"$nulls":8},{"v":2.268292682926829,"d":"2.3"},null,null,{"v":2.6140552995391704,"d":"2.6"},null,null,2.6,{"$nulls":30},"家庭満足度",{"$nulls":8},{"v":2.926829268292683,"d":"2.9"},null,null,{"v":2.9723502304147464,"d":"3.0"},null,null,{"v":3,"d":"3.0"}]
[{"$nulls":4},"失敗を認める職場",{"$nulls":8},{"v":2.658536585365854,"d":"2.7"},null,null,{"v":2.8294930875576036,"d":"2.8"},null,null,2.5]
[]
[{"$nulls":4},"事業場資源",{"$nulls":45},"外航(内航)船での業務・生活"]
[{"$nulls":13},"集団\n平均",null,null,{"$f":"$BK$34","v":"外航船員平均"},null,null,"船舶全員平均",{"$nulls":39},"集団\n平均",null,null,{"$f":"$BK$34","v":"外航船員平均"},null,null,"船舶全員平均"]
[]
[{"$nulls":4},"経営層との信頼関係",{"$nulls":8},{"v":2.4146341463414633,"d":"2.4"},null,null,{"v":2.6267281105990783,"d":"2.6"},null,null,2.6,{"$nulls":30},"（項目確認1）",{"$nulls":8},{"v":2.4146341463414633,"d":"2.4"},null,null,{"v":2.6267281105990783,"d":"2.6"},null,null,2.6]
[{"$nulls":4},"変化への対応",{"$nulls":8},{"v":2.4390243902439024,"d":"2.4"},null,null,{"v":2.455069124423963,"d":"2.5"},null,null,2.4,{"$nulls":30},"（項目確認2）",{"$nulls":8},{"v":2.4390243902439024,"d":"2.4"},null,null,{"v":2.455069124423963,"d":"2.5"},null,null,2.4]
[{"$nulls":4},"個人の尊重",{"$nulls":8},{"v":2,"d":"2.0"},null,null,{"v":2.2684331797235022,"d":"2.3"},null,null,2.1,{"$nulls":30},"（項目確認3）",{"$nulls":8},{"v":2,"d":"2.0"},null,null,{"v":2.2684331797235022,"d":"2.3"},null,null,2.1]
[{"$nulls":4},"公正な人事評価",{"$nulls":8},{"v":2.3658536585365852,"d":"2.4"},null,null,{"v":2.411290322580645,"d":"2.4"},null,null,{"v":2,"d":"2.0"},{"$nulls":30},"（項目確認4）",{"$nulls":8},{"v":2.3658536585365852,"d":"2.4"},null,null,{"v":2.411290322580645,"d":"2.4"},null,null,{"v":2,"d":"2.0"}]
[{"$nulls":4},"多様な労働者への対応",{"$nulls":8},{"v":2.4390243902439024,"d":"2.4"},null,null,{"v":2.69815668202765,"d":"2.7"},null,null,2.8]
[{"$nulls":4},"キャリア形成",{"$nulls":8},{"v":2.2439024390243905,"d":"2.2"},null,null,{"v":2.4331797235023043,"d":"2.4"},null,null,2.2]
[{"$nulls":4},"ワーク・セルフ・バランス\n（ポジティブ）",{"$nulls":8},{"v":1.7560975609756098,"d":"1.8"},null,null,{"v":1.967741935483871,"d":"2.0"},null,null,{"v":2,"d":"2.0"}]
[]
[{"$nulls":4},"いきいきアウトカム"]
[{"$nulls":13},"集団\n平均",null,null,{"$f":"$BK$34","v":"外航船員平均"},null,null,"船舶全員平均"]
[]
[{"$nulls":4},"ワーク・エンゲイジメント",{"$nulls":8},{"v":1.9878048780487805,"d":"2.0"},null,null,{"v":2.330069124423963,"d":"2.3"},null,null,2.5]
[{"$nulls":4},"職場の一体感",{"$nulls":8},{"v":2.3902439024390243,"d":"2.4"},null,null,{"v":2.501152073732719,"d":"2.5"},null,null,2.7]

{"sheet":"素点換算","index":4,"n_rows":124,"n_cols":115,"rows_kept":124,"hidden":true}
["通し番号","部署","氏名","職員番号","1.外航船員/内航船員","2.職名","2.職名/その他","性別","4.年代","5.船員になってからの年数","6.乗船中/陸上勤務","6.直近の乗船(何ヶ月前)","7.乗組員数","8.船種","8.船種/その他","回答不備","高ストレス判定","心理的な仕事の負担（量）","心理的な仕事の負担（質）","自覚的な身体的負担度","職場の対人関係上のストレス","職場環境によるストレス","仕事の裁量度","技能の活用度","自覚的な仕事の適性度","働きがい","仕事のストレス要因( 9尺度)合計","活気","イライラ感","疲労感","不安感","抑うつ感","身体愁訴","心身のストレス反応( 6尺度)合計","上司からの支援度","同僚からの支援度","家族や友人からの支援度","周囲のサポート(3尺度)合計","仕事や生活の満足度"]
[{"$f":"IF(A24=\"\",\"\",A24)","v":"11"},"総務","さ","11","内航船員","一等航海士","",{"$f":"IF(H32=FALSE,\"\",IF(H24=\"\",\"\",VLOOKUP(A11,$A$12:$B$13,2,0)))","v":"男性"},{"$f":"IF(I24=\"\",\"\",I24)","v":"50代"},"21～30年","乗船中","","6～10人","油タンカー","",{"$f":"IF(D27=TRUE,E27,\"\")","v":""},{"$f":"VLOOKUP($A$11,$A$12:$AB$13,AB14,0)","v":"高ストレス"},{"$f":"VLOOKUP($A$11,$A$12:$X$13,C14,0)","v":4},4,3,3,3,2,3,2,2,26,4,2,2,2,1,1,12,2,2,1,5,2]
[]
[]
[]
[]
[]
["データの行数判定",null,{"$f":"LOOKUP(1,0/(生データ!A1:A584<>\"\"),ROW(1:1000))-12","v":0}]
[]
[]
[{"$f":"IF(H32=TRUE,H24,2)","v":1},null,"心理的な仕事の負担（量）","心理的な仕事の負担（質）","自覚的な身体的負担度","職場の対人関係でのｽﾄﾚｽ","職場環境によるストレス","仕事のコントロール度","技能の活用度","仕事の適性度","働きがい","原因","活気","イライラ感","疲労感","不安感","抑うつ感","身体愁訴","心身の反応","上司からのサポート","同僚からのサポート","家族・友人からのサポート","反応への影響","仕事や生活の満足度",null,"高ストレス\n心身の反応12以下","高ストレス\n26以下かつ17以下","高ストレス\n判定"]
[1,"男性",{"$f":"IF(B$39=\"\",\"\",VLOOKUP(B$39,A$51:B$60,2,0))","v":4},{"$f":"IF(C$39=\"\",\"\",VLOOKUP(C$39,C$51:D$60,2,0))","v":4},{"$f":"IF(D$39=\"\",\"\",VLOOKUP(D$39,E$51:F$60,2,0))","v":3},{"$f":"IF(E$39=\"\",\"\",VLOOKUP(E$39,G$51:H$60,2,0))","v":3},{"$f":"IF(F$39=\"\",\"\",VLOOKUP(F$39,I$51:J$60,2,0))","v":3},{"$f":"IF(G$39=\"\",\"\",VLOOKUP(G$39,K$51:L$60,2,0))","v":2},{"$f":"IF(H$39=\"\",\"\",VLOOKUP(H$39,M$51:N$60,2,0))","v":3},{"$f":"IF(I$39=\"\",\"\",VLOOKUP(I$39,O$51:P$60,2,0))","v":2},{"$f":"IF(J$39=\"\",\"\",VLOOKUP(J$39,Q$51:R$60,2,0))","v":2},{"$f":"IF(V37=TRUE,SUM(C12:K12),\"\")","v":26},{"$f":"IF(K$39=\"\",\"\",VLOOKUP(K$39,S$51:T$60,2,0))","v":4},{"$f":"IF(L$39=\"\",\"\",VLOOKUP(L$39,U$51:V$60,2,0))","v":2},{"$f":"IF(M$39=\"\",\"\",VLOOKUP(M$39,W$51:X$60,2,0))","v":2},{"$f":"IF(N$39=\"\",\"\",VLOOKUP(N$39,Y$51:Z$60,2,0))","v":2},{"$f":"IF(O$39=\"\",\"\",VLOOKUP(O$39,AA$51:AB$69,2,0))","v":1},{"$f":"IF(P$39=\"\",\"\",VLOOKUP(P$39,AC$51:AD$84,2,0))","v":1},{"$f":"IF(W37=TRUE,SUM(M12:R12),\"\")","v":12},{"$f":"IF(Q$39=\"\",\"\",VLOOKUP(Q$39,AE$51:AF$60,2,0))","v":2},{"$f":"IF(R$39=\"\",\"\",VLOOKUP(R$39,AG$51:AH$60,2,0))","v":2},{"$f":"IF(S$39=\"\",\"\",VLOOKUP(S$39,AI$51:AJ$60,2,0))","v":1},{"$f":"IF(X37=TRUE,SUM(T12:V12),\"\")","v":5},{"$f":"IF(T$39=\"\",\"\",VLOOKUP(T$39,AK$51:AL$57,2,0))","v":2},{"$f":"SUM(L12,S12,W12)","v":43},{"$f":"IF(S12<=12,\"A\",\"\")","v":"A"},{"$f":"IFERROR(IF(AND((L12+W12)<=26,S12<=17),\"A\",\"\"),\"\")","v":""},{"$f":"IF(OR(Z12<>\"\",AA12<>\"\")=TRUE,\"高ストレス\",\"\")","v":"高ストレス"}]
[2,"女性",{"$f":"IF(B$39=\"\",\"\",VLOOKUP(B$39,A$91:B$100,2,0))","v":4},{"$f":"IF(C$39=\"\",\"\",VLOOKUP(C$39,C$91:D$100,2,0))","v":4},{"$f":"IF(D$39=\"\",\"\",VLOOKUP(D$39,E$91:F$100,2,0))","v":3},{"$f":"IF(E$39=\"\",\"\",VLOOKUP(E$39,G$91:H$100,2,0))","v":3},{"$f":"IF(F$39=\"\",\"\",VLOOKUP(F$39,I$91:J$100,2,0))","v":3},{"$f":"IF(G$39=\"\",\"\",VLOOKUP(G$39,K$91:L$100,2,0))","v":3},{"$f":"IF(H$39=\"\",\"\",VLOOKUP(H$39,M$91:N$100,2,0))","v":3},{"$f":"IF(I$39=\"\",\"\",VLOOKUP(I$39,O$91:P$100,2,0))","v":2},{"$f":"IF(J$39=\"\",\"\",VLOOKUP(J$39,Q$91:R$100,2,0))","v":2},{"$f":"IF(V37=TRUE,SUM(C13:K13),\"\")","v":27},{"$f":"IF(K$39=\"\",\"\",VLOOKUP(K$39,S$91:T$100,2,0))","v":4},{"$f":"IF(L$39=\"\",\"\",VLOOKUP(L$39,U$91:V$100,2,0))","v":2},{"$f":"IF(M$39=\"\",\"\",VLOOKUP(M$39,W$91:X$100,2,0))","v":2},{"$f":"IF(N$39=\"\",\"\",VLOOKUP(N$39,Y$91:Z$100,2,0))","v":2},{"$f":"IF(O$39=\"\",\"\",VLOOKUP(O$39,AA$91:AB$109,2,0))","v":1},{"$f":"IF(P$39=\"\",\"\",VLOOKUP(P$39,AC$91:AD$124,2,0))","v":1},{"$f":"IF(W37=TRUE,SUM(M13:R13),\"\")","v":12},{"$f":"IF(Q$39=\"\",\"\",VLOOKUP(Q$39,AE$91:AF$100,2,0))","v":3},{"$f":"IF(R$39=\"\",\"\",VLOOKUP(R$39,AG$91:AH$100,2,0))","v":2},{"$f":"IF(S$39=\"\",\"\",VLOOKUP(S$39,AI$91:AJ$100,2,0))","v":1},{"$f":"IF(X37=TRUE,SUM(T13:V13),\"\")","v":6},{"$f":"IF(T$39=\"\",\"\",VLOOKUP(T$39,AK$91:AL$100,2,0))","v":2},{"$f":"SUM(L13,S13,W13)","v":45},{"$f":"IF(S13<=12,\"A\",\"\")","v":"A"},{"$f":"IFERROR(IF(AND((L13+W13)<=26,S13<=17),\"A\",\"\"),\"\")","v":""},{"$f":"IF(OR(Z13<>\"\",AA13<>\"\")=TRUE,\"高ストレス\",\"\")","v":"高ストレス"}]
[1,2,3,4,5,6,7,8,9,10,11,12,13,14,15,16,17,18,19,20,21,22,23,24,25,26,27,28]
[]
[]
[]
[]
[]
[{"$nulls":4},"1～3","1～22",null,null,"1～6","1～6","1～3","～","1～7","1～13",null,"9.乗船中のあなたの仕事について",{"$nulls":16},"10.乗船中の最近1か月間のあなたの状態について",{"$nulls":28},"11.乗船中のあなたの周りの方々について",{"$nulls":8},"12.乗船中の満足度について",null,"13.乗船中のあなた自身のお仕事について",{"$nulls":3},"14.乗船中のあなたが働いている職場について",{"$nulls":6},"15.あなたの働いている会社や組織について",{"$nulls":7},"16.乗船中のあなたの仕事の状況や成果について",{"$nulls":3},"17.あなたの仕事について（外航船の方）",{"$nulls":9},"17.あなたの仕事について（内航船の方）"]
["通し番号","部署","氏名","職員番号","1.外航船員/内航船員","2.職名","2.職名/その他","性別","4.年代","5.船員になってからの年数","6.乗船中/陸上勤務","6.直近の乗船(何ヶ月前)","7.乗組員数","8.船種","8.船種/その他","9-1","9-2","9-3","9-4","9-5","9-6","9-7","9-8","9-9","9-10","9-11","9-12","9-13","9-14","9-15","9-16","9-17","10-1","10-2","10-3","10-4","10-5","10-6","10-7","10-8","10-9","10-10","10-11","10-12","10-13","10-14","10-15","10-16","10-17","10-18","10-19","10-20","10-21","10-22","10-23","10-24","10-25","10-26","10-27","10-28","10-29","11-1","11-2","11-3","11-4","11-5","11-6","11-7","11-8","11-9","12-1","12-2","13-1","13-2","13-3","13-4","14-1","14-2","14-3","14-4","14-5","14-6","14-7","15-1","15-2","15-3","15-4","15-5","15-6","15-7","15-8","16-1","16-2","16-3","16-4","17外-1","17外-2","17外-3","17外-4","17外-5","17外-6","17外-7","17外-8","17外-9","17外-10","17内-1","17内-2","17内-3","17内-4","17内-5","17内-6","17内-7","17内-8","17内-9","17内-10"]
["11","総務","さ","11",2,2,null,1,5,5,1,null,2,2,null,3,3,3,3,3,3,3,3,3,3,3,3,3,3,3,3,3,3,3,3,3,3,3,3,3,3,3,3,3,3,3,3,3,3,3,3,3,3,3,3,3,3,3,3,3,3,3,3,3,3,3,3,3,3,3,3,3,3,3,3,3,3,3,3,3,3,3,3,3,3,3,3,3,3,3,3,3,3,3,3,{"$nulls":10},3,3,3,3,3,3,3,3,3,3]
[]
[{"$f":"A42","v":"11"},{"$f":"B42","v":"総務"},"さ","11",{"$f":"IFERROR(VLOOKUP(VALUE(E22),マスタ!$A$1:$B$3,2,FALSE),\"\")","v":"内航船員"},{"$f":"IFERROR(VLOOKUP(VALUE(F22),マスタ!$A$5:$B$26,2,FALSE),\"\")","v":"一等航海士"},"",1,{"$f":"IFERROR(VLOOKUP(I22,マスタ!$A$28:$B$33,2,FALSE),\"\")","v":"50代"},{"$f":"IFERROR(VLOOKUP(J22,マスタ!$A$35:$B$40,2,FALSE),\"\")","v":"21～30年"},{"$f":"IFERROR(VLOOKUP(K22,マスタ!$A$42:$B$44,2,FALSE),\"\")","v":"乗船中"},"",{"$f":"IFERROR(VLOOKUP(M22,マスタ!$A$46:$B$52,2,FALSE),\"\")","v":"6～10人"},{"$f":"IFERROR(VLOOKUP(N22,マスタ!$A$54:$B$66,2,FALSE),\"\")","v":"油タンカー"},{"$f":"O42","v":""},{"$f":"IF(P33=TRUE,P22,\"\")","v":3},3,3,3,3,3,3,3,3,3,3,3,3,3,3,3,3,3,3,3,3,3,3,3,3,3,3,3,3,3,3,3,{"$f":"IF(AV33=TRUE,AV22,\"\")","v":3},3,3,3,3,3,3,3,3,3,3,3,3,3,3,3,3,3,3,3,3,3,3,3,3,3,3,2,1,3,3,3,3,2,3,2,2,3,3,2,3,2,2,3,4,2,3,1,1,2,1,2,2,4,2,2,2,3,2,2,2,3,3,4,2,2,1,1]
[]
[]
["不備ありの判定",null,null,{"$f":"OR(H28,O33)","v":false},"不備あり"]
[{"$nulls":7},{"$f":"IFERROR(IF(H32=TRUE,FALSE,TRUE),TRUE)","v":false},{"$nulls":7},{"$f":"IFERROR(IF(P33=TRUE,FALSE,TRUE),TRUE)","v":false},{"$f":"IFERROR(IF(Q33=TRUE,FALSE,TRUE),TRUE)","v":false},false,false,false,false,false,false,false,false,false,false,false,false,false,false,false,false,false,false,false,false,false,false,false,false,false,false,false,false,false,false,false,false,false,false,false,false,false,false,false,false,false,false,false,false,false,false,false,false,false,false,false,false,false,false,false]
[{"$nulls":7},"1男性、2女性でない=TRUE",{"$nulls":5},"空欄判定",1,{"$f":"$O29=P$22","v":false},false,false,false,false,false,false,false,false,false,{"$f":"$O29=Z$22","v":false},false,false,false,false,false,false,false,false,false,{"$f":"$O29=AJ$22","v":false},false,false,false,false,false,false,false,false,false,{"$f":"$O29=AT$22","v":false},false,false,false,false,false,false,false,false,false,{"$f":"$O29=BD$22","v":false},false,false,false,false,false,false,false,false,false,{"$f":"$O29=BN$22","v":false},false,false,false,false,false,false]
[{"$nulls":6},1,{"$f":"G30=H$24","v":true},{"$nulls":5},"9-1～12-2",2,false,false,false,false,false,false,false,false,false,false,false,false,false,false,false,false,false,false,false,false,false,false,false,false,false,false,false,false,false,false,false,false,false,false,false,false,false,false,false,false,false,false,false,false,false,false,false,false,false,false,false,false,false,false,false,false,false]
[{"$nulls":6},2,{"$f":"G31=H$24","v":false},{"$nulls":6},3,true,true,true,true,true,true,true,true,true,true,true,true,true,true,true,true,true,true,true,true,true,true,true,true,true,true,true,true,true,true,true,true,true,true,true,true,true,true,true,true,true,true,true,true,true,true,true,true,true,true,true,true,true,true,true,true,true]
[{"$nulls":7},{"$f":"OR(H30:H31)","v":true},{"$nulls":6},4,false,false,false,false,false,false,false,false,false,false,false,false,false,false,false,false,false,false,false,false,false,false,false,false,false,false,false,false,false,false,false,false,false,false,false,false,false,false,false,false,false,false,false,false,false,false,false,false,false,false,false,false,false,false,false,false,false]
[{"$nulls":14},{"$f":"OR(P28:BT28)","v":false},{"$f":"OR(P29:P32)","v":true},{"$f":"OR(Q29:Q32)","v":true},true,true,true,true,true,true,true,true,true,true,true,true,true,true,true,true,true,true,true,true,true,true,true,true,true,true,true,true,true,true,true,true,true,true,true,true,true,true,true,true,true,true,true,true,true,true,true,true,true,true,true,true,true,true,true]
[]
[]
[null,"心理的な仕事の負担（量）","心理的な仕事の負担（質）","自覚的な身体的負担度","職場の対人関係でのｽﾄﾚｽ","職場環境によるストレス","仕事のコントロール度","技能の活用度","仕事の適性度","働きがい","活気","イライラ感","疲労感","不安感","抑うつ感","身体愁訴","上司からのサポート","同僚からのサポート","家族・友人からのサポート","仕事や生活の満足度","検算","原因","心身の反応","反応への影響"]
["空欄判定",{"$f":"AND(P33:R33)","v":true},{"$f":"AND(S33:U33)","v":true},{"$f":"V33","v":true},{"$f":"AND(AA33:AC33)","v":true},{"$f":"AD33","v":true},{"$f":"AND(W33:Y33)","v":true},{"$f":"Z33","v":true},{"$f":"AE33","v":true},{"$f":"AF33","v":true},{"$f":"AND(AG33:AI33)","v":true},{"$f":"AND(AJ33:AL33)","v":true},{"$f":"AND(AM33:AO33)","v":true},{"$f":"AND(AP33:AR33)","v":true},{"$f":"AND(AS33:AX33)","v":true},{"$f":"AND(AY33:BI33)","v":true},{"$f":"AND(BJ33,BM33,BP33)","v":true},{"$f":"AND(BK33,BN33,BQ33)","v":true},{"$f":"AND(BL33,BO33,BR33)","v":true},{"$f":"AND(BS33:BT33)","v":true},null,{"$f":"AND(B37:J37)","v":true},{"$f":"AND(K37:P37)","v":true},{"$f":"AND(Q37:S37)","v":true},{"$f":"AND(V37:X37)","v":true}]
["計算1",{"$f":"IF(B37=TRUE,SUM(P24:R24),\"\")","v":9},{"$f":"IF(C37=TRUE,SUM(S24:U24),\"\")","v":9},{"$f":"IF(D37=TRUE,V24,\"\")","v":3},{"$f":"IF(E37=TRUE,SUM(AA24:AB24),\"\")","v":6},{"$f":"IF(F37=TRUE,AD24,\"\")","v":3},{"$f":"IF(G37=TRUE,SUM(W24:Y24),\"\")","v":9},{"$f":"IF(H37=TRUE,Z24,\"\")","v":3},{"$f":"IF(I37=TRUE,AE24,\"\")","v":3},{"$f":"IF(J37=TRUE,AF24,\"\")","v":3},{"$f":"IF(K37=TRUE,SUM(AG24:AI24),\"\")","v":9},{"$f":"IF(L37=TRUE,SUM(AJ24:AL24),\"\")","v":9},{"$f":"IF(M37=TRUE,SUM(AM24:AO24),\"\")","v":9},{"$f":"IF(N37=TRUE,SUM(AP24:AR24),\"\")","v":9},{"$f":"IF(O37=TRUE,SUM(AS24:AX24),\"\")","v":18},{"$f":"IF(P37=TRUE,SUM(AY24:BI24),\"\")","v":33},{"$f":"IF(Q37=TRUE,SUM(BJ24,BM24,BP24),\"\")","v":9},{"$f":"IF(R37=TRUE,SUM(BK24,BN24,BQ24),\"\")","v":9},{"$f":"IF(S37=TRUE,SUM(BL24,BO24,BR24),\"\")","v":9},{"$f":"IF(T37=TRUE,SUM(BS24:BT24),\"\")","v":6},{"$f":"SUM(B38:T38)+AC24","v":171},{"$f":"IF(V37=TRUE,SUM(B38:J38),\"\")","v":48},{"$f":"IF(W37=TRUE,SUM(K38:P38),\"\")","v":87},{"$f":"IF(X37=TRUE,SUM(Q38:S38),\"\")","v":27}]
["計算2",{"$f":"IFERROR(15-B38,\"\")","v":6},{"$f":"IFERROR(15-C38,\"\")","v":6},{"$f":"IFERROR(5-D38,\"\")","v":2},{"$f":"IFERROR(10-E38+AC24,\"\")","v":7},{"$f":"IFERROR(5-F38,\"\")","v":2},{"$f":"IFERROR(15-G38,\"\")","v":6},{"$f":"IFERROR(H38,\"\")","v":3},{"$f":"IFERROR(5-I38,\"\")","v":2},{"$f":"IFERROR(5-J38,\"\")","v":2},{"$f":"K38","v":9},{"$f":"IFERROR(L38,\"\")","v":9},{"$f":"IFERROR(M38,\"\")","v":9},{"$f":"IFERROR(N38,\"\")","v":9},{"$f":"IFERROR(O38,\"\")","v":18},{"$f":"IFERROR(P38,\"\")","v":33},{"$f":"IFERROR(15-Q38,\"\")","v":6},{"$f":"IFERROR(15-R38,\"\")","v":6},{"$f":"IFERROR(15-S38,\"\")","v":6},{"$f":"IFERROR(10-T38,\"\")","v":4},{"$f":"SUM(B39:T39)","v":145},{"$f":"V38","v":48},{"$f":"W38","v":87},{"$f":"X38","v":27}]
[]
["通し番号","部署","氏名","職員番号","1.外航船員/内航船員","2.職名","2.職名/その他","性別","4.年代","5.船員になってからの年数","6.乗船中/陸上勤務","6.直近の乗船(何ヶ月前)","7.乗組員数","8.船種","8.船種/その他"]
[{"$f":"IF(A22=\"\",\"　\",\"\"&A22)","v":"11"},{"$f":"IF(B22=\"\",\"\",B22)","v":"総務"},{"$f":"IF(C22=\"\",\"\",C22)","v":"さ"},{"$f":"IF(D22=\"\",\"\",D22)","v":"11"},{"$f":"IF(E22=\"\",\"\",IF(OR(E45<1,E45>3),\"\",E45))","v":2},{"$f":"IF(F22=\"\",\"\",IF(OR(F45<1,F45>22),\"\",F45))","v":2},{"$f":"IF(G22=\"\",\"\",G22)","v":""},{"$f":"IF(H22=\"\",\"\",IF(OR(H45<1,H45>2),\"\",H45))","v":1},{"$f":"IF(I22=\"\",\"\",IF(OR(I45<1,I45>6),\"\",I45))","v":5},{"$f":"IF(J22=\"\",\"\",IF(OR(J45<1,J45>6),\"\",J45))","v":5},{"$f":"IF(K22=\"\",\"\",IF(OR(K45<1,K45>3),\"\",K45))","v":1},{"$f":"IF(L22=\"\",\"\",L22)","v":""},{"$f":"IF(M22=\"\",\"\",IF(OR(M45<1,M45>7),\"\",M45))","v":2},{"$f":"IF(N22=\"\",\"\",IF(OR(N45<1,N45>13),\"\",N45))","v":2},{"$f":"IF(O22=\"\",\"\",O22)","v":""}]
[]
["数値化"]
[{"$f":"IFERROR(VALUE(A22),\"\")","v":11},{"$f":"IFERROR(VALUE(B22),\"\")","v":""},"",11,2,2,0,1,5,5,1,0,2,2,0]
[]
["男性"]
["【ストレスの原因と考えられる因子】",{"$nulls":17},"【ストレスによっておこる心身の反応】",{"$nulls":11},"【ストレス反応に影響を与える他の因子】"]
["心理的な仕事の負担（量）",null,"心理的な仕事の負担（質）",null,"自覚的な身体的負担度",null,"職場の対人関係でのｽﾄﾚｽ",null,"職場環境によるストレス",null,"仕事のコントロール度",null,"技能の活用度",null,"仕事の適性度",null,"働きがい",null,"活気",null,"イライラ感",null,"疲労感",null,"不安感",null,"抑うつ感",null,"身体愁訴",null,"上司からのサポート",null,"同僚からのサポート",null,"家族・友人からのサポート",null,"仕事や生活の満足度"]
["得点","評価点","得点","評価点","得点","評価点","得点","評価点","得点","評価点","得点","評価点","得点","評価点","得点","評価点","得点","評価点","得点","評価点","得点","評価点","得点","評価点","得点","評価点","得点","評価点","得点","評価点","得点","評価点","得点","評価点","得点","評価点","得点","評価点"]
[3,5,3,5,1,4,3,5,1,4,3,1,1,1,1,1,1,1,3,1,3,5,3,5,3,5,6,5,11,5,3,1,3,1,3,1,2,1]
[4,5,4,5,2,3,4,4,2,3,4,1,2,2,2,2,2,2,4,2,4,4,4,4,4,4,7,4,12,4,4,1,4,1,4,1,3,1]
[5,5,5,5,3,2,5,4,3,2,5,2,3,3,3,3,3,3,5,2,5,4,5,3,5,3,8,4,13,4,5,2,5,1,5,1,4,2]
[6,4,6,4,4,1,6,3,4,1,6,2,4,4,4,5,4,5,6,3,6,3,6,3,6,3,9,3,14,4,6,2,6,2,6,1,5,3]
[7,4,7,4,null,null,7,3,null,null,7,3,{"$nulls":6},7,3,7,3,7,3,7,3,10,3,15,4,7,3,7,2,7,2,6,3]
[8,3,8,3,null,null,8,2,null,null,8,3,{"$nulls":6},8,4,8,2,8,2,8,2,11,3,16,3,8,3,8,3,8,2,7,4]
[9,3,9,3,null,null,9,2,null,null,9,4,{"$nulls":6},9,4,9,2,9,2,9,2,12,3,17,3,9,4,9,3,9,3,8,5]
[10,2,10,2,null,null,10,1,null,null,10,4,{"$nulls":6},10,5,10,1,10,2,10,1,13,2,18,3,10,4,10,4,10,4]
[11,2,11,2,null,null,11,1,null,null,11,5,{"$nulls":6},11,5,11,1,11,1,11,1,14,2,19,3,11,5,11,4,11,4]
[12,1,12,1,null,null,12,1,null,null,12,5,{"$nulls":6},12,5,12,1,12,1,12,1,15,2,20,3,12,5,12,5,12,5]
[{"$nulls":26},16,2,21,3]
[{"$nulls":26},17,1,22,2]
[{"$nulls":26},18,1,23,2]
[{"$nulls":26},19,1,24,2]
[{"$nulls":26},20,1,25,2]
[{"$nulls":26},21,1,26,2]
[{"$nulls":26},22,1,27,1]
[{"$nulls":26},23,1,28,1]
[{"$nulls":26},24,1,29,1]
[{"$nulls":28},30,1]
[{"$nulls":28},31,1]
[{"$nulls":28},32,1]
[{"$nulls":28},33,1]
[{"$nulls":28},34,1]
[{"$nulls":28},35,1]
[{"$nulls":28},36,1]
[{"$nulls":28},37,1]
[{"$nulls":28},38,1]
[{"$nulls":28},39,1]
[{"$nulls":28},40,1]
[{"$nulls":28},41,1]
[{"$nulls":28},42,1]
[{"$nulls":28},43,1]
[{"$nulls":28},44,1]
[]
[]
["女性"]
["【ストレスの原因と考えられる因子】",{"$nulls":17},"【ストレスによっておこる心身の反応】",{"$nulls":11},"【ストレス反応に影響を与える他の因子】"]
["心理的な仕事の負担（量）",null,"心理的な仕事の負担（質）",null,"自覚的な身体的負担度",null,"職場の対人関係でのｽﾄﾚｽ",null,"職場環境によるストレス",null,"仕事のコントロール度",null,"技能の活用度",null,"仕事の適性度",null,"働きがい",null,"活気",null,"イライラ感",null,"疲労感",null,"不安感",null,"抑うつ感",null,"身体愁訴",null,"上司からのサポート",null,"同僚からのサポート",null,"家族・友人からのサポート",null,"仕事や生活の満足度"]
["得点","評価点","得点","評価点","得点","評価点","得点","評価点","得点","評価点","得点","評価点","得点","評価点","得点","評価点","得点","評価点","得点","評価点","得点","評価点","得点","評価点","得点","評価点","得点","評価点","得点","評価点","得点","評価点","得点","評価点","得点","評価点","得点","評価点"]
[3,5,3,5,1,4,3,5,1,5,3,1,1,1,1,1,1,1,3,1,3,5,3,5,3,5,6,5,11,5,3,1,3,1,3,1,2,1]
[4,5,4,5,2,3,4,4,2,3,4,2,2,2,2,2,2,2,4,2,4,4,4,4,4,4,7,4,12,5,4,2,4,1,4,1,3,1]
[5,4,5,4,3,2,5,4,3,2,5,2,3,3,3,3,3,3,5,2,5,4,5,4,5,3,8,4,13,5,5,2,5,1,5,1,4,2]
[6,4,6,4,4,1,6,3,4,1,6,3,4,4,4,5,4,5,6,3,6,3,6,3,6,3,9,3,14,4,6,3,6,2,6,1,5,3]
[7,3,7,3,null,null,7,3,null,null,7,3,{"$nulls":6},7,3,7,3,7,3,7,3,10,3,15,4,7,3,7,2,7,2,6,3]
[8,3,8,3,null,null,8,2,null,null,8,3,{"$nulls":6},8,4,8,3,8,3,8,2,11,3,16,4,8,4,8,3,8,2,7,4]
[9,3,9,2,null,null,9,2,null,null,9,4,{"$nulls":6},9,4,9,2,9,2,9,2,12,3,17,4,9,4,9,3,9,3,8,5]
[10,2,10,2,null,null,10,1,null,null,10,4,{"$nulls":6},10,5,10,2,10,2,10,2,13,2,18,3,10,4,10,4,10,4]
[11,2,11,1,null,null,11,1,null,null,11,5,{"$nulls":6},11,5,11,1,11,2,11,1,14,2,19,3,11,5,11,4,11,4]
[12,1,12,1,null,null,12,1,null,null,12,5,{"$nulls":6},12,5,12,1,12,1,12,1,15,2,20,3,12,5,12,5,12,5]
[{"$nulls":26},16,2,21,3]
[{"$nulls":26},17,2,22,3]
[{"$nulls":26},18,1,23,3]
[{"$nulls":26},19,1,24,2]
[{"$nulls":26},20,1,25,2]
[{"$nulls":26},21,1,26,2]
[{"$nulls":26},22,1,27,2]
[{"$nulls":26},23,1,28,2]
[{"$nulls":26},24,1,29,2]
[{"$nulls":28},30,1]
[{"$nulls":28},31,1]
[{"$nulls":28},32,1]
[{"$nulls":28},33,1]
[{"$nulls":28},34,1]
[{"$nulls":28},35,1]
[{"$nulls":28},36,1]
[{"$nulls":28},37,1]
[{"$nulls":28},38,1]
[{"$nulls":28},39,1]
[{"$nulls":28},40,1]
[{"$nulls":28},41,1]
[{"$nulls":28},42,1]
[{"$nulls":28},43,1]
[{"$nulls":28},44,1]

{"sheet":"マスタ","index":5,"n_rows":66,"n_cols":2,"rows_kept":66,"hidden":true}
[1,"外航船員"]
[2,"内航船員"]
[3,"外航と内航の両方に従事する船員"]
[]
[1,"船長"]
[2,"一等航海士"]
[3,"二等航海士"]
[4,"三等航海士"]
[5,"機関長"]
[6,"一等機関士"]
[7,"二等機関士"]
[8,"三等機関士"]
[9,"通信長"]
[10,"二等通信士"]
[11,"三等通信士"]
[12,"事務長"]
[13,"事務員"]
[14,"船医"]
[15,"甲板長"]
[16,"甲板部員（甲板手、甲板員等）"]
[17,"操機長"]
[18,"機関部員（機関手、機関員等）"]
[19,"司厨長"]
[20,"司厨部員（司厨手、司厨員）"]
[21,"医務部(看護長、看護師）"]
[22,"その他"]
[]
[1,"10代"]
[2,"20代"]
[3,"30代"]
[4,"40代"]
[5,"50代"]
[6,"60代以上"]
[]
[1,"3年未満"]
[2,"3～5年"]
[3,"6～10年"]
[4,"11～20年"]
[5,"21～30年"]
[6,"31年以上"]
[]
[1,"乗船中"]
[2,"休暇中"]
[3,"陸上勤務"]
[]
[1,"5人以下"]
[2,"6～10人"]
[3,"11～15人"]
[4,"16～19人"]
[5,"20～29人"]
[6,"30～39人"]
[7,"40人以上"]
[]
[1,"一般貨物船"]
[2,"油タンカー"]
[3,"液化ガスタンカー"]
[4,"コンテナ船"]
[5,"自動車専用船"]
[6,"鉱石・石炭運搬船"]
[7,"客船"]
[8,"フェリー・RORO船"]
[9,"浚渫（しゅんせつ）船・作業船"]
[10,"練習船"]
[11,"バージ"]
[12,"タグボート"]
[13,"その他"]

{"sheet":"集団レポート","index":6,"n_rows":107,"n_cols":113,"rows_kept":107,"merged":[[0,4,2,25],[2,28,2,39],[3,4,3,7],[3,8,3,39],[4,4,4,7],[4,8,4,39],[5,4,5,7],[5,8,5,39],[6,4,6,7],[6,8,6,11],[6,12,6,15],[6,16,6,19],[6,20,6,23],[6,24,6,27],[6,28,6,39],[25,50,26,61],[25,62,26,67],[25,68,26,73],[25,74,26,79],[25,80,26,85],[33,59,34,61],[33,62,34,64],[33,65,34,67],[35,50,35,58],[35,59,35,61],[35,62,35,64],[35,65,35,67],[36,50,36,58],[36,59,36,61],[36,62,36,64],[36,65,36,67],[37,50,37,58],[37,59,37,61],[37,62,37,64],[37,65,37,67],[38,50,38,58],[38,59,38,61],[38,62,38,64],[38,65,38,67],[39,50,39,58],[39,59,39,61],[39,62,39,64],[39,65,39,67],[40,50,40,58],[40,59,40,61],[40,62,40,64],[40,65,40,67],[41,50,41,58],[41,59,41,61],[41,62,41,64],[41,65,41,67],[42,50,42,58],[42,59,42,61],[42,62,42,64],[42,65,42,67],[50,13,51,15],[50,16,51,18],[50,19,51,21],[50,59,51,61],[50,62,51,64],[50,65,51,67],[52,4,52,12],[52,13,52,15],[52,16,52,18],[52,19,52,21],[52,50,52,58],[52,59,52,61],[52,62,52,64],[52,65,52,67],[53,4,53,12],[53,13,53,15],[53,16,53,18],[53,19,53,21],[53,50,53,58],[53,59,53,61],[53,62,53,64],[53,65,53,67],[54,4,54,12],[54,13,54,15],[54,16,54,18],[54,19,54,21],[54,50,54,58],[54,59,54,61],[54,62,54,64],[54,65,54,67],[55,4,55,12],[55,13,55,15],[55,16,55,18],[55,19,55,21],[56,4,56,12],[56,13,56,15],[56,16,56,18],[56,19,56,21],[57,4,57,12],[57,13,57,15],[57,16,57,18],[57,19,57,21],[60,13,61,15],[60,16,61,18],[60,19,61,21],[60,59,61,61],[60,62,61,64],[60,65,61,67],[62,4,62,12],[62,13,62,15],[62,16,62,18],[62,19,62,21],[62,50,62,58],[62,59,62,61],[62,62,62,64],[62,65,62,67],[63,4,63,12],[63,13,63,15],[63,16,63,18],[63,19,63,21],[63,50,63,58],[63,59,63,61],[63,62,63,64],[63,65,63,67],[64,4,64,12],[64,13,64,15],[64,16,64,18],[64,19,64,21],[65,4,65,12],[65,13,65,15],[65,16,65,18],[65,19,65,21],[66,4,66,12],[66,13,66,15],[66,16,66,18],[66,19,66,21],[67,4,67,12],[67,13,67,15],[67,16,67,18],[67,19,67,21],[67,59,68,61],[67,62,68,64],[67,65,68,67],[68,4,68,12],[68,13,68,15],[68,16,68,18],[68,19,68,21],[69,4,69,12],[69,13,69,15],[69,16,69,18],[69,19,69,21],[69,50,69,58],[69,59,69,61],[69,62,69,64],[69,65,69,67],[70,4,70,12],[70,13,70,15],[70,16,70,18],[70,19,70,21],[70,50,70,58],[70,59,70,61],[70,62,70,64],[70,65,70,67],[71,4,71,12],[71,13,71,15],[71,16,71,18],[71,19,71,21],[71,50,71,58],[71,59,71,61],[71,62,71,64],[71,65,71,67],[72,50,72,58],[72,59,72,61],[72,62,72,64],[72,65,72,67],[73,50,73,58],[73,59,73,61],[73,62,73,64],[73,65,73,67],[74,13,75,15],[74,16,75,18],[74,19,75,21],[74,50,74,58],[74,59,74,61],[74,62,74,64],[74,65,74,67],[75,50,75,58],[75,59,75,61],[75,62,75,64],[75,65,75,67],[76,4,76,12],[76,13,76,15],[76,16,76,18],[76,19,76,21],[77,4,77,12],[77,13,77,15],[77,16,77,18],[77,19,77,21],[78,4,78,12],[78,13,78,15],[78,16,78,18],[78,19,78,21],[79,4,79,12],[79,13,79,15],[79,16,79,18],[79,19,79,21],[79,59,80,61],[79,62,80,64],[79,65,80,67],[80,4,80,12],[80,13,80,15],[80,16,80,18],[80,19,80,21],[81,4,81,12],[81,13,81,15],[81,16,81,18],[81,19,81,21],[81,50,81,58],[81,59,81,61],[81,62,81,64],[81,65,81,67],[82,4,82,12],[82,13,82,15],[82,16,82,18],[82,19,82,21],[85,59,86,61],[85,62,86,64],[85,65,86,67],[87,50,87,58],[87,59,87,61],[87,62,87,64],[87,65,87,67],[88,50,88,58],[88,59,88,61],[88,62,88,64],[88,65,88,67]]}
[{"$nulls":4},"船員版職場環境改善チェックシート"]
[]
[{"$nulls":28},{"$f":"\"作成日：\"&項目表!B8","v":"作成日：2020年04月22日"}]
[{"$nulls":4},"実施期間",{"$nulls":3},{"$f":"項目表!B12","v":"2020年02月01日 〜 2020年02月20日"}]
[{"$nulls":4},"集団名",{"$nulls":3},{"$f":"項目表!B11","v":"株式会社○○商船"}]
[{"$nulls":4},"外航/内航",{"$nulls":3},{"$f":"項目表!B7","v":"内航船"}]
[{"$nulls":4},"人数",{"$nulls":3},{"$f":"項目表!B1&\"人\"","v":"0人"},{"$nulls":3},"男性",{"$nulls":3},{"$f":"項目表!B2&\"人\"","v":"0人"},{"$nulls":3},"女性",{"$nulls":3},{"$f":"項目表!B3&\"人\"","v":"0人"},{"$nulls":3},{"$f":"IF(項目表!B4<>0,\"不明 : \"&項目表!B4&\"人\",\"\")","v":""}]
[{"$nulls":4},{"$f":"IF(項目表!$C$1,\"※ 集団の人数が10人未満ですので、データの取り扱いには注意してください。\",\"\")","v":"※ 集団の人数が10人未満ですので、データの取り扱いには注意してください。"}]
[{"$nulls":100},{"$f":"I7","v":"0人"}]
[]
[{"$nulls":110},"ここだけ船員 → 外航船(内航船) → 集団 の順にしている"]
[{"$nulls":101},"職場のいきいき","個人のいきいき",{"$nulls":7},"船員平均",{"$f":"$BK$26","v":"内航船平均"},"集団平均"]
[{"$nulls":100},"集団平均",{"$f":"DG72","v":""},{"$f":"DG71","v":""},{"$nulls":6},"作業資源",{"$f":"AVERAGE(DI45:DI50)","v":{"v":2.9665370440145256,"d":"3.0"}},{"$f":"AVERAGE(DH45:DH50)","v":{"v":2.889145371646227,"d":"2.9"}},{"$f":"AVERAGE(DG45:DG50)","v":{"$error":"#DIV/0!"}}]
[{"$nulls":100},{"$f":"$BK$26","v":"内航船平均"},{"$f":"DH72","v":{"v":2.535476718403548,"d":"2.5"}},{"$f":"DH71","v":{"v":2.4988901220865705,"d":"2.5"}},{"$nulls":6},"部署資源",{"$f":"AVERAGE(DI52:DI61)","v":{"v":2.813192073217605,"d":"2.8"}},{"$f":"AVERAGE(DH52:DH61)","v":{"v":2.789237986171302,"d":"2.8"}},{"$f":"AVERAGE(DG52:DG61)","v":{"$error":"#DIV/0!"}}]
[{"$nulls":100},{"$f":"DG12","v":"船員平均"},{"$f":"DI72","v":{"v":2.6079943899018234,"d":"2.6"}},{"$f":"DI71","v":{"v":2.5880701754385966,"d":"2.6"}},{"$nulls":6},"事業場資源",{"$f":"AVERAGE(DI63:DI69)","v":{"v":2.359814886393347,"d":"2.4"}},{"$f":"AVERAGE(DH63:DH69)","v":{"v":2.317088539385115,"d":"2.3"}},{"$f":"AVERAGE(DG63:DG69)","v":{"$error":"#DIV/0!"}}]
[{"$nulls":109},"仕事の負担",{"$f":"AVERAGE(DI36:DI43)","v":{"v":2.35382856552573,"d":"2.4"}},{"$f":"AVERAGE(DH36:DH43)","v":{"v":2.3824995349860303,"d":"2.4"}},{"$f":"AVERAGE(DG36:DG43)","v":{"$error":"#DIV/0!"}}]
{"$rows_empty":8}
[{"$nulls":50},"高ストレス者割合"]
[{"$nulls":50},{"$f":"項目表!B6","v":{"$error":"#DIV/0!"}},{"$nulls":11},{"$f":"I6&\"平均\"","v":"内航船平均"},{"$nulls":5},{"$f":"IF(I6=\"外航船\",11.1%,16.8%)","v":{"v":0.168,"d":"16.8%"}},{"$nulls":5},"船員平均",{"$nulls":5},{"v":0.142,"d":"14.2%"}]
[]
[]
[]
[]
[{"$nulls":104},"本集団"]
[{"$nulls":104},"外航船員"]
[{"$nulls":50},"仕事の負担",{"$nulls":53},"内航船員"]
[{"$nulls":59},"集団\n平均",null,null,{"$f":"生データ!G2&CHAR(10)&\"平均\"","v":"内航船\n平均"},null,null,"船員\n平均",{"$nulls":34},2,3,4,5,"全船員"]
[{"$nulls":93},"Y軸",{"$nulls":6},"集団","外航船員","内航船員","全船員",{"$nulls":6},{"$f":"$DI$12","v":"集団平均"},{"$f":"$BK$26","v":"内航船平均"},{"$f":"$DG$12","v":"船員平均"}]
[{"$nulls":49},{"$f":"VLOOKUP(AY36,重点改善項目!$A:$C,IF(集団レポート!$I$6=\"外航船\",2,3),FALSE)","v":""},"仕事の量的負担",{"$nulls":8},{"$f":"DG36","v":""},null,null,{"$f":"DH36","v":{"v":2.14962983833756,"d":"2.1"}},null,null,{"$f":"DI36","v":{"v":2.0845642167856178,"d":"2.1"}},{"$nulls":27},0.5,{"$nulls":5},"仕事の量的負担",{"$f":"HLOOKUP($CV36,'80項目＋データ'!$2:$6,CW$34,FALSE)","v":""},{"$f":"HLOOKUP($CV36,'80項目＋データ'!$2:$6,CX$34,FALSE)","v":{"v":1.877777777777778,"d":"1.9"}},{"$f":"HLOOKUP($CV36,'80項目＋データ'!$2:$6,CY$34,FALSE)","v":{"v":2.14962983833756,"d":"2.1"}},{"$f":"HLOOKUP($CV36,'80項目＋データ'!$2:$6,CZ$34,FALSE)","v":{"v":2.0845642167856178,"d":"2.1"}},{"$nulls":5},{"$f":"CV36","v":"仕事の量的負担"},{"$f":"CW36","v":""},{"$f":"IF($I$6=\"外航船\",CX36,CY36)","v":{"v":2.14962983833756,"d":"2.1"}},{"$f":"CZ36","v":{"v":2.0845642167856178,"d":"2.1"}}]
[{"$nulls":49},{"$f":"VLOOKUP(AY37,重点改善項目!$A:$C,IF(集団レポート!$I$6=\"外航船\",2,3),FALSE)","v":""},"仕事の質的負担",{"$nulls":8},{"$f":"DG37","v":""},null,null,{"$f":"DH37","v":{"v":1.9508056835308538,"d":"2.0"}},null,null,{"$f":"DI37","v":{"v":1.884482345213722,"d":"1.9"}},{"$nulls":27},1.5,{"$nulls":5},"仕事の質的負担",{"$f":"HLOOKUP($CV37,'80項目＋データ'!$2:$6,CW$34,FALSE)","v":""},{"$f":"HLOOKUP($CV37,'80項目＋データ'!$2:$6,CX$34,FALSE)","v":{"v":1.6326173757400522,"d":"1.6"}},{"$f":"HLOOKUP($CV37,'80項目＋データ'!$2:$6,CY$34,FALSE)","v":{"v":1.9508056835308538,"d":"2.0"}},{"$f":"HLOOKUP($CV37,'80項目＋データ'!$2:$6,CZ$34,FALSE)","v":{"v":1.884482345213722,"d":"1.9"}},{"$nulls":5},{"$f":"CV37","v":"仕事の質的負担"},{"$f":"CW37","v":""},{"v":1.9508056835308538,"d":"2.0"},{"$f":"CZ37","v":{"v":1.884482345213722,"d":"1.9"}}]
[{"$nulls":49},{"$f":"VLOOKUP(AY38,重点改善項目!$A:$C,IF(集団レポート!$I$6=\"外航船\",2,3),FALSE)","v":""},"身体的負担度",{"$nulls":8},"",null,null,{"v":2.146961325966851,"d":"2.1"},null,null,{"v":2.0965034965034963,"d":"2.1"},{"$nulls":27},2.5,{"$nulls":5},"身体的負担度",{"$f":"HLOOKUP($CV38,'80項目＋データ'!$2:$6,CW$34,FALSE)","v":""},{"$f":"HLOOKUP($CV38,'80項目＋データ'!$2:$6,CX$34,FALSE)","v":{"v":1.962962962962963,"d":"2.0"}},{"$f":"HLOOKUP($CV38,'80項目＋データ'!$2:$6,CY$34,FALSE)","v":{"v":2.146961325966851,"d":"2.1"}},{"$f":"HLOOKUP($CV38,'80項目＋データ'!$2:$6,CZ$34,FALSE)","v":{"v":2.0965034965034963,"d":"2.1"}},{"$nulls":5},"身体的負担度","",{"v":2.146961325966851,"d":"2.1"},{"v":2.0965034965034963,"d":"2.1"}]
[{"$nulls":49},{"$f":"VLOOKUP(AY39,重点改善項目!$A:$C,IF(集団レポート!$I$6=\"外航船\",2,3),FALSE)","v":""},"職場での対人関係",{"$nulls":8},"",null,null,{"v":2.8739158801483433,"d":"2.9"},null,null,{"v":2.91319586885716,"d":"2.9"},{"$nulls":27},3.5,{"$nulls":5},"職場での対人関係",{"$f":"HLOOKUP($CV39,'80項目＋データ'!$2:$6,CW$34,FALSE)","v":""},{"$f":"HLOOKUP($CV39,'80項目＋データ'!$2:$6,CX$34,FALSE)","v":{"v":3.0174583505438526,"d":"3.0"}},{"$f":"HLOOKUP($CV39,'80項目＋データ'!$2:$6,CY$34,FALSE)","v":{"v":2.8739158801483433,"d":"2.9"}},{"$f":"HLOOKUP($CV39,'80項目＋データ'!$2:$6,CZ$34,FALSE)","v":{"v":2.91319586885716,"d":"2.9"}},{"$nulls":5},"職場での対人関係","",{"v":2.8739158801483433,"d":"2.9"},{"v":2.91319586885716,"d":"2.9"}]
[{"$nulls":49},{"$f":"VLOOKUP(AY40,重点改善項目!$A:$C,IF(集団レポート!$I$6=\"外航船\",2,3),FALSE)","v":""},"職場環境",{"$nulls":8},"",null,null,{"v":2.466740576496674,"d":"2.5"},null,null,{"v":2.4109396914446,"d":"2.4"},{"$nulls":27},4.5,{"$nulls":5},"職場環境",{"$f":"HLOOKUP($CV40,'80項目＋データ'!$2:$6,CW$34,FALSE)","v":""},{"$f":"HLOOKUP($CV40,'80項目＋データ'!$2:$6,CX$34,FALSE)","v":{"v":2.214814814814815,"d":"2.2"}},{"$f":"HLOOKUP($CV40,'80項目＋データ'!$2:$6,CY$34,FALSE)","v":{"v":2.466740576496674,"d":"2.5"}},{"$f":"HLOOKUP($CV40,'80項目＋データ'!$2:$6,CZ$34,FALSE)","v":{"v":2.4109396914446,"d":"2.4"}},{"$nulls":5},"職場環境","",{"v":2.466740576496674,"d":"2.5"},{"v":2.4109396914446,"d":"2.4"}]
[{"$nulls":49},{"$f":"VLOOKUP(AY41,重点改善項目!$A:$C,IF(集団レポート!$I$6=\"外航船\",2,3),FALSE)","v":"★"},"情緒的負担",{"$nulls":8},"",null,null,{"v":2.3702882483370287,"d":"2.4"},null,null,{"v":2.3684210526315788,"d":"2.4"},{"$nulls":27},5.5,{"$nulls":5},"情緒的負担",{"$f":"HLOOKUP($CV41,'80項目＋データ'!$2:$6,CW$34,FALSE)","v":""},{"$f":"HLOOKUP($CV41,'80項目＋データ'!$2:$6,CX$34,FALSE)","v":{"v":2.343283582089552,"d":"2.3"}},{"$f":"HLOOKUP($CV41,'80項目＋データ'!$2:$6,CY$34,FALSE)","v":{"v":2.3702882483370287,"d":"2.4"}},{"$f":"HLOOKUP($CV41,'80項目＋データ'!$2:$6,CZ$34,FALSE)","v":{"v":2.3684210526315788,"d":"2.4"}},{"$nulls":5},"情緒的負担","",{"v":2.3702882483370287,"d":"2.4"},{"v":2.3684210526315788,"d":"2.4"}]
[{"$nulls":49},{"$f":"VLOOKUP(AY42,重点改善項目!$A:$C,IF(集団レポート!$I$6=\"外航船\",2,3),FALSE)","v":"★"},"役割葛藤",{"$nulls":8},"",null,null,{"v":2.409090909090909,"d":"2.4"},null,null,{"v":2.400701754385965,"d":"2.4"},{"$nulls":27},6.5,{"$nulls":5},"役割葛藤",{"$f":"HLOOKUP($CV42,'80項目＋データ'!$2:$6,CW$34,FALSE)","v":""},{"$f":"HLOOKUP($CV42,'80項目＋データ'!$2:$6,CX$34,FALSE)","v":{"v":2.376865671641791,"d":"2.4"}},{"$f":"HLOOKUP($CV42,'80項目＋データ'!$2:$6,CY$34,FALSE)","v":{"v":2.409090909090909,"d":"2.4"}},{"$f":"HLOOKUP($CV42,'80項目＋データ'!$2:$6,CZ$34,FALSE)","v":{"v":2.400701754385965,"d":"2.4"}},{"$nulls":5},"役割葛藤","",{"v":2.409090909090909,"d":"2.4"},{"v":2.400701754385965,"d":"2.4"}]
[{"$nulls":49},{"$f":"VLOOKUP(AY43,重点改善項目!$A:$C,IF(集団レポート!$I$6=\"外航船\",2,3),FALSE)","v":""},"ワーク・セルフ・バランス\n（ネガティブ）",{"$nulls":8},"",null,null,{"v":2.692563817980022,"d":"2.7"},null,null,{"v":2.6718200983836966,"d":"2.7"},{"$nulls":27},7.5,{"$nulls":5},"ワーク・セルフ・バランス（ネガティブ）",{"$f":"HLOOKUP($CV43,'80項目＋データ'!$2:$6,CW$34,FALSE)","v":""},{"$f":"HLOOKUP($CV43,'80項目＋データ'!$2:$6,CX$34,FALSE)","v":{"v":2.566666666666667,"d":"2.6"}},{"$f":"HLOOKUP($CV43,'80項目＋データ'!$2:$6,CY$34,FALSE)","v":{"v":2.692563817980022,"d":"2.7"}},{"$f":"HLOOKUP($CV43,'80項目＋データ'!$2:$6,CZ$34,FALSE)","v":{"v":2.6718200983836966,"d":"2.7"}},{"$nulls":5},"ワーク・セルフ・バランス（ネガティブ）","",{"v":2.692563817980022,"d":"2.7"},{"v":2.6718200983836966,"d":"2.7"}]
[{"$nulls":93},8.5,{"$nulls":16},{"$f":"$DI$12","v":"集団平均"},{"$f":"$BK$26","v":"内航船平均"},{"$f":"$DG$12","v":"船員平均"}]
[{"$nulls":93},9.5,{"$nulls":5},"仕事のコントロール",{"$f":"HLOOKUP($CV45,'80項目＋データ'!$2:$6,CW$34,FALSE)","v":""},{"$f":"HLOOKUP($CV45,'80項目＋データ'!$2:$6,CX$34,FALSE)","v":{"v":2.8074074074074074,"d":"2.8"}},{"$f":"HLOOKUP($CV45,'80項目＋データ'!$2:$6,CY$34,FALSE)","v":{"v":2.4948803843041047,"d":"2.5"}},{"$f":"HLOOKUP($CV45,'80項目＋データ'!$2:$6,CZ$34,FALSE)","v":{"v":2.5680902195827238,"d":"2.6"}},{"$nulls":5},"仕事のコントロール",{"$f":"CW45","v":""},{"$f":"IF($I$6=\"外航船\",CX45,CY45)","v":{"v":2.4948803843041047,"d":"2.5"}},{"$f":"CZ45","v":{"v":2.5680902195827238,"d":"2.6"}}]
[{"$nulls":99},"仕事の適性",{"$f":"HLOOKUP($CV46,'80項目＋データ'!$2:$6,CW$34,FALSE)","v":""},{"$f":"HLOOKUP($CV46,'80項目＋データ'!$2:$6,CX$34,FALSE)","v":3.1},{"$f":"HLOOKUP($CV46,'80項目＋データ'!$2:$6,CY$34,FALSE)","v":{"v":2.8598233995584987,"d":"2.9"}},{"$f":"HLOOKUP($CV46,'80項目＋データ'!$2:$6,CZ$34,FALSE)","v":{"v":2.919636617749825,"d":"2.9"}},{"$nulls":5},"仕事の適性","",{"v":2.8598233995584987,"d":"2.9"},{"v":2.919636617749825,"d":"2.9"}]
[{"$nulls":99},"技能の活用",{"$f":"HLOOKUP($CV47,'80項目＋データ'!$2:$6,CW$34,FALSE)","v":""},{"$f":"HLOOKUP($CV47,'80項目＋データ'!$2:$6,CX$34,FALSE)","v":{"v":3.3605947955390336,"d":"3.4"}},{"$f":"HLOOKUP($CV47,'80項目＋データ'!$2:$6,CY$34,FALSE)","v":{"v":3.019911504424779,"d":"3.0"}},{"$f":"HLOOKUP($CV47,'80項目＋データ'!$2:$6,CZ$34,FALSE)","v":{"v":3.1212333566923616,"d":"3.1"}},{"$nulls":5},"技能の活用","",{"v":3.019911504424779,"d":"3.0"},{"v":3.1212333566923616,"d":"3.1"}]
[{"$nulls":99},"仕事の意義",{"$f":"HLOOKUP($CV48,'80項目＋データ'!$2:$6,CW$34,FALSE)","v":""},{"$f":"HLOOKUP($CV48,'80項目＋データ'!$2:$6,CX$34,FALSE)","v":{"v":3.2703703703703706,"d":"3.3"}},{"$f":"HLOOKUP($CV48,'80項目＋データ'!$2:$6,CY$34,FALSE)","v":{"v":2.881767955801105,"d":"2.9"}},{"$f":"HLOOKUP($CV48,'80項目＋データ'!$2:$6,CZ$34,FALSE)","v":{"v":2.979020979020979,"d":"3.0"}},{"$nulls":5},"仕事の意義","",{"v":2.881767955801105,"d":"2.9"},{"v":2.979020979020979,"d":"3.0"}]
[{"$nulls":99},"役割明確さ",{"$f":"HLOOKUP($CV49,'80項目＋データ'!$2:$6,CW$34,FALSE)","v":""},{"$f":"HLOOKUP($CV49,'80項目＋データ'!$2:$6,CX$34,FALSE)","v":{"v":3.5373134328358207,"d":"3.5"}},{"$f":"HLOOKUP($CV49,'80項目＋データ'!$2:$6,CY$34,FALSE)","v":{"v":3.359288097886541,"d":"3.4"}},{"$f":"HLOOKUP($CV49,'80項目＋データ'!$2:$6,CZ$34,FALSE)","v":{"v":3.4036568213783402,"d":"3.4"}},{"$nulls":5},"役割明確さ","",{"v":3.359288097886541,"d":"3.4"},{"v":3.4036568213783402,"d":"3.4"}]
[{"$nulls":4},"作業資源",{"$nulls":45},{"$f":"I6&\"での業務・生活\"","v":"内航船での業務・生活"},{"$nulls":48},"成長の機会",{"$f":"HLOOKUP($CV50,'80項目＋データ'!$2:$6,CW$34,FALSE)","v":""},{"$f":"HLOOKUP($CV50,'80項目＋データ'!$2:$6,CX$34,FALSE)","v":{"v":3.0559701492537314,"d":"3.1"}},{"$f":"HLOOKUP($CV50,'80項目＋データ'!$2:$6,CY$34,FALSE)","v":{"v":2.7192008879023306,"d":"2.7"}},{"$f":"HLOOKUP($CV50,'80項目＋データ'!$2:$6,CZ$34,FALSE)","v":{"v":2.807584269662921,"d":"2.8"}},{"$nulls":5},"成長の機会","",{"v":2.7192008879023306,"d":"2.7"},{"v":2.807584269662921,"d":"2.8"}]
[{"$nulls":13},"集団\n平均",null,null,{"$f":"$BK$34","v":"内航船\n平均"},null,null,"船員\n平均",{"$nulls":39},"集団\n平均",null,null,{"$f":"$BK$34","v":"内航船\n平均"},null,null,"船員\n平均",{"$nulls":44},{"$f":"$DI$12","v":"集団平均"},{"$f":"$BK$26","v":"内航船平均"},{"$f":"$DG$12","v":"船員平均"}]
[{"$nulls":99},"上司のサポート",{"$f":"HLOOKUP($CV52,'80項目＋データ'!$2:$6,CW$34,FALSE)","v":""},{"$f":"HLOOKUP($CV52,'80項目＋データ'!$2:$6,CX$34,FALSE)","v":{"v":2.6309836584865933,"d":"2.6"}},{"$f":"HLOOKUP($CV52,'80項目＋データ'!$2:$6,CY$34,FALSE)","v":{"v":2.529557395583932,"d":"2.5"}},{"$f":"HLOOKUP($CV52,'80項目＋データ'!$2:$6,CZ$34,FALSE)","v":{"v":2.5756600133971497,"d":"2.6"}},{"$nulls":5},"上司のサポート",{"$f":"CW52","v":""},{"$f":"IF($I$6=\"外航船\",CX52,CY52)","v":{"v":2.529557395583932,"d":"2.5"}},{"$f":"CZ52","v":{"v":2.5756600133971497,"d":"2.6"}}]
[{"$nulls":3},{"$f":"VLOOKUP(E53,重点改善項目!$A:$C,IF(集団レポート!$I$6=\"外航船\",2,3),FALSE)","v":"★"},"仕事のコントロール",{"$nulls":8},{"$f":"DG45","v":""},null,null,{"$f":"DH45","v":{"v":2.4948803843041047,"d":"2.5"}},null,null,{"$f":"DI45","v":{"v":2.5680902195827238,"d":"2.6"}},{"$nulls":29},{"$f":"VLOOKUP(AY53,重点改善項目!$A:$C,IF(集団レポート!$I$6=\"外航船\",2,3),FALSE)","v":""},{"$f":"CU95","v":"忙しさ"},{"$nulls":8},{"$f":"DG95","v":""},null,null,{"$f":"DH95","v":{"v":2.3444382027525643,"d":"2.3"}},null,null,"-",{"$nulls":33},"同僚のサポート",{"$f":"HLOOKUP($CV53,'80項目＋データ'!$2:$6,CW$34,FALSE)","v":""},{"$f":"HLOOKUP($CV53,'80項目＋データ'!$2:$6,CX$34,FALSE)","v":{"v":2.800995024875622,"d":"2.8"}},{"$f":"HLOOKUP($CV53,'80項目＋データ'!$2:$6,CY$34,FALSE)","v":{"v":2.6551818783068786,"d":"2.7"}},{"$f":"HLOOKUP($CV53,'80項目＋データ'!$2:$6,CZ$34,FALSE)","v":{"v":2.6981354318064157,"d":"2.7"}},{"$nulls":5},"同僚のサポート","",{"v":2.6551818783068786,"d":"2.7"},{"v":2.6981354318064157,"d":"2.7"}]
[{"$nulls":3},{"$f":"VLOOKUP(E54,重点改善項目!$A:$C,IF(集団レポート!$I$6=\"外航船\",2,3),FALSE)","v":""},"仕事の適性",{"$nulls":8},"",null,null,{"v":2.8598233995584987,"d":"2.9"},null,null,{"v":2.919636617749825,"d":"2.9"},{"$nulls":29},{"$f":"VLOOKUP(AY54,重点改善項目!$A:$C,IF(集団レポート!$I$6=\"外航船\",2,3),FALSE)","v":""},{"$f":"CU96","v":"業務の危険さ過酷さ"},{"$nulls":8},{"$f":"DG96","v":""},null,null,{"$f":"DH96","v":{"v":2.336892970828813,"d":"2.3"}},null,null,"-",{"$nulls":33},"家族友人のサポート",{"$f":"HLOOKUP($CV54,'80項目＋データ'!$2:$6,CW$34,FALSE)","v":""},{"$f":"HLOOKUP($CV54,'80項目＋データ'!$2:$6,CX$34,FALSE)","v":{"v":3.111940298507463,"d":"3.1"}},{"$f":"HLOOKUP($CV54,'80項目＋データ'!$2:$6,CY$34,FALSE)","v":{"v":3.183019044422231,"d":"3.2"}},{"$f":"HLOOKUP($CV54,'80項目＋データ'!$2:$6,CZ$34,FALSE)","v":{"v":3.165075768898179,"d":"3.2"}},{"$nulls":5},"家族友人のサポート","",{"v":3.183019044422231,"d":"3.2"},{"v":3.165075768898179,"d":"3.2"}]
[{"$nulls":3},{"$f":"VLOOKUP(E55,重点改善項目!$A:$C,IF(集団レポート!$I$6=\"外航船\",2,3),FALSE)","v":""},"技能の活用",{"$nulls":8},"",null,null,{"v":3.019911504424779,"d":"3.0"},null,null,{"v":3.1212333566923616,"d":"3.1"},{"$nulls":29},{"$f":"VLOOKUP(AY55,重点改善項目!$A:$C,IF(集団レポート!$I$6=\"外航船\",2,3),FALSE)","v":"★"},{"$f":"CU97","v":"人づきあい"},{"$nulls":8},{"$f":"DG97","v":""},null,null,{"$f":"DH97","v":{"v":2.490740952817224,"d":"2.5"}},null,null,"-",{"$nulls":33},"経済・地位報酬",{"$f":"HLOOKUP($CV55,'80項目＋データ'!$2:$6,CW$34,FALSE)","v":""},{"$f":"HLOOKUP($CV55,'80項目＋データ'!$2:$6,CX$34,FALSE)","v":{"v":2.77037037037037,"d":"2.8"}},{"$f":"HLOOKUP($CV55,'80項目＋データ'!$2:$6,CY$34,FALSE)","v":{"v":2.762486126526082,"d":"2.8"}},{"$f":"HLOOKUP($CV55,'80項目＋データ'!$2:$6,CZ$34,FALSE)","v":{"v":2.7775438596491226,"d":"2.8"}},{"$nulls":5},"経済・地位報酬","",{"v":2.762486126526082,"d":"2.8"},{"v":2.7775438596491226,"d":"2.8"}]
[{"$nulls":3},{"$f":"VLOOKUP(E56,重点改善項目!$A:$C,IF(集団レポート!$I$6=\"外航船\",2,3),FALSE)","v":""},"仕事の意義",{"$nulls":8},"",null,null,{"v":2.881767955801105,"d":"2.9"},null,null,{"v":2.979020979020979,"d":"3.0"},{"$nulls":30},"※こちらの項目には船員平均はありません。",{"$nulls":48},"尊重報酬",{"$f":"HLOOKUP($CV56,'80項目＋データ'!$2:$6,CW$34,FALSE)","v":""},{"$f":"HLOOKUP($CV56,'80項目＋データ'!$2:$6,CX$34,FALSE)","v":{"v":2.8544776119402986,"d":"2.9"}},{"$f":"HLOOKUP($CV56,'80項目＋データ'!$2:$6,CY$34,FALSE)","v":{"v":2.755011135857461,"d":"2.8"}},{"$f":"HLOOKUP($CV56,'80項目＋データ'!$2:$6,CZ$34,FALSE)","v":{"v":2.809725158562368,"d":"2.8"}},{"$nulls":5},"尊重報酬","",{"v":2.755011135857461,"d":"2.8"},{"v":2.809725158562368,"d":"2.8"}]
[{"$nulls":3},{"$f":"VLOOKUP(E57,重点改善項目!$A:$C,IF(集団レポート!$I$6=\"外航船\",2,3),FALSE)","v":""},"役割明確さ",{"$nulls":8},"",null,null,{"v":3.359288097886541,"d":"3.4"},null,null,{"v":3.4036568213783402,"d":"3.4"},{"$nulls":79},"安定報酬",{"$f":"HLOOKUP($CV57,'80項目＋データ'!$2:$6,CW$34,FALSE)","v":""},{"$f":"HLOOKUP($CV57,'80項目＋データ'!$2:$6,CX$34,FALSE)","v":{"v":3.0555555555555554,"d":"3.1"}},{"$f":"HLOOKUP($CV57,'80項目＋データ'!$2:$6,CY$34,FALSE)","v":{"v":3.1265260821309657,"d":"3.1"}},{"$f":"HLOOKUP($CV57,'80項目＋データ'!$2:$6,CZ$34,FALSE)","v":{"v":3.119298245614035,"d":"3.1"}},{"$nulls":5},"安定報酬","",{"v":3.1265260821309657,"d":"3.1"},{"v":3.119298245614035,"d":"3.1"}]
[{"$nulls":3},{"$f":"VLOOKUP(E58,重点改善項目!$A:$C,IF(集団レポート!$I$6=\"外航船\",2,3),FALSE)","v":""},"成長の機会",{"$nulls":8},"",null,null,{"v":2.7192008879023306,"d":"2.7"},null,null,{"v":2.807584269662921,"d":"2.8"},{"$nulls":79},"上司のリーダー\nシップ",{"$f":"HLOOKUP($CV58,'80項目＋データ'!$2:$6,CW$34,FALSE)","v":""},{"$f":"HLOOKUP($CV58,'80項目＋データ'!$2:$6,CX$34,FALSE)","v":{"v":2.785185185185185,"d":"2.8"}},{"$f":"HLOOKUP($CV58,'80項目＋データ'!$2:$6,CY$34,FALSE)","v":{"v":2.680044593088071,"d":"2.7"}},{"$f":"HLOOKUP($CV58,'80項目＋データ'!$2:$6,CZ$34,FALSE)","v":{"v":2.712676056338028,"d":"2.7"}},{"$nulls":5},"上司のリーダー\nシップ","",{"v":2.680044593088071,"d":"2.7"},{"v":2.712676056338028,"d":"2.7"}]
[{"$nulls":99},"上司の公正な態度",{"$f":"HLOOKUP($CV59,'80項目＋データ'!$2:$6,CW$34,FALSE)","v":""},{"$f":"HLOOKUP($CV59,'80項目＋データ'!$2:$6,CX$34,FALSE)","v":{"v":2.9516728624535316,"d":"3.0"}},{"$f":"HLOOKUP($CV59,'80項目＋データ'!$2:$6,CY$34,FALSE)","v":{"v":2.7645089285714284,"d":"2.8"}},{"$f":"HLOOKUP($CV59,'80項目＋データ'!$2:$6,CZ$34,FALSE)","v":{"v":2.8363892806770097,"d":"2.8"}},{"$nulls":5},"上司の公正な態度","",{"v":2.7645089285714284,"d":"2.8"},{"v":2.8363892806770097,"d":"2.8"}]
[{"$nulls":4},"部署資源",{"$nulls":45},"いきいきアウトカム",{"$nulls":48},"ほめてもらえる職場",{"$f":"HLOOKUP($CV60,'80項目＋データ'!$2:$6,CW$34,FALSE)","v":""},{"$f":"HLOOKUP($CV60,'80項目＋データ'!$2:$6,CX$34,FALSE)","v":{"v":2.685185185185185,"d":"2.7"}},{"$f":"HLOOKUP($CV60,'80項目＋データ'!$2:$6,CY$34,FALSE)","v":{"v":2.719063545150502,"d":"2.7"}},{"$f":"HLOOKUP($CV60,'80項目＋データ'!$2:$6,CZ$34,FALSE)","v":{"v":2.7204225352112674,"d":"2.7"}},{"$nulls":5},"ほめてもらえる職場","",{"v":2.719063545150502,"d":"2.7"},{"v":2.7204225352112674,"d":"2.7"}]
[{"$nulls":13},"集団\n平均",null,null,{"$f":"$BK$34","v":"内航船\n平均"},null,null,"船員\n平均",{"$nulls":39},"集団\n平均",null,null,{"$f":"$BK$34","v":"内航船\n平均"},null,null,"船員\n平均",{"$nulls":33},"失敗を認める職場",{"$f":"HLOOKUP($CV61,'80項目＋データ'!$2:$6,CW$34,FALSE)","v":""},{"$f":"HLOOKUP($CV61,'80項目＋データ'!$2:$6,CX$34,FALSE)","v":{"v":2.6555555555555554,"d":"2.7"}},{"$f":"HLOOKUP($CV61,'80項目＋データ'!$2:$6,CY$34,FALSE)","v":{"v":2.7169811320754715,"d":"2.7"}},{"$f":"HLOOKUP($CV61,'80項目＋データ'!$2:$6,CZ$34,FALSE)","v":{"v":2.716994382022472,"d":"2.7"}},{"$nulls":5},"失敗を認める職場","",{"v":2.7169811320754715,"d":"2.7"},{"v":2.716994382022472,"d":"2.7"}]
[{"$nulls":110},{"$f":"$DI$12","v":"集団平均"},{"$f":"$BK$26","v":"内航船平均"},{"$f":"$DG$12","v":"船員平均"}]
[{"$nulls":3},{"$f":"VLOOKUP(E63,重点改善項目!$A:$C,IF(集団レポート!$I$6=\"外航船\",2,3),FALSE)","v":"★"},"上司のサポート",{"$nulls":8},{"$f":"DG52","v":""},null,null,{"$f":"DH52","v":{"v":2.529557395583932,"d":"2.5"}},null,null,{"$f":"DI52","v":{"v":2.5756600133971497,"d":"2.6"}},{"$nulls":29},{"$f":"VLOOKUP(AY63,重点改善項目!$A:$C,IF(集団レポート!$I$6=\"外航船\",2,3),FALSE)","v":""},"ワーク・エンゲイジメント",{"$nulls":8},{"$f":"DG71","v":""},null,null,{"$f":"DH71","v":{"v":2.4988901220865705,"d":"2.5"}},null,null,{"$f":"DI71","v":{"v":2.5880701754385966,"d":"2.6"}},{"$nulls":33},"経営層との信頼関係",{"$f":"HLOOKUP($CV63,'80項目＋データ'!$2:$6,CW$34,FALSE)","v":""},{"$f":"HLOOKUP($CV63,'80項目＋データ'!$2:$6,CX$34,FALSE)","v":{"v":2.714814814814815,"d":"2.7"}},{"$f":"HLOOKUP($CV63,'80項目＋データ'!$2:$6,CY$34,FALSE)","v":{"v":2.4688195991091315,"d":"2.5"}},{"$f":"HLOOKUP($CV63,'80項目＋データ'!$2:$6,CZ$34,FALSE)","v":{"v":2.509845288326301,"d":"2.5"}},{"$nulls":5},"経営層との信頼関係",{"$f":"CW63","v":""},{"$f":"IF($I$6=\"外航船\",CX63,CY63)","v":{"v":2.4688195991091315,"d":"2.5"}},{"$f":"CZ63","v":{"v":2.509845288326301,"d":"2.5"}}]
[{"$nulls":3},{"$f":"VLOOKUP(E64,重点改善項目!$A:$C,IF(集団レポート!$I$6=\"外航船\",2,3),FALSE)","v":""},"同僚のサポート",{"$nulls":8},{"$f":"DG53","v":""},null,null,{"$f":"DH53","v":{"v":2.6551818783068786,"d":"2.7"}},null,null,{"$f":"DI53","v":{"v":2.6981354318064157,"d":"2.7"}},{"$nulls":29},{"$f":"VLOOKUP(AY64,重点改善項目!$A:$C,IF(集団レポート!$I$6=\"外航船\",2,3),FALSE)","v":""},"職場の一体感",{"$nulls":8},{"$f":"DG72","v":""},null,null,{"$f":"DH72","v":{"v":2.535476718403548,"d":"2.5"}},null,null,{"$f":"DI72","v":{"v":2.6079943899018234,"d":"2.6"}},{"$nulls":33},"変化への対応",{"$f":"HLOOKUP($CV64,'80項目＋データ'!$2:$6,CW$34,FALSE)","v":""},{"$f":"HLOOKUP($CV64,'80項目＋データ'!$2:$6,CX$34,FALSE)","v":{"v":2.4814814814814814,"d":"2.5"}},{"$f":"HLOOKUP($CV64,'80項目＋データ'!$2:$6,CY$34,FALSE)","v":{"v":2.3940066592674807,"d":"2.4"}},{"$f":"HLOOKUP($CV64,'80項目＋データ'!$2:$6,CZ$34,FALSE)","v":{"v":2.3992982456140353,"d":"2.4"}},{"$nulls":5},"変化への対応","",{"v":2.3940066592674807,"d":"2.4"},{"v":2.3992982456140353,"d":"2.4"}]
[{"$nulls":3},{"$f":"VLOOKUP(E65,重点改善項目!$A:$C,IF(集団レポート!$I$6=\"外航船\",2,3),FALSE)","v":"★"},"家族友人のサポート",{"$nulls":8},"",null,null,{"v":3.183019044422231,"d":"3.2"},null,null,{"v":3.165075768898179,"d":"3.2"},{"$nulls":79},"個人の尊重",{"$f":"HLOOKUP($CV65,'80項目＋データ'!$2:$6,CW$34,FALSE)","v":""},{"$f":"HLOOKUP($CV65,'80項目＋データ'!$2:$6,CX$34,FALSE)","v":{"v":2.4925925925925925,"d":"2.5"}},{"$f":"HLOOKUP($CV65,'80項目＋データ'!$2:$6,CY$34,FALSE)","v":{"v":2.2757475083056478,"d":"2.3"}},{"$f":"HLOOKUP($CV65,'80項目＋データ'!$2:$6,CZ$34,FALSE)","v":{"v":2.314165497896213,"d":"2.3"}},{"$nulls":5},"個人の尊重","",{"v":2.2757475083056478,"d":"2.3"},{"v":2.314165497896213,"d":"2.3"}]
[{"$nulls":3},{"$f":"VLOOKUP(E66,重点改善項目!$A:$C,IF(集団レポート!$I$6=\"外航船\",2,3),FALSE)","v":""},"経済・地位報酬",{"$nulls":8},"",null,null,{"v":2.762486126526082,"d":"2.8"},null,null,{"v":2.7775438596491226,"d":"2.8"},{"$nulls":79},"公正な人事評価",{"$f":"HLOOKUP($CV66,'80項目＋データ'!$2:$6,CW$34,FALSE)","v":""},{"$f":"HLOOKUP($CV66,'80項目＋データ'!$2:$6,CX$34,FALSE)","v":{"v":2.345724907063197,"d":"2.3"}},{"$f":"HLOOKUP($CV66,'80項目＋データ'!$2:$6,CY$34,FALSE)","v":{"v":2.147777777777778,"d":"2.1"}},{"$f":"HLOOKUP($CV66,'80項目＋データ'!$2:$6,CZ$34,FALSE)","v":{"v":2.2165963431786215,"d":"2.2"}},{"$nulls":5},"公正な人事評価","",{"v":2.147777777777778,"d":"2.1"},{"v":2.2165963431786215,"d":"2.2"}]
[{"$nulls":3},{"$f":"VLOOKUP(E67,重点改善項目!$A:$C,IF(集団レポート!$I$6=\"外航船\",2,3),FALSE)","v":""},"尊重報酬",{"$nulls":8},"",null,null,{"v":2.755011135857461,"d":"2.8"},null,null,{"v":2.809725158562368,"d":"2.8"},{"$nulls":30},"心身の健康",{"$nulls":48},"多様な労働者への対応",{"$f":"HLOOKUP($CV67,'80項目＋データ'!$2:$6,CW$34,FALSE)","v":""},{"$f":"HLOOKUP($CV67,'80項目＋データ'!$2:$6,CX$34,FALSE)","v":{"v":2.7695167286245352,"d":"2.8"}},{"$f":"HLOOKUP($CV67,'80項目＋データ'!$2:$6,CY$34,FALSE)","v":{"v":2.49944382647386,"d":"2.5"}},{"$f":"HLOOKUP($CV67,'80項目＋データ'!$2:$6,CZ$34,FALSE)","v":{"v":2.5693173821252637,"d":"2.6"}},{"$nulls":5},"多様な労働者への対応","",{"v":2.49944382647386,"d":"2.5"},{"v":2.5693173821252637,"d":"2.6"}]
[{"$nulls":3},{"$f":"VLOOKUP(E68,重点改善項目!$A:$C,IF(集団レポート!$I$6=\"外航船\",2,3),FALSE)","v":""},"安定報酬",{"$nulls":8},"",null,null,{"v":3.1265260821309657,"d":"3.1"},null,null,{"v":3.119298245614035,"d":"3.1"},{"$nulls":39},"集団\n平均",null,null,{"$f":"$BK$34","v":"内航船\n平均"},null,null,"船員\n平均",{"$nulls":33},"キャリア形成",{"$f":"HLOOKUP($CV68,'80項目＋データ'!$2:$6,CW$34,FALSE)","v":""},{"$f":"HLOOKUP($CV68,'80項目＋データ'!$2:$6,CX$34,FALSE)","v":{"v":2.54275092936803,"d":"2.5"}},{"$f":"HLOOKUP($CV68,'80項目＋データ'!$2:$6,CY$34,FALSE)","v":{"v":2.3233333333333333,"d":"2.3"}},{"$f":"HLOOKUP($CV68,'80項目＋データ'!$2:$6,CZ$34,FALSE)","v":{"v":2.3549295774647887,"d":"2.4"}},{"$nulls":5},"キャリア形成","",{"v":2.3233333333333333,"d":"2.3"},{"v":2.3549295774647887,"d":"2.4"}]
[{"$nulls":3},{"$f":"VLOOKUP(E69,重点改善項目!$A:$C,IF(集団レポート!$I$6=\"外航船\",2,3),FALSE)","v":""},"上司のリーダー\nシップ",{"$nulls":8},"",null,null,{"v":2.680044593088071,"d":"2.7"},null,null,{"v":2.712676056338028,"d":"2.7"},{"$nulls":79},"ワーク・セルフ・バランス（ポジティブ）",{"$f":"HLOOKUP($CV69,'80項目＋データ'!$2:$6,CW$34,FALSE)","v":""},{"$f":"HLOOKUP($CV69,'80項目＋データ'!$2:$6,CX$34,FALSE)","v":{"v":2.311111111111111,"d":"2.3"}},{"$f":"HLOOKUP($CV69,'80項目＋データ'!$2:$6,CY$34,FALSE)","v":{"v":2.1104910714285716,"d":"2.1"}},{"$f":"HLOOKUP($CV69,'80項目＋データ'!$2:$6,CZ$34,FALSE)","v":{"v":2.1545518701482003,"d":"2.2"}},{"$nulls":5},"ワーク・セルフ・バランス（ポジティブ）","",{"v":2.1104910714285716,"d":"2.1"},{"v":2.1545518701482003,"d":"2.2"}]
[{"$nulls":3},{"$f":"VLOOKUP(E70,重点改善項目!$A:$C,IF(集団レポート!$I$6=\"外航船\",2,3),FALSE)","v":""},"上司の公正な態度",{"$nulls":8},"",null,null,{"v":2.7645089285714284,"d":"2.8"},null,null,{"v":2.8363892806770097,"d":"2.8"},{"$nulls":29},{"$f":"VLOOKUP(AY70,重点改善項目!$A:$C,IF(集団レポート!$I$6=\"外航船\",2,3),FALSE)","v":""},"活気",{"$nulls":8},{"$f":"DG74","v":""},null,null,{"$f":"DH74","v":{"v":2.2605971543170744,"d":"2.3"}},null,null,{"$f":"DI74","v":{"v":2.3186057340141892,"d":"2.3"}},{"$nulls":44},{"$f":"$DI$12","v":"集団平均"},{"$f":"$BK$26","v":"内航船平均"},{"$f":"$DG$12","v":"船員平均"}]
[{"$nulls":3},{"$f":"VLOOKUP(E71,重点改善項目!$A:$C,IF(集団レポート!$I$6=\"外航船\",2,3),FALSE)","v":""},"ほめてもらえる職場",{"$nulls":8},"",null,null,{"v":2.719063545150502,"d":"2.7"},null,null,{"v":2.7204225352112674,"d":"2.7"},{"$nulls":29},{"$f":"VLOOKUP(AY71,重点改善項目!$A:$C,IF(集団レポート!$I$6=\"外航船\",2,3),FALSE)","v":""},"イライラ感",{"$nulls":8},{"$f":"DG75","v":""},null,null,{"$f":"DH75","v":{"v":2.8072744353381047,"d":"2.8"}},null,null,{"$f":"DI75","v":{"v":2.8513722541500788,"d":"2.9"}},{"$nulls":33},"ワーク・エンゲイジメント",{"$f":"HLOOKUP($CV71,'80項目＋データ'!$2:$6,CW$34,FALSE)","v":""},{"$f":"HLOOKUP($CV71,'80項目＋データ'!$2:$6,CX$34,FALSE)","v":{"v":2.8314814814814815,"d":"2.8"}},{"$f":"HLOOKUP($CV71,'80項目＋データ'!$2:$6,CY$34,FALSE)","v":{"v":2.4988901220865705,"d":"2.5"}},{"$f":"HLOOKUP($CV71,'80項目＋データ'!$2:$6,CZ$34,FALSE)","v":{"v":2.5880701754385966,"d":"2.6"}},{"$nulls":5},"ワーク・エンゲイジメント",{"$f":"CW71","v":""},{"$f":"IF($I$6=\"外航船\",CX71,CY71)","v":{"v":2.4988901220865705,"d":"2.5"}},{"$f":"CZ71","v":{"v":2.5880701754385966,"d":"2.6"}}]
[{"$nulls":3},{"$f":"VLOOKUP(E72,重点改善項目!$A:$C,IF(集団レポート!$I$6=\"外航船\",2,3),FALSE)","v":""},"失敗を認める職場",{"$nulls":8},"",null,null,{"v":2.7169811320754715,"d":"2.7"},null,null,{"v":2.716994382022472,"d":"2.7"},{"$nulls":29},{"$f":"VLOOKUP(AY72,重点改善項目!$A:$C,IF(集団レポート!$I$6=\"外航船\",2,3),FALSE)","v":""},"疲労感",{"$nulls":8},"",null,null,{"v":2.7303538074226466,"d":"2.7"},null,null,{"v":2.7649744848426834,"d":"2.8"},{"$nulls":33},"職場の一体感",{"$f":"HLOOKUP($CV72,'80項目＋データ'!$2:$6,CW$34,FALSE)","v":""},{"$f":"HLOOKUP($CV72,'80項目＋データ'!$2:$6,CX$34,FALSE)","v":{"v":2.8407407407407406,"d":"2.8"}},{"$f":"HLOOKUP($CV72,'80項目＋データ'!$2:$6,CY$34,FALSE)","v":{"v":2.535476718403548,"d":"2.5"}},{"$f":"HLOOKUP($CV72,'80項目＋データ'!$2:$6,CZ$34,FALSE)","v":{"v":2.6079943899018234,"d":"2.6"}},{"$nulls":5},"職場の一体感",{"$f":"CW72","v":""},{"$f":"IF($I$6=\"外航船\",CX72,CY72)","v":{"v":2.535476718403548,"d":"2.5"}},{"$f":"CZ72","v":{"v":2.6079943899018234,"d":"2.6"}}]
[{"$nulls":49},{"$f":"VLOOKUP(AY73,重点改善項目!$A:$C,IF(集団レポート!$I$6=\"外航船\",2,3),FALSE)","v":""},"不安感",{"$nulls":8},"",null,null,{"v":2.794938802678983,"d":"2.8"},null,null,{"v":2.809030663563728,"d":"2.8"},{"$nulls":44},{"$f":"$DI$12","v":"集団平均"},{"$f":"$BK$26","v":"内航船平均"},{"$f":"$DG$12","v":"船員平均"}]
[{"$nulls":4},"事業場資源",{"$nulls":44},{"$f":"VLOOKUP(AY74,重点改善項目!$A:$C,IF(集団レポート!$I$6=\"外航船\",2,3),FALSE)","v":""},"抑うつ感",{"$nulls":8},"",null,null,{"v":3.180979619076829,"d":"3.2"},null,null,{"v":3.2216087882457707,"d":"3.2"},{"$nulls":33},"活気",{"$f":"HLOOKUP($CV74,'80項目＋データ'!$2:$6,CW$34,FALSE)","v":""},{"$f":"HLOOKUP($CV74,'80項目＋データ'!$2:$6,CX$34,FALSE)","v":{"v":2.3930348258706466,"d":"2.4"}},{"$f":"HLOOKUP($CV74,'80項目＋データ'!$2:$6,CY$34,FALSE)","v":{"v":2.2605971543170744,"d":"2.3"}},{"$f":"HLOOKUP($CV74,'80項目＋データ'!$2:$6,CZ$34,FALSE)","v":{"v":2.3186057340141892,"d":"2.3"}},{"$nulls":5},"活気",{"$f":"CW74","v":""},{"$f":"IF($I$6=\"外航船\",CX74,CY74)","v":{"v":2.2605971543170744,"d":"2.3"}},{"$f":"CZ74","v":{"v":2.3186057340141892,"d":"2.3"}}]
[{"$nulls":13},"集団\n平均",null,null,{"$f":"$BK$34","v":"内航船\n平均"},null,null,"船員\n平均",{"$nulls":29},{"$f":"VLOOKUP(AY75,重点改善項目!$A:$C,IF(集団レポート!$I$6=\"外航船\",2,3),FALSE)","v":""},"心理的ストレス反応合計",{"$nulls":8},"",null,null,{"v":2.7548287637667275,"d":"2.8"},null,null,{"v":2.7931183849632903,"d":"2.8"},{"$nulls":33},"イライラ感",{"$f":"HLOOKUP($CV75,'80項目＋データ'!$2:$6,CW$34,FALSE)","v":""},{"$f":"HLOOKUP($CV75,'80項目＋データ'!$2:$6,CX$34,FALSE)","v":{"v":2.985074626865672,"d":"3.0"}},{"$f":"HLOOKUP($CV75,'80項目＋データ'!$2:$6,CY$34,FALSE)","v":{"v":2.8072744353381047,"d":"2.8"}},{"$f":"HLOOKUP($CV75,'80項目＋データ'!$2:$6,CZ$34,FALSE)","v":{"v":2.8513722541500788,"d":"2.9"}},{"$nulls":5},"イライラ感","",{"v":2.8072744353381047,"d":"2.8"},{"v":2.8513722541500788,"d":"2.9"}]
[{"$nulls":49},{"$f":"VLOOKUP(AY76,重点改善項目!$A:$C,IF(集団レポート!$I$6=\"外航船\",2,3),FALSE)","v":""},"身体愁訴",{"$nulls":8},"",null,null,{"v":3.191234542242414,"d":"3.2"},null,null,{"v":3.238472253036278,"d":"3.2"},{"$nulls":33},"疲労感",{"$f":"HLOOKUP($CV76,'80項目＋データ'!$2:$6,CW$34,FALSE)","v":""},{"$f":"HLOOKUP($CV76,'80項目＋データ'!$2:$6,CX$34,FALSE)","v":{"v":2.8034360035030836,"d":"2.8"}},{"$f":"HLOOKUP($CV76,'80項目＋データ'!$2:$6,CY$34,FALSE)","v":{"v":2.7303538074226466,"d":"2.7"}},{"$f":"HLOOKUP($CV76,'80項目＋データ'!$2:$6,CZ$34,FALSE)","v":{"v":2.7649744848426834,"d":"2.8"}},{"$nulls":5},"疲労感","",{"v":2.7303538074226466,"d":"2.7"},{"v":2.7649744848426834,"d":"2.8"}]
[{"$nulls":3},{"$f":"VLOOKUP(E77,重点改善項目!$A:$C,IF(集団レポート!$I$6=\"外航船\",2,3),FALSE)","v":""},"経営層との信頼関係",{"$nulls":8},{"$f":"DG63","v":""},null,null,{"$f":"DH63","v":{"v":2.4688195991091315,"d":"2.5"}},null,null,{"$f":"DI63","v":{"v":2.509845288326301,"d":"2.5"}},{"$nulls":79},"不安感",{"$f":"HLOOKUP($CV77,'80項目＋データ'!$2:$6,CW$34,FALSE)","v":""},{"$f":"HLOOKUP($CV77,'80項目＋データ'!$2:$6,CX$34,FALSE)","v":{"v":2.776613188737958,"d":"2.8"}},{"$f":"HLOOKUP($CV77,'80項目＋データ'!$2:$6,CY$34,FALSE)","v":{"v":2.794938802678983,"d":"2.8"}},{"$f":"HLOOKUP($CV77,'80項目＋データ'!$2:$6,CZ$34,FALSE)","v":{"v":2.809030663563728,"d":"2.8"}},{"$nulls":5},"不安感","",{"v":2.794938802678983,"d":"2.8"},{"v":2.809030663563728,"d":"2.8"}]
[{"$nulls":3},{"$f":"VLOOKUP(E78,重点改善項目!$A:$C,IF(集団レポート!$I$6=\"外航船\",2,3),FALSE)","v":""},"変化への対応",{"$nulls":8},{"$f":"DG64","v":""},null,null,{"$f":"DH64","v":{"v":2.3940066592674807,"d":"2.4"}},null,null,{"$f":"DI64","v":{"v":2.3992982456140353,"d":"2.4"}},{"$nulls":79},"抑うつ感",{"$f":"HLOOKUP($CV78,'80項目＋データ'!$2:$6,CW$34,FALSE)","v":""},{"$f":"HLOOKUP($CV78,'80項目＋データ'!$2:$6,CX$34,FALSE)","v":{"v":3.2493781094527363,"d":"3.2"}},{"$f":"HLOOKUP($CV78,'80項目＋データ'!$2:$6,CY$34,FALSE)","v":{"v":3.180979619076829,"d":"3.2"}},{"$f":"HLOOKUP($CV78,'80項目＋データ'!$2:$6,CZ$34,FALSE)","v":{"v":3.2216087882457707,"d":"3.2"}},{"$nulls":5},"抑うつ感","",{"v":3.180979619076829,"d":"3.2"},{"v":3.2216087882457707,"d":"3.2"}]
[{"$nulls":3},{"$f":"VLOOKUP(E79,重点改善項目!$A:$C,IF(集団レポート!$I$6=\"外航船\",2,3),FALSE)","v":"★"},"個人の尊重",{"$nulls":8},"",null,null,{"v":2.2757475083056478,"d":"2.3"},null,null,{"v":2.314165497896213,"d":"2.3"},{"$nulls":30},"職場のハラスメント",{"$nulls":48},"心理的ストレス反応合計",{"$f":"HLOOKUP($CV79,'80項目＋データ'!$2:$6,CW$34,FALSE)","v":""},{"$f":"HLOOKUP($CV79,'80項目＋データ'!$2:$6,CX$34,FALSE)","v":{"v":2.8415073508860194,"d":"2.8"}},{"$f":"HLOOKUP($CV79,'80項目＋データ'!$2:$6,CY$34,FALSE)","v":{"v":2.7548287637667275,"d":"2.8"}},{"$f":"HLOOKUP($CV79,'80項目＋データ'!$2:$6,CZ$34,FALSE)","v":{"v":2.7931183849632903,"d":"2.8"}},{"$nulls":5},"心理的ストレス反応合計","",{"v":2.7548287637667275,"d":"2.8"},{"v":2.7931183849632903,"d":"2.8"}]
[{"$nulls":3},{"$f":"VLOOKUP(E80,重点改善項目!$A:$C,IF(集団レポート!$I$6=\"外航船\",2,3),FALSE)","v":""},"公正な人事評価",{"$nulls":8},"",null,null,{"v":2.147777777777778,"d":"2.1"},null,null,{"v":2.2165963431786215,"d":"2.2"},{"$nulls":39},"集団\n平均",null,null,{"$f":"$BK$34","v":"内航船\n平均"},null,null,"船員\n平均",{"$nulls":33},"身体愁訴",{"$f":"HLOOKUP($CV80,'80項目＋データ'!$2:$6,CW$34,FALSE)","v":""},{"$f":"HLOOKUP($CV80,'80項目＋データ'!$2:$6,CX$34,FALSE)","v":{"v":3.3307327001356852,"d":"3.3"}},{"$f":"HLOOKUP($CV80,'80項目＋データ'!$2:$6,CY$34,FALSE)","v":{"v":3.191234542242414,"d":"3.2"}},{"$f":"HLOOKUP($CV80,'80項目＋データ'!$2:$6,CZ$34,FALSE)","v":{"v":3.238472253036278,"d":"3.2"}},{"$nulls":5},"身体愁訴","",{"v":3.191234542242414,"d":"3.2"},{"v":3.238472253036278,"d":"3.2"}]
[{"$nulls":3},{"$f":"VLOOKUP(E81,重点改善項目!$A:$C,IF(集団レポート!$I$6=\"外航船\",2,3),FALSE)","v":"★"},"多様な労働者への対応",{"$nulls":8},"",null,null,{"v":2.49944382647386,"d":"2.5"},null,null,{"v":2.5693173821252637,"d":"2.6"},{"$nulls":90},{"$f":"$DI$12","v":"集団平均"},{"$f":"$BK$26","v":"内航船平均"},{"$f":"$DG$12","v":"船員平均"}]
[{"$nulls":3},{"$f":"VLOOKUP(E82,重点改善項目!$A:$C,IF(集団レポート!$I$6=\"外航船\",2,3),FALSE)","v":""},"キャリア形成",{"$nulls":8},"",null,null,{"v":2.3233333333333333,"d":"2.3"},null,null,{"v":2.3549295774647887,"d":"2.4"},{"$nulls":29},{"$f":"VLOOKUP(AY82,重点改善項目!$A:$C,IF(集団レポート!$I$6=\"外航船\",2,3),FALSE)","v":""},"職場のハラスメント",{"$nulls":8},{"$f":"DG82","v":""},null,null,{"$f":"DH82","v":{"v":3.4406215316315207,"d":"3.4"}},null,null,{"$f":"DI82","v":{"v":3.493333333333333,"d":"3.5"}},{"$nulls":33},"職場のハラスメント",{"$f":"HLOOKUP($CV82,'80項目＋データ'!$2:$6,CW$34,FALSE)","v":""},{"$f":"HLOOKUP($CV82,'80項目＋データ'!$2:$6,CX$34,FALSE)","v":{"v":3.566666666666667,"d":"3.6"}},{"$f":"HLOOKUP($CV82,'80項目＋データ'!$2:$6,CY$34,FALSE)","v":{"v":3.4406215316315207,"d":"3.4"}},{"$f":"HLOOKUP($CV82,'80項目＋データ'!$2:$6,CZ$34,FALSE)","v":{"v":3.493333333333333,"d":"3.5"}},{"$nulls":5},"職場のハラスメント",{"$f":"CW82","v":""},{"$f":"IF($I$6=\"外航船\",CX82,CY82)","v":{"v":3.4406215316315207,"d":"3.4"}},{"$f":"CZ82","v":{"v":3.493333333333333,"d":"3.5"}}]
[{"$nulls":3},{"$f":"VLOOKUP(E83,重点改善項目!$A:$C,IF(集団レポート!$I$6=\"外航船\",2,3),FALSE)","v":""},"ワーク・セルフ・バランス\n（ポジティブ）",{"$nulls":8},"",null,null,{"v":2.1104910714285716,"d":"2.1"},null,null,{"v":2.1545518701482003,"d":"2.2"},{"$nulls":90},{"$f":"$DI$12","v":"集団平均"},{"$f":"$BK$26","v":"内航船平均"},{"$f":"$DG$12","v":"船員平均"}]
[{"$nulls":99},"仕事満足度",{"$f":"HLOOKUP($CV84,'80項目＋データ'!$2:$6,CW$34,FALSE)","v":""},{"$f":"HLOOKUP($CV84,'80項目＋データ'!$2:$6,CX$34,FALSE)","v":{"v":2.958955223880597,"d":"3.0"}},{"$f":"HLOOKUP($CV84,'80項目＋データ'!$2:$6,CY$34,FALSE)","v":{"v":2.6770255271920087,"d":"2.7"}},{"$f":"HLOOKUP($CV84,'80項目＋データ'!$2:$6,CZ$34,FALSE)","v":{"v":2.768258426966292,"d":"2.8"}},{"$nulls":5},"仕事満足度",{"$f":"CW84","v":""},{"$f":"IF($I$6=\"外航船\",CX84,CY84)","v":{"v":2.6770255271920087,"d":"2.7"}},{"$f":"CZ84","v":{"v":2.768258426966292,"d":"2.8"}}]
[{"$nulls":50},"満足度",{"$nulls":48},"家庭満足度",{"$f":"HLOOKUP($CV85,'80項目＋データ'!$2:$6,CW$34,FALSE)","v":""},{"$f":"HLOOKUP($CV85,'80項目＋データ'!$2:$6,CX$34,FALSE)","v":{"v":2.958955223880597,"d":"3.0"}},{"$f":"HLOOKUP($CV85,'80項目＋データ'!$2:$6,CY$34,FALSE)","v":{"v":3.12,"d":"3.1"}},{"$f":"HLOOKUP($CV85,'80項目＋データ'!$2:$6,CZ$34,FALSE)","v":{"v":3.0709768095572736,"d":"3.1"}},{"$nulls":5},"家庭満足度",{"$f":"CW85","v":""},{"$f":"IF($I$6=\"外航船\",CX85,CY85)","v":{"v":3.12,"d":"3.1"}},{"$f":"CZ85","v":{"v":3.0709768095572736,"d":"3.1"}}]
[{"$nulls":59},"集団\n平均",null,null,{"$f":"$BK$34","v":"内航船\n平均"},null,null,"船員\n平均",{"$nulls":44},{"$f":"$DI$12","v":"集団平均"},{"$f":"$BK$26","v":"内航船平均"},{"$f":"$DG$12","v":"船員平均"}]
[{"$nulls":99},"業務の厳しさ(外航船員)",{"$nulls":9},"業務の厳しさ"]
[{"$nulls":49},{"$f":"VLOOKUP(AY88,重点改善項目!$A:$C,IF(集団レポート!$I$6=\"外航船\",2,3),FALSE)","v":""},"仕事満足度",{"$nulls":8},{"$f":"DG84","v":""},null,null,{"$f":"DH84","v":{"v":2.6770255271920087,"d":"2.7"}},null,null,{"$f":"DI84","v":{"v":2.768258426966292,"d":"2.8"}},{"$nulls":33},"人づきあい(外航船員)",{"$nulls":9},"自分の時間"]
[{"$nulls":49},{"$f":"VLOOKUP(AY89,重点改善項目!$A:$C,IF(集団レポート!$I$6=\"外航船\",2,3),FALSE)","v":""},"家庭満足度",{"$nulls":8},{"$f":"DG85","v":""},null,null,{"$f":"DH85","v":{"v":3.12,"d":"3.1"}},null,null,{"$f":"DI85","v":{"v":3.0709768095572736,"d":"3.1"}},{"$nulls":33},"自分の時間(外航船員)",{"$nulls":9},"人づきあい"]
[]
[{"$nulls":99},"忙しさ",{"$nulls":9},"忙しさ"]
[{"$nulls":99},"業務の危険さ過酷さ",{"$nulls":9},"業務の危険さ過酷さ"]
[{"$nulls":99},"人づきあい",{"$nulls":9},"人づきあい"]
[{"$nulls":95},"外航","内航船",null,"ラベル判定",{"$nulls":11},{"$f":"$DI$12","v":"集団平均"},{"$f":"$BK$26","v":"内航船平均"},{"$f":"$DG$12","v":"船員平均"}]
[{"$nulls":95},"業務の厳しさ","忙しさ",null,{"$f":"IF($I$6=\"内航船\",CS95,CR95)","v":"忙しさ"},{"$nulls":10},"船員1",{"$f":"IF(I6=\"外航船\",CW102,CW105)","v":""},{"$f":"IF($I$6=\"外航船\",CX102,CY105)","v":{"v":2.3444382027525643,"d":"2.3"}},0]
[{"$nulls":95},"自分の時間","業務の危険さ過酷さ",null,{"$f":"IF($I$6=\"内航船\",CS96,CR96)","v":"業務の危険さ過酷さ"},{"$nulls":10},"船員2",{"$f":"IF(I7=\"外航船\",CW103,CW106)","v":""},{"$f":"IF($I$6=\"外航船\",CX103,CY106)","v":{"v":2.336892970828813,"d":"2.3"}},0]
[{"$nulls":95},"人づきあい","人づきあい",null,{"$f":"IF($I$6=\"内航船\",CS97,CR97)","v":"人づきあい"},{"$nulls":10},"船員3",{"$f":"IF(I9=\"外航船\",CW104,CW107)","v":""},{"$f":"IF($I$6=\"外航船\",CX104,CY107)","v":{"v":2.490740952817224,"d":"2.5"}},0]
[]
[]
[{"$nulls":98},"業務の厳しさ(外航船員)","人づきあい(外航船員)","自分の時間(外航船員)","忙しさ(内航船員)","過酷な環境(内航船員)","人づきあい(内航船員)"]
[]
[{"$nulls":99},"業務の厳しさ(外航船員)",{"$f":"HLOOKUP($CV102,'80項目＋データ'!$2:$6,CW$34,FALSE)","v":""},{"$f":"HLOOKUP($CV102,'80項目＋データ'!$2:$6,CX$34,FALSE)","v":{"v":1.859253859348199,"d":"1.9"}},{"$f":"HLOOKUP($CV102,'80項目＋データ'!$2:$6,CY$34,FALSE)","v":""},{"$f":"HLOOKUP($CV102,'80項目＋データ'!$2:$6,CZ$34,FALSE)","v":""}]
[{"$nulls":99},"人づきあい(外航船員)",{"$f":"HLOOKUP($CV103,'80項目＋データ'!$2:$6,CW$34,FALSE)","v":""},{"$f":"HLOOKUP($CV103,'80項目＋データ'!$2:$6,CX$34,FALSE)","v":{"v":2.516981132075472,"d":"2.5"}},{"$f":"HLOOKUP($CV103,'80項目＋データ'!$2:$6,CY$34,FALSE)","v":""},{"$f":"HLOOKUP($CV103,'80項目＋データ'!$2:$6,CZ$34,FALSE)","v":""}]
[{"$nulls":99},"自分の時間(外航船員)",{"$f":"HLOOKUP($CV104,'80項目＋データ'!$2:$6,CW$34,FALSE)","v":""},{"$f":"HLOOKUP($CV104,'80項目＋データ'!$2:$6,CX$34,FALSE)","v":{"v":2.3663283781208304,"d":"2.4"}},{"$f":"HLOOKUP($CV104,'80項目＋データ'!$2:$6,CY$34,FALSE)","v":""},{"$f":"HLOOKUP($CV104,'80項目＋データ'!$2:$6,CZ$34,FALSE)","v":""}]
[{"$nulls":99},"忙しさ(内航船員)",{"$f":"HLOOKUP($CV105,'80項目＋データ'!$2:$6,CW$34,FALSE)","v":""},{"$f":"HLOOKUP($CV105,'80項目＋データ'!$2:$6,CX$34,FALSE)","v":""},{"$f":"HLOOKUP($CV105,'80項目＋データ'!$2:$6,CY$34,FALSE)","v":{"v":2.3444382027525643,"d":"2.3"}},{"$f":"HLOOKUP($CV105,'80項目＋データ'!$2:$6,CZ$34,FALSE)","v":""}]
[{"$nulls":99},"過酷な環境(内航船員)",{"$f":"HLOOKUP($CV106,'80項目＋データ'!$2:$6,CW$34,FALSE)","v":""},{"$f":"HLOOKUP($CV106,'80項目＋データ'!$2:$6,CX$34,FALSE)","v":""},{"$f":"HLOOKUP($CV106,'80項目＋データ'!$2:$6,CY$34,FALSE)","v":{"v":2.336892970828813,"d":"2.3"}},{"$f":"HLOOKUP($CV106,'80項目＋データ'!$2:$6,CZ$34,FALSE)","v":""}]
[{"$nulls":99},"人づきあい(内航船員)",{"$f":"HLOOKUP($CV107,'80項目＋データ'!$2:$6,CW$34,FALSE)","v":""},{"$f":"HLOOKUP($CV107,'80項目＋データ'!$2:$6,CX$34,FALSE)","v":""},{"$f":"HLOOKUP($CV107,'80項目＋データ'!$2:$6,CY$34,FALSE)","v":{"v":2.490740952817224,"d":"2.5"}},{"$f":"HLOOKUP($CV107,'80項目＋データ'!$2:$6,CZ$34,FALSE)","v":""}]

{"sheet":"80項目＋データ","index":7,"n_rows":6,"n_cols":50,"rows_kept":6,"hidden":true}
["回答不備→",null,"=\"\""]
[null,"仕事の量的負担","仕事の質的負担","身体的負担度","職場での対人関係","職場環境","情緒的負担","役割葛藤","ワーク・セルフ・バランス（ネガティブ）","仕事のコントロール","仕事の適性","技能の活用","仕事の意義","役割明確さ","成長の機会","上司のサポート","同僚のサポート","家族友人のサポート","経済・地位報酬","尊重報酬","安定報酬","上司のリーダー\nシップ","上司の公正な態度","ほめてもらえる職場","失敗を認める職場","経営層との信頼関係","変化への対応","個人の尊重","公正な人事評価","多様な労働者への対応","キャリア形成","ワーク・セルフ・バランス（ポジティブ）","ワーク・エンゲイジメント","職場の一体感","活気","イライラ感","疲労感","不安感","抑うつ感","心理的ストレス反応合計","身体愁訴","職場のハラスメント","仕事満足度","家庭満足度","業務の厳しさ(外航船員)","人づきあい(外航船員)","自分の時間(外航船員)","忙しさ(内航船員)","過酷な環境(内航船員)","人づきあい(内航船員)"]
["本集団",{"$f":"IFERROR('80項目計算'!A15,\"\")","v":""},{"$f":"IFERROR('80項目計算'!B15,\"\")","v":""},{"$f":"IFERROR('80項目計算'!C15,\"\")","v":""},{"$f":"IFERROR('80項目計算'!D15,\"\")","v":""},{"$f":"IFERROR('80項目計算'!E15,\"\")","v":""},{"$f":"IFERROR('80項目計算'!F15,\"\")","v":""},{"$f":"IFERROR('80項目計算'!G15,\"\")","v":""},{"$f":"IFERROR('80項目計算'!H15,\"\")","v":""},{"$f":"IFERROR('80項目計算'!I15,\"\")","v":""},{"$f":"IFERROR('80項目計算'!J15,\"\")","v":""},{"$f":"IFERROR('80項目計算'!K15,\"\")","v":""},{"$f":"IFERROR('80項目計算'!L15,\"\")","v":""},{"$f":"IFERROR('80項目計算'!M15,\"\")","v":""},{"$f":"IFERROR('80項目計算'!N15,\"\")","v":""},{"$f":"IFERROR('80項目計算'!O15,\"\")","v":""},{"$f":"IFERROR('80項目計算'!P15,\"\")","v":""},{"$f":"IFERROR('80項目計算'!Q15,\"\")","v":""},{"$f":"IFERROR('80項目計算'!R15,\"\")","v":""},{"$f":"IFERROR('80項目計算'!S15,\"\")","v":""},{"$f":"IFERROR('80項目計算'!T15,\"\")","v":""},{"$f":"IFERROR('80項目計算'!U15,\"\")","v":""},{"$f":"IFERROR('80項目計算'!V15,\"\")","v":""},{"$f":"IFERROR('80項目計算'!W15,\"\")","v":""},{"$f":"IFERROR('80項目計算'!X15,\"\")","v":""},{"$f":"IFERROR('80項目計算'!Y15,\"\")","v":""},{"$f":"IFERROR('80項目計算'!Z15,\"\")","v":""},{"$f":"IFERROR('80項目計算'!AA15,\"\")","v":""},{"$f":"IFERROR('80項目計算'!AB15,\"\")","v":""},{"$f":"IFERROR('80項目計算'!AC15,\"\")","v":""},{"$f":"IFERROR('80項目計算'!AD15,\"\")","v":""},{"$f":"IFERROR('80項目計算'!AE15,\"\")","v":""},{"$f":"IFERROR('80項目計算'!AF15,\"\")","v":""},{"$f":"IFERROR('80項目計算'!AG15,\"\")","v":""},{"$f":"IFERROR('80項目計算'!AH15,\"\")","v":""},{"$f":"IFERROR('80項目計算'!AI15,\"\")","v":""},{"$f":"IFERROR('80項目計算'!AJ15,\"\")","v":""},{"$f":"IFERROR('80項目計算'!AK15,\"\")","v":""},{"$f":"IFERROR('80項目計算'!AL15,\"\")","v":""},{"$f":"IFERROR('80項目計算'!AM15,\"\")","v":""},{"$f":"IFERROR('80項目計算'!AN15,\"\")","v":""},{"$f":"IFERROR('80項目計算'!AO15,\"\")","v":""},{"$f":"IFERROR('80項目計算'!AP15,\"\")","v":""},{"$f":"IFERROR('80項目計算'!AQ15,\"\")","v":""},{"$f":"IFERROR('80項目計算'!AR15,\"\")","v":""},{"$f":"IFERROR('80項目計算'!AS15,\"\")","v":""},{"$f":"IFERROR('80項目計算'!AT15,\"\")","v":""},{"$f":"IFERROR('80項目計算'!AU15,\"\")","v":""},{"$f":"IFERROR('80項目計算'!AV15,\"\")","v":""},{"$f":"IFERROR('80項目計算'!AW15,\"\")","v":""}]
["外航船員",{"v":1.877777777777778,"d":"1.9"},{"v":1.6326173757400522,"d":"1.6"},{"v":1.962962962962963,"d":"2.0"},{"v":3.0174583505438526,"d":"3.0"},{"v":2.214814814814815,"d":"2.2"},{"v":2.343283582089552,"d":"2.3"},{"v":2.376865671641791,"d":"2.4"},{"v":2.566666666666667,"d":"2.6"},{"v":2.8074074074074074,"d":"2.8"},3.1,{"v":3.3605947955390336,"d":"3.4"},{"v":3.2703703703703706,"d":"3.3"},{"v":3.5373134328358207,"d":"3.5"},{"v":3.0559701492537314,"d":"3.1"},{"v":2.6309836584865933,"d":"2.6"},{"v":2.800995024875622,"d":"2.8"},{"v":3.111940298507463,"d":"3.1"},{"v":2.77037037037037,"d":"2.8"},{"v":2.8544776119402986,"d":"2.9"},{"v":3.0555555555555554,"d":"3.1"},{"v":2.785185185185185,"d":"2.8"},{"v":2.9516728624535316,"d":"3.0"},{"v":2.685185185185185,"d":"2.7"},{"v":2.6555555555555554,"d":"2.7"},{"v":2.714814814814815,"d":"2.7"},{"v":2.4814814814814814,"d":"2.5"},{"v":2.4925925925925925,"d":"2.5"},{"v":2.345724907063197,"d":"2.3"},{"v":2.7695167286245352,"d":"2.8"},{"v":2.54275092936803,"d":"2.5"},{"v":2.311111111111111,"d":"2.3"},{"v":2.8314814814814815,"d":"2.8"},{"v":2.8407407407407406,"d":"2.8"},{"v":2.3930348258706466,"d":"2.4"},{"v":2.985074626865672,"d":"3.0"},{"v":2.8034360035030836,"d":"2.8"},{"v":2.776613188737958,"d":"2.8"},{"v":3.2493781094527363,"d":"3.2"},{"v":2.8415073508860194,"d":"2.8"},{"v":3.3307327001356852,"d":"3.3"},{"v":3.566666666666667,"d":"3.6"},{"v":2.958955223880597,"d":"3.0"},{"v":2.958955223880597,"d":"3.0"},{"v":1.859253859348199,"d":"1.9"},{"v":2.516981132075472,"d":"2.5"},{"v":2.3663283781208304,"d":"2.4"},{"$f":"\"\"","v":""},{"$f":"\"\"","v":""},{"$f":"\"\"","v":""}]
["内航船員",{"v":2.14962983833756,"d":"2.1"},{"v":1.9508056835308538,"d":"2.0"},{"v":2.146961325966851,"d":"2.1"},{"v":2.8739158801483433,"d":"2.9"},{"v":2.466740576496674,"d":"2.5"},{"v":2.3702882483370287,"d":"2.4"},{"v":2.409090909090909,"d":"2.4"},{"v":2.692563817980022,"d":"2.7"},{"v":2.4948803843041047,"d":"2.5"},{"v":2.8598233995584987,"d":"2.9"},{"v":3.019911504424779,"d":"3.0"},{"v":2.881767955801105,"d":"2.9"},{"v":3.359288097886541,"d":"3.4"},{"v":2.7192008879023306,"d":"2.7"},{"v":2.529557395583932,"d":"2.5"},{"v":2.6551818783068786,"d":"2.7"},{"v":3.183019044422231,"d":"3.2"},{"v":2.762486126526082,"d":"2.8"},{"v":2.755011135857461,"d":"2.8"},{"v":3.1265260821309657,"d":"3.1"},{"v":2.680044593088071,"d":"2.7"},{"v":2.7645089285714284,"d":"2.8"},{"v":2.719063545150502,"d":"2.7"},{"v":2.7169811320754715,"d":"2.7"},{"v":2.4688195991091315,"d":"2.5"},{"v":2.3940066592674807,"d":"2.4"},{"v":2.2757475083056478,"d":"2.3"},{"v":2.147777777777778,"d":"2.1"},{"v":2.49944382647386,"d":"2.5"},{"v":2.3233333333333333,"d":"2.3"},{"v":2.1104910714285716,"d":"2.1"},{"v":2.4988901220865705,"d":"2.5"},{"v":2.535476718403548,"d":"2.5"},{"v":2.2605971543170744,"d":"2.3"},{"v":2.8072744353381047,"d":"2.8"},{"v":2.7303538074226466,"d":"2.7"},{"v":2.794938802678983,"d":"2.8"},{"v":3.180979619076829,"d":"3.2"},{"v":2.7548287637667275,"d":"2.8"},{"v":3.191234542242414,"d":"3.2"},{"v":3.4406215316315207,"d":"3.4"},{"v":2.6770255271920087,"d":"2.7"},{"v":3.12,"d":"3.1"},{"$f":"\"\"","v":""},{"$f":"\"\"","v":""},{"$f":"\"\"","v":""},{"v":2.3444382027525643,"d":"2.3"},{"v":2.336892970828813,"d":"2.3"},{"v":2.490740952817224,"d":"2.5"}]
["全船員",{"v":2.0845642167856178,"d":"2.1"},{"v":1.884482345213722,"d":"1.9"},{"v":2.0965034965034963,"d":"2.1"},{"v":2.91319586885716,"d":"2.9"},{"v":2.4109396914446,"d":"2.4"},{"v":2.3684210526315788,"d":"2.4"},{"v":2.400701754385965,"d":"2.4"},{"v":2.6718200983836966,"d":"2.7"},{"v":2.5680902195827238,"d":"2.6"},{"v":2.919636617749825,"d":"2.9"},{"v":3.1212333566923616,"d":"3.1"},{"v":2.979020979020979,"d":"3.0"},{"v":3.4036568213783402,"d":"3.4"},{"v":2.807584269662921,"d":"2.8"},{"v":2.5756600133971497,"d":"2.6"},{"v":2.6981354318064157,"d":"2.7"},{"v":3.165075768898179,"d":"3.2"},{"v":2.7775438596491226,"d":"2.8"},{"v":2.809725158562368,"d":"2.8"},{"v":3.119298245614035,"d":"3.1"},{"v":2.712676056338028,"d":"2.7"},{"v":2.8363892806770097,"d":"2.8"},{"v":2.7204225352112674,"d":"2.7"},{"v":2.716994382022472,"d":"2.7"},{"v":2.509845288326301,"d":"2.5"},{"v":2.3992982456140353,"d":"2.4"},{"v":2.314165497896213,"d":"2.3"},{"v":2.2165963431786215,"d":"2.2"},{"v":2.5693173821252637,"d":"2.6"},{"v":2.3549295774647887,"d":"2.4"},{"v":2.1545518701482003,"d":"2.2"},{"v":2.5880701754385966,"d":"2.6"},{"v":2.6079943899018234,"d":"2.6"},{"v":2.3186057340141892,"d":"2.3"},{"v":2.8513722541500788,"d":"2.9"},{"v":2.7649744848426834,"d":"2.8"},{"v":2.809030663563728,"d":"2.8"},{"v":3.2216087882457707,"d":"3.2"},{"v":2.7931183849632903,"d":"2.8"},{"v":3.238472253036278,"d":"3.2"},{"v":3.493333333333333,"d":"3.5"},{"v":2.768258426966292,"d":"2.8"},{"v":3.0709768095572736,"d":"3.1"},{"$f":"\"\"","v":""},{"$f":"\"\"","v":""},{"$f":"\"\"","v":""},{"$f":"\"\"","v":""},{"$f":"\"\"","v":""},{"$f":"\"\"","v":""}]

{"sheet":"80項目計算","index":8,"n_rows":18,"n_cols":100,"rows_kept":18,"hidden":true}
["9-1","9-2","9-3","9-4","9-5","9-6","9-7","9-8","9-9","9-10","9-11","9-12","9-13","9-14","9-15","9-16","9-17","10-1","10-2","10-3","10-4","10-5","10-6","10-7","10-8","10-9","10-10","10-11","10-12","10-13","10-14","10-15","10-16","10-17","10-18","10-19","10-20","10-21","10-22","10-23","10-24","10-25","10-26","10-27","10-28","10-29","11-1","11-2","11-3","11-4","11-5","11-6","11-7","11-8","11-9","12-1","12-2","13-1","13-2","13-3","13-4","14-1","14-2","14-3","14-4","14-5","14-6","14-7","15-1","15-2","15-3","15-4","15-5","15-6","15-7","15-8","16-1","16-2","16-3","16-4","17外-1","17外-2","17外-3","17外-4","17外-5","17外-6","17外-7","17外-8","17外-9","17外-10","17内-1","17内-2","17内-3","17内-4","17内-5","17内-6","17内-7","17内-8","17内-9","17内-10"]
[{"$f":"AVERAGE(生データ!P12:P13)","v":{"$error":"#DIV/0!"}},{"$f":"AVERAGE(生データ!Q12:Q13)","v":{"$error":"#DIV/0!"}},{"$f":"AVERAGE(生データ!R12:R13)","v":{"$error":"#DIV/0!"}},{"$f":"AVERAGE(生データ!S12:S13)","v":{"$error":"#DIV/0!"}},{"$f":"AVERAGE(生データ!T12:T13)","v":{"$error":"#DIV/0!"}},{"$f":"AVERAGE(生データ!U12:U13)","v":{"$error":"#DIV/0!"}},{"$f":"AVERAGE(生データ!V12:V13)","v":{"$error":"#DIV/0!"}},{"$f":"AVERAGE(生データ!W12:W13)","v":{"$error":"#DIV/0!"}},{"$f":"AVERAGE(生データ!X12:X13)","v":{"$error":"#DIV/0!"}},{"$f":"AVERAGE(生データ!Y12:Y13)","v":{"$error":"#DIV/0!"}},{"$f":"AVERAGE(生データ!Z12:Z13)","v":{"$error":"#DIV/0!"}},{"$f":"AVERAGE(生データ!AA12:AA13)","v":{"$error":"#DIV/0!"}},{"$f":"AVERAGE(生データ!AB12:AB13)","v":{"$error":"#DIV/0!"}},{"$f":"AVERAGE(生データ!AC12:AC13)","v":{"$error":"#DIV/0!"}},{"$f":"AVERAGE(生データ!AD12:AD13)","v":{"$error":"#DIV/0!"}},{"$f":"AVERAGE(生データ!AE12:AE13)","v":{"$error":"#DIV/0!"}},{"$f":"AVERAGE(生データ!AF12:AF13)","v":{"$error":"#DIV/0!"}},{"$f":"AVERAGE(生データ!AG12:AG13)","v":{"$error":"#DIV/0!"}},{"$f":"AVERAGE(生データ!AH12:AH13)","v":{"$error":"#DIV/0!"}},{"$f":"AVERAGE(生データ!AI12:AI13)","v":{"$error":"#DIV/0!"}},{"$f":"AVERAGE(生データ!AJ12:AJ13)","v":{"$error":"#DIV/0!"}},{"$f":"AVERAGE(生データ!AK12:AK13)","v":{"$error":"#DIV/0!"}},{"$f":"AVERAGE(生データ!AL12:AL13)","v":{"$error":"#DIV/0!"}},{"$f":"AVERAGE(生データ!AM12:AM13)","v":{"$error":"#DIV/0!"}},{"$f":"AVERAGE(生データ!AN12:AN13)","v":{"$error":"#DIV/0!"}},{"$f":"AVERAGE(生データ!AO12:AO13)","v":{"$error":"#DIV/0!"}},{"$f":"AVERAGE(生データ!AP12:AP13)","v":{"$error":"#DIV/0!"}},{"$f":"AVERAGE(生データ!AQ12:AQ13)","v":{"$error":"#DIV/0!"}},{"$f":"AVERAGE(生データ!AR12:AR13)","v":{"$error":"#DIV/0!"}},{"$f":"AVERAGE(生データ!AS12:AS13)","v":{"$error":"#DIV/0!"}},{"$f":"AVERAGE(生データ!AT12:AT13)","v":{"$error":"#DIV/0!"}},{"$f":"AVERAGE(生データ!AU12:AU13)","v":{"$error":"#DIV/0!"}},{"$f":"AVERAGE(生データ!AV12:AV13)","v":{"$error":"#DIV/0!"}},{"$f":"AVERAGE(生データ!AW12:AW13)","v":{"$error":"#DIV/0!"}},{"$f":"AVERAGE(生データ!AX12:AX13)","v":{"$error":"#DIV/0!"}},{"$f":"AVERAGE(生データ!AY12:AY13)","v":{"$error":"#DIV/0!"}},{"$f":"AVERAGE(生データ!AZ12:AZ13)","v":{"$error":"#DIV/0!"}},{"$f":"AVERAGE(生データ!BA12:BA13)","v":{"$error":"#DIV/0!"}},{"$f":"AVERAGE(生データ!BB12:BB13)","v":{"$error":"#DIV/0!"}},{"$f":"AVERAGE(生データ!BC12:BC13)","v":{"$error":"#DIV/0!"}},{"$f":"AVERAGE(生データ!BD12:BD13)","v":{"$error":"#DIV/0!"}},{"$f":"AVERAGE(生データ!BE12:BE13)","v":{"$error":"#DIV/0!"}},{"$f":"AVERAGE(生データ!BF12:BF13)","v":{"$error":"#DIV/0!"}},{"$f":"AVERAGE(生データ!BG12:BG13)","v":{"$error":"#DIV/0!"}},{"$f":"AVERAGE(生データ!BH12:BH13)","v":{"$error":"#DIV/0!"}},{"$f":"AVERAGE(生データ!BI12:BI13)","v":{"$error":"#DIV/0!"}},{"$f":"AVERAGE(生データ!BJ12:BJ13)","v":{"$error":"#DIV/0!"}},{"$f":"AVERAGE(生データ!BK12:BK13)","v":{"$error":"#DIV/0!"}},{"$f":"AVERAGE(生データ!BL12:BL13)","v":{"$error":"#DIV/0!"}},{"$f":"AVERAGE(生データ!BM12:BM13)","v":{"$error":"#DIV/0!"}},{"$f":"AVERAGE(生データ!BN12:BN13)","v":{"$error":"#DIV/0!"}},{"$f":"AVERAGE(生データ!BO12:BO13)","v":{"$error":"#DIV/0!"}},{"$f":"AVERAGE(生データ!BP12:BP13)","v":{"$error":"#DIV/0!"}},{"$f":"AVERAGE(生データ!BQ12:BQ13)","v":{"$error":"#DIV/0!"}},{"$f":"AVERAGE(生データ!BR12:BR13)","v":{"$error":"#DIV/0!"}},{"$f":"AVERAGE(生データ!BS12:BS13)","v":{"$error":"#DIV/0!"}},{"$f":"AVERAGE(生データ!BT12:BT13)","v":{"$error":"#DIV/0!"}},{"$f":"AVERAGE(生データ!BU12:BU13)","v":{"$error":"#DIV/0!"}},{"$f":"AVERAGE(生データ!BV12:BV13)","v":{"$error":"#DIV/0!"}},{"$f":"AVERAGE(生データ!BW12:BW13)","v":{"$error":"#DIV/0!"}},{"$f":"AVERAGE(生データ!BX12:BX13)","v":{"$error":"#DIV/0!"}},{"$f":"AVERAGE(生データ!BY12:BY13)","v":{"$error":"#DIV/0!"}},{"$f":"AVERAGE(生データ!BZ12:BZ13)","v":{"$error":"#DIV/0!"}},{"$f":"AVERAGE(生データ!CA12:CA13)","v":{"$error":"#DIV/0!"}},{"$f":"AVERAGE(生データ!CB12:CB13)","v":{"$error":"#DIV/0!"}},{"$f":"AVERAGE(生データ!CC12:CC13)","v":{"$error":"#DIV/0!"}},{"$f":"AVERAGE(生データ!CD12:CD13)","v":{"$error":"#DIV/0!"}},{"$f":"AVERAGE(生データ!CE12:CE13)","v":{"$error":"#DIV/0!"}},{"$f":"AVERAGE(生データ!CF12:CF13)","v":{"$error":"#DIV/0!"}},{"$f":"AVERAGE(生データ!CG12:CG13)","v":{"$error":"#DIV/0!"}},{"$f":"AVERAGE(生データ!CH12:CH13)","v":{"$error":"#DIV/0!"}},{"$f":"AVERAGE(生データ!CI12:CI13)","v":{"$error":"#DIV/0!"}},{"$f":"AVERAGE(生データ!CJ12:CJ13)","v":{"$error":"#DIV/0!"}},{"$f":"AVERAGE(生データ!CK12:CK13)","v":{"$error":"#DIV/0!"}},{"$f":"AVERAGE(生データ!CL12:CL13)","v":{"$error":"#DIV/0!"}},{"$f":"AVERAGE(生データ!CM12:CM13)","v":{"$error":"#DIV/0!"}},{"$f":"AVERAGE(生データ!CN12:CN13)","v":{"$error":"#DIV/0!"}},{"$f":"AVERAGE(生データ!CO12:CO13)","v":{"$error":"#DIV/0!"}},{"$f":"AVERAGE(生データ!CP12:CP13)","v":{"$error":"#DIV/0!"}},{"$f":"AVERAGE(生データ!CQ12:CQ13)","v":{"$error":"#DIV/0!"}},{"$f":"AVERAGE(生データ!CR12:CR13)","v":{"$error":"#DIV/0!"}},{"$f":"AVERAGE(生データ!CS12:CS13)","v":{"$error":"#DIV/0!"}},{"$f":"AVERAGE(生データ!CT12:CT13)","v":{"$error":"#DIV/0!"}},{"$f":"AVERAGE(生データ!CU12:CU13)","v":{"$error":"#DIV/0!"}},{"$f":"AVERAGE(生データ!CV12:CV13)","v":{"$error":"#DIV/0!"}},{"$f":"AVERAGE(生データ!CW12:CW13)","v":{"$error":"#DIV/0!"}},{"$f":"AVERAGE(生データ!CX12:CX13)","v":{"$error":"#DIV/0!"}},{"$f":"AVERAGE(生データ!CY12:CY13)","v":{"$error":"#DIV/0!"}},{"$f":"AVERAGE(生データ!CZ12:CZ13)","v":{"$error":"#DIV/0!"}},{"$f":"AVERAGE(生データ!DA12:DA13)","v":{"$error":"#DIV/0!"}},{"$f":"AVERAGE(生データ!DB12:DB13)","v":{"$error":"#DIV/0!"}},{"$f":"AVERAGE(生データ!DC12:DC13)","v":{"$error":"#DIV/0!"}},{"$f":"AVERAGE(生データ!DD12:DD13)","v":{"$error":"#DIV/0!"}},{"$f":"AVERAGE(生データ!DE12:DE13)","v":{"$error":"#DIV/0!"}},{"$f":"AVERAGE(生データ!DF12:DF13)","v":{"$error":"#DIV/0!"}},{"$f":"AVERAGE(生データ!DG12:DG13)","v":{"$error":"#DIV/0!"}},{"$f":"AVERAGE(生データ!DH12:DH13)","v":{"$error":"#DIV/0!"}},{"$f":"AVERAGE(生データ!DI12:DI13)","v":{"$error":"#DIV/0!"}},{"$f":"AVERAGE(生データ!DJ12:DJ13)","v":{"$error":"#DIV/0!"}},{"$f":"AVERAGE(生データ!DK12:DK13)","v":{"$error":"#DIV/0!"}}]
["悪側1 良側4"]
[1,1,1,1,1,1,1,4,4,4,1,1,1,4,1,4,4,1,1,1,4,4,4,4,4,4,4,4,4,4,4,4,4,4,4,4,4,4,4,4,4,4,4,4,4,4,4,4,4,4,4,4,4,4,4,4,4,1,1,4,4,4,4,1,4,4,4,4,4,4,4,4,4,4,1,4,1,4,4,4,1,1,1,1,1,1,1,1,1,1,1,1,1,1,1,1,1,1,1,1]
["オフセット"]
[{"$f":"IF(A4=1,0,5)","v":0},{"$f":"IF(B4=1,0,5)","v":0},0,0,0,0,0,5,5,5,0,0,0,5,0,5,5,0,0,0,5,5,5,5,5,5,5,5,5,5,5,5,5,5,5,5,5,5,5,5,5,5,5,5,5,5,5,5,5,5,5,5,5,5,5,5,5,0,0,5,5,5,5,0,5,{"$f":"IF(BN4=1,0,5)","v":5},5,5,5,5,5,5,5,5,0,5,0,5,5,5,0,0,0,0,0,0,0,0,0,0,0,0,0,0,0,0,0,0,0,0]
["反転"]
[{"$f":"IF(A4=1,1,-1)","v":1},{"$f":"IF(B4=1,1,-1)","v":1},1,1,1,1,1,-1,-1,-1,1,1,1,-1,1,-1,-1,1,1,1,-1,-1,-1,-1,-1,-1,-1,-1,-1,-1,-1,-1,-1,-1,-1,-1,-1,-1,-1,-1,-1,-1,-1,-1,-1,-1,-1,-1,-1,-1,-1,-1,-1,-1,-1,-1,-1,1,1,-1,-1,-1,-1,1,-1,{"$f":"IF(BN4=1,1,-1)","v":-1},-1,-1,-1,-1,-1,-1,-1,-1,1,-1,1,-1,-1,-1,1,1,1,1,1,1,1,1,1,1,1,1,1,1,1,1,1,1,1,1]
["調整後"]
[{"$f":"A2*A8+A6","v":{"$error":"#DIV/0!"}},{"$f":"B2*B8+B6","v":{"$error":"#DIV/0!"}},{"$error":"#DIV/0!"},{"$error":"#DIV/0!"},{"$error":"#DIV/0!"},{"$error":"#DIV/0!"},{"$error":"#DIV/0!"},{"$error":"#DIV/0!"},{"$error":"#DIV/0!"},{"$error":"#DIV/0!"},{"$error":"#DIV/0!"},{"$error":"#DIV/0!"},{"$error":"#DIV/0!"},{"$error":"#DIV/0!"},{"$error":"#DIV/0!"},{"$error":"#DIV/0!"},{"$error":"#DIV/0!"},{"$error":"#DIV/0!"},{"$error":"#DIV/0!"},{"$error":"#DIV/0!"},{"$error":"#DIV/0!"},{"$error":"#DIV/0!"},{"$error":"#DIV/0!"},{"$error":"#DIV/0!"},{"$error":"#DIV/0!"},{"$error":"#DIV/0!"},{"$error":"#DIV/0!"},{"$error":"#DIV/0!"},{"$error":"#DIV/0!"},{"$error":"#DIV/0!"},{"$error":"#DIV/0!"},{"$error":"#DIV/0!"},{"$error":"#DIV/0!"},{"$error":"#DIV/0!"},{"$error":"#DIV/0!"},{"$error":"#DIV/0!"},{"$error":"#DIV/0!"},{"$error":"#DIV/0!"},{"$error":"#DIV/0!"},{"$error":"#DIV/0!"},{"$error":"#DIV/0!"},{"$error":"#DIV/0!"},{"$error":"#DIV/0!"},{"$error":"#DIV/0!"},{"$error":"#DIV/0!"},{"$error":"#DIV/0!"},{"$error":"#DIV/0!"},{"$error":"#DIV/0!"},{"$error":"#DIV/0!"},{"$error":"#DIV/0!"},{"$error":"#DIV/0!"},{"$error":"#DIV/0!"},{"$error":"#DIV/0!"},{"$error":"#DIV/0!"},{"$error":"#DIV/0!"},{"$error":"#DIV/0!"},{"$error":"#DIV/0!"},{"$error":"#DIV/0!"},{"$error":"#DIV/0!"},{"$error":"#DIV/0!"},{"$error":"#DIV/0!"},{"$error":"#DIV/0!"},{"$error":"#DIV/0!"},{"$error":"#DIV/0!"},{"$error":"#DIV/0!"},{"$f":"BN2*BN8+BN6","v":{"$error":"#DIV/0!"}},{"$error":"#DIV/0!"},{"$error":"#DIV/0!"},{"$error":"#DIV/0!"},{"$error":"#DIV/0!"},{"$error":"#DIV/0!"},{"$error":"#DIV/0!"},{"$error":"#DIV/0!"},{"$error":"#DIV/0!"},{"$error":"#DIV/0!"},{"$error":"#DIV/0!"},{"$error":"#DIV/0!"},{"$error":"#DIV/0!"},{"$error":"#DIV/0!"},{"$error":"#DIV/0!"},{"$error":"#DIV/0!"},{"$error":"#DIV/0!"},{"$error":"#DIV/0!"},{"$error":"#DIV/0!"},{"$error":"#DIV/0!"},{"$error":"#DIV/0!"},{"$error":"#DIV/0!"},{"$error":"#DIV/0!"},{"$error":"#DIV/0!"},{"$error":"#DIV/0!"},{"$error":"#DIV/0!"},{"$error":"#DIV/0!"},{"$error":"#DIV/0!"},{"$error":"#DIV/0!"},{"$error":"#DIV/0!"},{"$error":"#DIV/0!"},{"$error":"#DIV/0!"},{"$error":"#DIV/0!"},{"$error":"#DIV/0!"},{"$error":"#DIV/0!"}]
[]
["仕事の量的負担","仕事の量的負担","仕事の量的負担","仕事の質的負担","仕事の質的負担","仕事の質的負担","身体的負担度","仕事のコントロール","仕事のコントロール","仕事のコントロール","技能の活用","職場での対人関係","職場での対人関係","職場での対人関係","職場環境","仕事の適正","仕事の意義","活気","活気","活気","イライラ感","イライラ感","イライラ感","疲労感","疲労感","疲労感","不安感","不安感","不安感","抑うつ感","抑うつ感","抑うつ感","抑うつ感","抑うつ感","抑うつ感","身体愁訴","身体愁訴","身体愁訴","身体愁訴","身体愁訴","身体愁訴","身体愁訴","身体愁訴","身体愁訴","身体愁訴","身体愁訴","上司のサポート","同僚のサポート","家族友人のサポート","上司のサポート","同僚のサポート","家族友人のサポート","上司のサポート","同僚のサポート","家族友人のサポート","仕事満足度","家庭満足度","情緒的負担","役割葛藤","役割明確さ","成長の機会","経済・地位報酬","尊重報酬","安定報酬","上司のリーダーシップ","上司の公正な態度","ほめてもらえる職場","失敗を認める職場","経営層との信頼関係","変化への対応","個人の尊重","公正な人事評価","多様な労働者への対応","キャリア形成","ワーク・セルフ・バランス（ネガティブ）","ワーク・セルフ・バランス（ポジティブ）","職場のハラスメント","職場の一体感","ワーク・エンゲイジメント","ワーク・エンゲイジメント","業務の厳しさ(外航船員)","人づきあい(外航船員)","業務の厳しさ(外航船員)","業務の厳しさ(外航船員)","人づきあい(外航船員)","業務の厳しさ(外航船員)","自分の時間(外航船員)","業務の厳しさ(外航船員)","自分の時間(外航船員)","自分の時間(外航船員)","忙しさ(内航船員)","人づきあい(内航船員)","過酷な環境(内航船員)","忙しさ(内航船員)","人づきあい(内航船員)","忙しさ(内航船員)","過酷な環境(内航船員)","過酷な環境(内航船員)","忙しさ(内航船員)","忙しさ(内航船員)"]
[]
["仕事の量的負担","仕事の質的負担","身体的負担度","職場での対人関係","職場環境","情緒的負担","役割葛藤","ワーク・セルフ・バランス（ネガティブ）","仕事のコントロール","仕事の適正","技能の活用","仕事の意義","役割明確さ","成長の機会","上司のサポート","同僚のサポート","家族友人のサポート","経済・地位報酬","尊重報酬","安定報酬","上司のリーダーシップ","上司の公正な態度","ほめてもらえる職場","失敗を認める職場","経営層との信頼関係","変化への対応","個人の尊重","公正な人事評価","多様な労働者への対応","キャリア形成","ワーク・セルフ・バランス（ポジティブ）","ワーク・エンゲイジメント","職場の一体感","活気","イライラ感","疲労感","不安感","抑うつ感","心理的ストレス反応合計","身体愁訴","職場のハラスメント","仕事満足度","家庭満足度","業務の厳しさ(外航船員)","人づきあい(外航船員)","自分の時間(外航船員)","忙しさ(内航船員)","過酷な環境(内航船員)","人づきあい(内航船員)"]
[{"$f":"AVERAGEIF($A$12:$CV$12,A14,$A$10:$CV$10)","v":{"$error":"#DIV/0!"}},{"$f":"AVERAGEIF($A$12:$CV$12,B14,$A$10:$CV$10)","v":{"$error":"#DIV/0!"}},{"$error":"#DIV/0!"},{"$error":"#DIV/0!"},{"$error":"#DIV/0!"},{"$error":"#DIV/0!"},{"$error":"#DIV/0!"},{"$error":"#DIV/0!"},{"$error":"#DIV/0!"},{"$error":"#DIV/0!"},{"$error":"#DIV/0!"},{"$error":"#DIV/0!"},{"$error":"#DIV/0!"},{"$error":"#DIV/0!"},{"$error":"#DIV/0!"},{"$error":"#DIV/0!"},{"$error":"#DIV/0!"},{"$error":"#DIV/0!"},{"$error":"#DIV/0!"},{"$error":"#DIV/0!"},{"$error":"#DIV/0!"},{"$error":"#DIV/0!"},{"$error":"#DIV/0!"},{"$error":"#DIV/0!"},{"$error":"#DIV/0!"},{"$error":"#DIV/0!"},{"$error":"#DIV/0!"},{"$error":"#DIV/0!"},{"$error":"#DIV/0!"},{"$error":"#DIV/0!"},{"$error":"#DIV/0!"},{"$error":"#DIV/0!"},{"$error":"#DIV/0!"},{"$error":"#DIV/0!"},{"$error":"#DIV/0!"},{"$error":"#DIV/0!"},{"$error":"#DIV/0!"},{"$error":"#DIV/0!"},{"$f":"AVERAGE(AH15:AL15)","v":{"$error":"#DIV/0!"}},{"$error":"#DIV/0!"},{"$error":"#DIV/0!"},{"$error":"#DIV/0!"},{"$error":"#DIV/0!"},{"$error":"#DIV/0!"},{"$error":"#DIV/0!"},{"$error":"#DIV/0!"},{"$error":"#DIV/0!"},{"$error":"#DIV/0!"},{"$error":"#DIV/0!"}]
[]
["仕事の量的負担","仕事の質的負担","身体的負担度","職場での対人関係","職場環境","情緒的負担","役割葛藤","ワーク・セルフ・バランス（ネガティブ）","仕事のコントロール","仕事の適性","技能の活用","仕事の意義","役割明確さ","成長の機会","上司のサポート","同僚のサポート","家族友人のサポート","経済・地位報酬","尊重報酬","安定報酬","上司のリーダー\nシップ","上司の公正な態度","ほめてもらえる職場","失敗を認める職場","経営層との信頼関係","変化への対応","個人の尊重","公正な人事評価","多様な労働者への対応","キャリア形成","ワーク・セルフ・バランス（ポジティブ）","ワーク・エンゲイジメント","職場の一体感","活気","イライラ感","疲労感","不安感","抑うつ感","心理的ストレス反応合計","身体愁訴","職場のハラスメント","仕事満足度","家庭満足度"]
[{"$f":"A17=A14","v":true},{"$f":"B17=B14","v":true},true,true,true,true,true,true,true,false,true,true,true,true,true,true,true,true,true,true,false,true,true,true,true,true,true,true,true,true,true,true,true,true,true,true,true,true,true,true,true,true,true]

{"sheet":"項目表","index":9,"n_rows":14,"n_cols":4,"rows_kept":14,"hidden":true}
["全体人数",{"$f":"生データ!D8","v":0},{"$f":"B1<10","v":true},"←10名未満フラグ"]
["男性人数",{"$f":"COUNTIF(分析データ一覧!H:H,\"男性\")","v":0}]
["女性人数",{"$f":"COUNTIF(分析データ一覧!H:H,\"女性\")","v":0}]
["不明",{"$f":"B1-B2-B3","v":0}]
["高ストレス者数",{"$f":"COUNTIF(分析データ一覧!Q:Q,\"高ストレス\")","v":0}]
["高ストレス割合",{"$f":"B5/B1","v":{"$error":"#DIV/0!"}}]
["外航船 / 内航船",{"$f":"生データ!G2","v":"内航船"}]
["レポート作成日",{"$f":"IF(生データ!G3<>\"\",TEXT(生データ!G3,\"YYYY年MM月DD日\"),\"----年--月--日\")","v":"2020年04月22日"}]
["実施開始日",{"$f":"IF(生データ!G4<>\"\",TEXT(生データ!G4,\"YYYY年MM月DD日\"),\"----年--月--日\")","v":"2020年02月01日"}]
["実施終了日",{"$f":"IF(生データ!G5<>\"\",TEXT(生データ!G5,\"YYYY年MM月DD日\"),\"----年--月--日\")","v":"2020年02月20日"}]
["集団名",{"$f":"IF(生データ!G6<>\"\",生データ!G6,\"\")","v":"株式会社○○商船"}]
["実施期間",{"$f":"B9&\" 〜 \"&B10","v":"2020年02月01日 〜 2020年02月20日"}]
["レポートファイル名",{"$f":"\"レポート_\"&IF(B11<>\"\", B11,\"不明\")&\"_\"&B8&\".pdf\"","v":"レポート_株式会社○○商船_2020年04月22日.pdf"}]
["高ストレス判定データ",{"$f":"\"高ストレス者分析データ_\"&IF(B11<>\"\", B11,\"不明\")&\"_\"&B8&\".xlsx\"","v":"高ストレス者分析データ_株式会社○○商船_2020年04月22日.xlsx"}]

{"sheet":"重点改善項目","index":10,"n_rows":49,"n_cols":4,"rows_kept":49,"hidden":true}
[null,"外航船","内航船"]
["仕事の量的負担","★",""]
["仕事の質的負担","",""]
["身体的負担度","",""]
["職場での対人関係","",""]
["職場環境","",""]
["情緒的負担","","★"]
["役割葛藤","★","★"]
["ワーク・セルフ・バランス\n（ネガティブ）","",""]
["仕事のコントロール","","★"]
["仕事の適性","",""]
["技能の活用","",""]
["仕事の意義","",""]
["役割明確さ","",""]
["成長の機会","",""]
["上司のサポート","","★"]
["同僚のサポート","",""]
["家族友人のサポート","","★"]
["経済・地位報酬","",""]
["尊重報酬","",""]
["安定報酬","",""]
["上司のリーダー\nシップ","",""]
["上司の公正な態度","",""]
["ほめてもらえる職場","",""]
["失敗を認める職場","",""]
["経営層との信頼関係","",""]
["変化への対応","★",""]
["個人の尊重","","★"]
["公正な人事評価","",""]
["多様な労働者への対応","","★"]
["キャリア形成","",""]
["ワーク・セルフ・バランス\n（ポジティブ）","",""]
["ワーク・エンゲイジメント","",""]
["職場の一体感","",""]
["活気","",""]
["イライラ感","",""]
["疲労感","",""]
["不安感","",""]
["抑うつ感","",""]
["身体愁訴","",""]
["職場のハラスメント","",""]
["仕事満足度","",""]
["家庭満足度","",""]
["忙しさ","",""]
["業務の危険さ過酷さ","",""]
["人づきあい","★","★","内航船外航船共通項目名"]
["業務の厳しさ","",""]
["自分の時間","★",""]
["心理的ストレス反応合計","",""]